BEGIN:VCALENDAR
VERSION:2.0
PRODID:-//https://olvestonparishhall.co.uk//NONSGML kigkonsult.se iCalcreat
 or 2.29.29//
CALSCALE:GREGORIAN
METHOD:PUBLISH
UID:ec00cff0-144b-412f-83d9-1d8017ccfef6
X-WR-CALNAME:JCal Pro Calendar
X-WR-CALDESC:Your online events calendar
X-WR-TIMEZONE:Europe/London
BEGIN:VTIMEZONE
TZID:Europe/London
BEGIN:STANDARD
TZNAME:GMT
DTSTART:20251026T020000
TZOFFSETFROM:+0100
TZOFFSETTO:+0000
RDATE:20261025T020000
END:STANDARD
BEGIN:DAYLIGHT
TZNAME:BST
DTSTART:20260329T010000
TZOFFSETFROM:+0000
TZOFFSETTO:+0100
RDATE:20270328T010000
END:DAYLIGHT
END:VTIMEZONE
BEGIN:VEVENT
UID:20250105T093000GMT-8412MvlHoV@https://www.olvestonparishhall.co.uk/
DTSTAMP:20260422T124808Z
CATEGORIES:Childrens Party - special 3 hour rate
DTSTART;TZID=Europe/London:20250105T093000
DTEND;TZID=Europe/London:20250105T123000
SUMMARY:Private event
URL:https://olvestonparishhall.co.uk/index.php/public-events/42-childrens-p
 arty/19744-private-event
END:VEVENT
END:VCALENDAR
