BEGIN:VCALENDAR
VERSION:2.0
PRODID:-//https://olvestonparishhall.co.uk//NONSGML kigkonsult.se iCalcreat
 or 2.29.29//
CALSCALE:GREGORIAN
METHOD:PUBLISH
UID:23b492d2-96c7-4608-8eb1-7feb6ac6f906
X-WR-CALNAME:JCal Pro Calendar
X-WR-CALDESC:Your online events calendar
X-WR-TIMEZONE:Europe/London
BEGIN:VTIMEZONE
TZID:Europe/London
BEGIN:STANDARD
TZNAME:GMT
DTSTART:20251026T020000
TZOFFSETFROM:+0100
TZOFFSETTO:+0000
RDATE:20261025T020000
END:STANDARD
BEGIN:DAYLIGHT
TZNAME:BST
DTSTART:20260329T010000
TZOFFSETFROM:+0000
TZOFFSETTO:+0100
RDATE:20270328T010000
END:DAYLIGHT
END:VTIMEZONE
BEGIN:VEVENT
UID:20250112T140000GMT-04943i8orr@https://www.olvestonparishhall.co.uk/
DTSTAMP:20260419T180942Z
CATEGORIES:Private Event
DTSTART;TZID=Europe/London:20260111T130000
DTEND;TZID=Europe/London:20260111T183000
RRULE:FREQ=MONTHLY;COUNT=2;INTERVAL=1
SUMMARY:Parish Players Sunday rehearsal
URL:https://olvestonparishhall.co.uk/index.php/public-events/35-private-eve
 nt/20341-parish-players
END:VEVENT
END:VCALENDAR
