BEGIN:VCALENDAR
VERSION:2.0
PRODID:-//https://olvestonparishhall.co.uk//NONSGML kigkonsult.se iCalcreat
 or 2.29.29//
CALSCALE:GREGORIAN
METHOD:PUBLISH
UID:8490f097-ad30-4a76-b3bc-b6cdc30877da
X-WR-CALNAME:JCal Pro Calendar
X-WR-CALDESC:Your online events calendar
X-WR-TIMEZONE:Europe/London
BEGIN:VTIMEZONE
TZID:Europe/London
BEGIN:STANDARD
TZNAME:GMT
DTSTART:20251026T020000
TZOFFSETFROM:+0100
TZOFFSETTO:+0000
RDATE:20261025T020000
END:STANDARD
BEGIN:DAYLIGHT
TZNAME:BST
DTSTART:20260329T010000
TZOFFSETFROM:+0000
TZOFFSETTO:+0100
RDATE:20270328T010000
END:DAYLIGHT
END:VTIMEZONE
BEGIN:VEVENT
UID:20150507T101500UTC-e8ca80@http://www.olvestonparishhall.co.uk/
DTSTAMP:20260420T052915Z
CATEGORIES:Public Event
DESCRIPTION:<p>General\, District and Parish Elections</p>\n<p>7am-10pm</p>
DTSTART;TZID=Europe/London:20150507T000000
DTEND;TZID=Europe/London:20150507T235959
SUMMARY:General Election
URL:https://olvestonparishhall.co.uk/index.php/add-new-event/34-public-even
 t/1551-general-election
X-ALT-DESC;FMTTYPE=TEXT/HTML:<p>General\, District and Parish Elections</p>
 \n<p>7am-10pm</p>
END:VEVENT
BEGIN:VEVENT
UID:20190502T060000UTC-65bd40@http://www.olvestonparishhall.co.uk/
DTSTAMP:20260420T052915Z
CATEGORIES:Public Event
DESCRIPTION:<p>Election</p>
DTSTART;TZID=Europe/London:20190502T000000
DTEND;TZID=Europe/London:20190502T235959
SUMMARY:Election Polling Station
URL:https://olvestonparishhall.co.uk/index.php/add-new-event/34-public-even
 t/7553-election-polling-station
X-ALT-DESC;FMTTYPE=TEXT/HTML:<p>Election</p>
END:VEVENT
BEGIN:VEVENT
UID:20190523T160000UTC-879517@http://www.olvestonparishhall.co.uk/
DTSTAMP:20260420T052915Z
CATEGORIES:Public Event
DESCRIPTION:<p>Polling station</p>
DTSTART;TZID=Europe/London:20190523T000000
DTEND;TZID=Europe/London:20190523T235959
SUMMARY:European Election Polling Station
URL:https://olvestonparishhall.co.uk/index.php/add-new-event/34-public-even
 t/8066-european-election-polling-station
X-ALT-DESC;FMTTYPE=TEXT/HTML:<p>Polling station</p>
END:VEVENT
BEGIN:VEVENT
UID:20200507T090000UTC-005ddf@http://www.olvestonparishhall.co.uk/
DTSTAMP:20260420T052915Z
CATEGORIES:Public Event
DESCRIPTION:<p>Polling Station - Local Election</p>
DTSTART;TZID=Europe/London:20200507T000000
DTEND;TZID=Europe/London:20200507T235959
SUMMARY:Polling Station - Local Election
URL:https://olvestonparishhall.co.uk/index.php/add-new-event/34-public-even
 t/9628-polling-station-local-election
X-ALT-DESC;FMTTYPE=TEXT/HTML:<p>Polling Station - Local Election</p>
END:VEVENT
BEGIN:VEVENT
UID:20210506T200000UTC-b461e0@https://olvestonparishhall.co.uk/
DTSTAMP:20260420T052915Z
CATEGORIES:Public Event
DESCRIPTION:<p>Polling Station</p>
DTSTART;TZID=Europe/London:20210506T000000
DTEND;TZID=Europe/London:20210506T235959
SUMMARY:Polling Station - Local Election
URL:https://olvestonparishhall.co.uk/index.php/add-new-event/34-public-even
 t/10725-polling-station-local-election
X-ALT-DESC;FMTTYPE=TEXT/HTML:<p>Polling Station</p>
END:VEVENT
BEGIN:VEVENT
UID:20210517T200000UTC-204e0a@https://olvestonparishhall.co.uk/
DTSTAMP:20260420T052915Z
CATEGORIES:Public Event
DESCRIPTION:<p>We are taking bookings from 17th May 2021</p>
DTSTART;TZID=Europe/London:20210517T000000
DTEND;TZID=Europe/London:20210517T235959
SUMMARY:Parish Hall Reopens
URL:https://olvestonparishhall.co.uk/index.php/add-new-event/34-public-even
 t/10726-parish-hall-reopens
X-ALT-DESC;FMTTYPE=TEXT/HTML:<p>We are taking bookings from 17th May 2021</
 p>
END:VEVENT
BEGIN:VEVENT
UID:20210730T130000UTC-f4a792@https://olvestonparishhall.co.uk/
DTSTAMP:20260420T052915Z
CATEGORIES:Private Event
DESCRIPTION:<p>Private event</p>
DTSTART;TZID=Europe/London:20210730T000000
DTEND;TZID=Europe/London:20210730T235959
SUMMARY:Private Event
URL:https://olvestonparishhall.co.uk/index.php/add-new-event/35-private-eve
 nt/12026-private-event
X-ALT-DESC;FMTTYPE=TEXT/HTML:<p>Private event</p>
END:VEVENT
BEGIN:VEVENT
UID:20250106T093000GMT-1475umvJHa@https://olvestonparishhall.co.uk/
DTSTAMP:20260420T052915Z
CATEGORIES:Private Event
DTSTART;TZID=Europe/London:20250106T093000
DTEND;TZID=Europe/London:20250106T110000
RRULE:FREQ=WEEKLY;UNTIL=20251229T000000Z;INTERVAL=1;BYDAY=MO
SUMMARY:Table Tennis - KP
URL:https://olvestonparishhall.co.uk/index.php/add-new-event/35-private-eve
 nt/19628-table-tennis-kp
END:VEVENT
BEGIN:VEVENT
UID:20250113T170000GMT-83898LTeOD@https://olvestonparishhall.co.uk/
DTSTAMP:20260420T052915Z
CATEGORIES:Private Event
DTSTART;TZID=Europe/London:20250113T170000
DTEND;TZID=Europe/London:20250113T180000
RRULE:FREQ=WEEKLY;UNTIL=20251222T000000Z;INTERVAL=1;BYDAY=MO
SUMMARY:Pilates - SA
URL:https://olvestonparishhall.co.uk/index.php/add-new-event/35-private-eve
 nt/20047-pilates-sa
END:VEVENT
BEGIN:VEVENT
UID:20250106T181900GMT-13832bUFv6@https://www.olvestonparishhall.co.uk/
DTSTAMP:20260420T052915Z
CATEGORIES:Private Event
DESCRIPTION:<p>Private Pilates group for Berkeley and District Riding Club 
 with instructor Lucy Loquette</p>
DTSTART;TZID=Europe/London:20250113T180000
DTEND;TZID=Europe/London:20250113T190000
RRULE:FREQ=WEEKLY;UNTIL=20251230T000000Z;INTERVAL=1;BYDAY=MO
SUMMARY:Pilates - BDRC
URL:https://olvestonparishhall.co.uk/index.php/add-new-event/35-private-eve
 nt/19441-pilates
X-ALT-DESC;FMTTYPE=TEXT/HTML:<p>Private Pilates group for Berkeley and Dist
 rict Riding Club with instructor Lucy Loquette</p>
END:VEVENT
BEGIN:VEVENT
UID:20250901T191500BST-7441xejUAZ@https://www.olvestonparishhall.co.uk/
DTSTAMP:20260420T052915Z
CATEGORIES:Private Event
DESCRIPTION:<p>Please can I clarify a couple of dates for Panto rehearsals 
 We would like to book 01/09 from 19.15 - 22.00 We do not need the hall 07/
 09 so please cancel 13.00 - 18.00 We would like to book 28/09 from 14.00 -
  17.00 &nbsp\; Please confirm by text or email Many thanks Judy Sutton 079
 74786108 <span id='cloak52bd93a8270f67319d36fca48cb6adb3'>This email addre
 ss is being protected from spambots. You need JavaScript enabled to view i
 t.</span><script type='text/javascript'>\n				document.getElementById('cloak52
 bd93a8270f67319d36fca48cb6adb3').innerHTML = ''\;\n				var prefix = '&#109\;a'
  + 'i&#108\;' + '&#116\;o'\;\n				var path = 'hr' + 'ef' + '='\;\n				var addy52bd
 93a8270f67319d36fca48cb6adb3 = 'j&#97\;ndms&#117\;tt&#111\;n' + '&#64\;'\;
 \n				addy52bd93a8270f67319d36fca48cb6adb3 = addy52bd93a8270f67319d36fca48cb6a
 db3 + '&#97\;&#111\;l' + '&#46\;' + 'c&#111\;m'\;\n				var addy_text52bd93a827
 0f67319d36fca48cb6adb3 = 'j&#97\;ndms&#117\;tt&#111\;n' + '&#64\;' + '&#97
 \;&#111\;l' + '&#46\;' + 'c&#111\;m'\;document.getElementById('cloak52bd93
 a8270f67319d36fca48cb6adb3').innerHTML += '<a ' + path + '\'' + prefix + '
 :' + addy52bd93a8270f67319d36fca48cb6adb3 + '\'>'+addy_text52bd93a8270f673
 19d36fca48cb6adb3+'<\/a>'\;\n		</script></p>
DTSTART;TZID=Europe/London:20250901T191500
DTEND;TZID=Europe/London:20250901T220000
SUMMARY:Almondsbury Pantomime Rehearsal
URL:https://olvestonparishhall.co.uk/index.php/add-new-event/35-private-eve
 nt/20626-almondsbury-panto-rehearsal
X-ALT-DESC;FMTTYPE=TEXT/HTML:<p>Please can I clarify a couple of dates for 
 Panto rehearsals We would like to book 01/09 from 19.15 - 22.00 We do not 
 need the hall 07/09 so please cancel 13.00 - 18.00 We would like to book 2
 8/09 from 14.00 - 17.00 &nbsp\; Please confirm by text or email Many thank
 s Judy Sutton 07974786108 <span id='cloak52bd93a8270f67319d36fca48cb6adb3'
 >This email address is being protected from spambots. You need JavaScript 
 enabled to view it.</span><script type='text/javascript'>\n				document.getEle
 mentById('cloak52bd93a8270f67319d36fca48cb6adb3').innerHTML = ''\;\n				var pr
 efix = '&#109\;a' + 'i&#108\;' + '&#116\;o'\;\n				var path = 'hr' + 'ef' + '=
 '\;\n				var addy52bd93a8270f67319d36fca48cb6adb3 = 'j&#97\;ndms&#117\;tt&#111
 \;n' + '&#64\;'\;\n				addy52bd93a8270f67319d36fca48cb6adb3 = addy52bd93a8270f
 67319d36fca48cb6adb3 + '&#97\;&#111\;l' + '&#46\;' + 'c&#111\;m'\;\n				var ad
 dy_text52bd93a8270f67319d36fca48cb6adb3 = 'j&#97\;ndms&#117\;tt&#111\;n' +
  '&#64\;' + '&#97\;&#111\;l' + '&#46\;' + 'c&#111\;m'\;document.getElement
 ById('cloak52bd93a8270f67319d36fca48cb6adb3').innerHTML += '<a ' + path + 
 '\'' + prefix + ':' + addy52bd93a8270f67319d36fca48cb6adb3 + '\'>'+addy_te
 xt52bd93a8270f67319d36fca48cb6adb3+'<\/a>'\;\n		</script></p>
END:VEVENT
BEGIN:VEVENT
UID:20250603T090000BST-6480Zuj3k3@https://www.olvestonparishhall.co.uk/
DTSTAMP:20260420T052915Z
CATEGORIES:Private Event
DESCRIPTION:<p>A public class where we train and make local residence fit. 
 A continuation of the bootcamp that came before it with Lucy! &nbsp\; tria
 l members welcome&nbsp\;</p>
DTSTART;TZID=Europe/London:20250603T090000
DTEND;TZID=Europe/London:20250603T100000
RRULE:FREQ=WEEKLY;UNTIL=20251222T000000Z;INTERVAL=1;BYDAY=TU
SUMMARY:Bootcamp21
URL:https://olvestonparishhall.co.uk/index.php/add-new-event/35-private-eve
 nt/20483-bootcamp21
X-ALT-DESC;FMTTYPE=TEXT/HTML:<p>A public class where we train and make loca
 l residence fit. A continuation of the bootcamp that came before it with L
 ucy! &nbsp\; trial members welcome&nbsp\;</p>
END:VEVENT
BEGIN:VEVENT
UID:20250107T110000GMT-0031VmZ8d1@https://olvestonparishhall.co.uk/
DTSTAMP:20260420T052915Z
CATEGORIES:Private Event
DTSTART;TZID=Europe/London:20250107T110000
DTEND;TZID=Europe/London:20250107T120000
RRULE:FREQ=WEEKLY;UNTIL=20251217T000000Z;INTERVAL=1;BYDAY=TU
SUMMARY:Zumba Gold
URL:https://olvestonparishhall.co.uk/index.php/add-new-event/35-private-eve
 nt/19477-zumba-gold
END:VEVENT
BEGIN:VEVENT
UID:20250115T100000GMT-9705VgkWpm@https://olvestonparishhall.co.uk/
DTSTAMP:20260420T052915Z
CATEGORIES:Private Event
DTSTART;TZID=Europe/London:20250115T100000
DTEND;TZID=Europe/London:20250115T110000
RRULE:FREQ=WEEKLY;UNTIL=20251231T000000Z;INTERVAL=1;BYDAY=WE
SUMMARY:Private Event - SR
URL:https://olvestonparishhall.co.uk/index.php/add-new-event/35-private-eve
 nt/19862-private-event-sr
END:VEVENT
BEGIN:VEVENT
UID:20250101T190000GMT-7442sfj3eF@https://olvestonparishhall.co.uk/
DTSTAMP:20260420T052915Z
CATEGORIES:Private Event
DTSTART;TZID=Europe/London:20250101T190000
DTEND;TZID=Europe/London:20250101T203000
RRULE:FREQ=WEEKLY;UNTIL=20251224T000000Z;INTERVAL=1;BYDAY=WE
SUMMARY:Table Tennis - JT
URL:https://olvestonparishhall.co.uk/index.php/add-new-event/35-private-eve
 nt/19576-table-tennis-jt
END:VEVENT
BEGIN:VEVENT
UID:20250102T070000GMT-3444C4tvFz@https://olvestonparishhall.co.uk/
DTSTAMP:20260420T052915Z
CATEGORIES:Private Event
DTSTART;TZID=Europe/London:20250102T070000
DTEND;TZID=Europe/London:20250102T080000
RRULE:FREQ=WEEKLY;UNTIL=20251218T000000Z;INTERVAL=1;BYDAY=TH
SUMMARY:Pilates - IB
URL:https://olvestonparishhall.co.uk/index.php/add-new-event/35-private-eve
 nt/19913-pilates-fl
END:VEVENT
BEGIN:VEVENT
UID:20240620T120000BST-2526tWduwU@https://www.olvestonparishhall.co.uk/
DTSTAMP:20260420T052915Z
CATEGORIES:Private Event
DTSTART;TZID=Europe/London:20240620T120000
DTEND;TZID=Europe/London:20240620T143000
RRULE:FREQ=WEEKLY;UNTIL=20251218T000000Z;INTERVAL=1;BYDAY=TH
SUMMARY:Hall maintenance & cleaning
URL:https://olvestonparishhall.co.uk/index.php/add-new-event/35-private-eve
 nt/18996-hall-maintenance-cleaning
END:VEVENT
BEGIN:VEVENT
UID:20250109T180000GMT-1190UxbLIp@https://olvestonparishhall.co.uk/
DTSTAMP:20260420T052915Z
CATEGORIES:Private Event
DTSTART;TZID=Europe/London:20250109T180000
DTEND;TZID=Europe/London:20250109T190000
RRULE:FREQ=WEEKLY;UNTIL=20251211T000000Z;INTERVAL=1;BYDAY=TH
SUMMARY:Yoga with Stacey
URL:https://olvestonparishhall.co.uk/index.php/add-new-event/35-private-eve
 nt/19527-yoga-with-stacey
END:VEVENT
BEGIN:VEVENT
UID:20250906T110000BST-1693pmJp1e@https://www.olvestonparishhall.co.uk/
DTSTAMP:20260420T052915Z
CATEGORIES:Private Event
DTSTART;TZID=Europe/London:20250906T110000
DTEND;TZID=Europe/London:20250906T190000
SUMMARY:Private Event
URL:https://olvestonparishhall.co.uk/index.php/add-new-event/35-private-eve
 nt/20200-private-event
END:VEVENT
BEGIN:VEVENT
UID:20250114T140000GMT-5842Vt2kSo@https://olvestonparishhall.co.uk/
DTSTAMP:20260420T052915Z
CATEGORIES:Private Event
DTSTART;TZID=Europe/London:20250114T140000
DTEND;TZID=Europe/London:20250114T150000
RRULE:FREQ=MONTHLY;UNTIL=20251209T000000Z;INTERVAL=1;BYDAY=TU;BYSETPOS=2
SUMMARY:Private Event - RW
URL:https://olvestonparishhall.co.uk/index.php/add-new-event/35-private-eve
 nt/19731-private-event-rw
END:VEVENT
BEGIN:VEVENT
UID:20250114T190000GMT-6472w7duLU@https://olvestonparishhall.co.uk/
DTSTAMP:20260420T052915Z
CATEGORIES:Private Event
DTSTART;TZID=Europe/London:20250114T190000
DTEND;TZID=Europe/London:20250114T213000
RRULE:FREQ=MONTHLY;COUNT=12;INTERVAL=1;BYDAY=TU;BYSETPOS=2
SUMMARY:W.I.
URL:https://olvestonparishhall.co.uk/index.php/add-new-event/35-private-eve
 nt/19465-w-i
END:VEVENT
BEGIN:VEVENT
UID:20250910T120000BST-0468ebP3Vo@https://www.olvestonparishhall.co.uk/
DTSTAMP:20260420T052915Z
CATEGORIES:Private Event
DESCRIPTION:<p>Hi I would love to run a weekly childrens class in the centr
 e with use of the kitchen if possible.&nbsp\; I am looking at wednedays or
  thursdays for a few hours each time.&nbsp\; Classes have a maximum of 14 
 children in them for my younger class 2-12s and 10 for my 11-17s&nbsp\; &n
 bsp\; I am hoping to also offer 1:1 send sessions in the hall if timings w
 ork&nbsp\; I have seen you do have some space on wednesdays \, I am not su
 re on your hire fees but I am really interested to become a regular hire i
 n term times. &nbsp\;</p>
DTSTART;TZID=Europe/London:20250910T120000
DTEND;TZID=Europe/London:20250910T150000
RRULE:FREQ=WEEKLY;UNTIL=20251021T230000Z;INTERVAL=1;BYDAY=WE
SUMMARY:Cookstars
URL:https://olvestonparishhall.co.uk/index.php/add-new-event/35-private-eve
 nt/20518-new-childrens-class
X-ALT-DESC;FMTTYPE=TEXT/HTML:<p>Hi I would love to run a weekly childrens c
 lass in the centre with use of the kitchen if possible.&nbsp\; I am lookin
 g at wednedays or thursdays for a few hours each time.&nbsp\; Classes have
  a maximum of 14 children in them for my younger class 2-12s and 10 for my
  11-17s&nbsp\; &nbsp\; I am hoping to also offer 1:1 send sessions in the 
 hall if timings work&nbsp\; I have seen you do have some space on wednesda
 ys \, I am not sure on your hire fees but I am really interested to become
  a regular hire in term times. &nbsp\;</p>
END:VEVENT
BEGIN:VEVENT
UID:20250915T193000BST-81529G4aHo@https://www.olvestonparishhall.co.uk/
DTSTAMP:20260420T052915Z
CATEGORIES:Private Event
DTSTART;TZID=Europe/London:20250911T193000
DTEND;TZID=Europe/London:20250911T220000
RRULE:FREQ=WEEKLY;UNTIL=20260212T000000Z;INTERVAL=1;BYDAY=TH
SUMMARY:Parish Players Rehearsal
URL:https://olvestonparishhall.co.uk/index.php/add-new-event/35-private-eve
 nt/20254-parish-players-rehearsal-2
END:VEVENT
BEGIN:VEVENT
UID:20250502T100000BST-4476JmHlnm@https://olvestonparishhall.co.uk/
DTSTAMP:20260420T052915Z
CATEGORIES:Private Event
DTSTART;TZID=Europe/London:20250502T100000
DTEND;TZID=Europe/London:20250502T110000
RRULE:FREQ=WEEKLY;UNTIL=20251219T000000Z;INTERVAL=1;BYDAY=FR
SUMMARY:Mind Body Pilates
URL:https://olvestonparishhall.co.uk/index.php/add-new-event/35-private-eve
 nt/20411-mind-body-pilates
END:VEVENT
BEGIN:VEVENT
UID:20250912T113000BST-1313EGwczE@https://olvestonparishhall.co.uk/
DTSTAMP:20260420T052915Z
CATEGORIES:Private Event
DTSTART;TZID=Europe/London:20250912T113000
DTEND;TZID=Europe/London:20250912T160000
SUMMARY:Private Event
URL:https://olvestonparishhall.co.uk/index.php/add-new-event/35-private-eve
 nt/20221-private-event
END:VEVENT
BEGIN:VEVENT
UID:20250913T090000BST-6559hHhoHK@https://www.olvestonparishhall.co.uk/
DTSTAMP:20260420T052915Z
CATEGORIES:Childrens Party - special 3 hour rate
DESCRIPTION:<p>Children's party</p>
DTSTART;TZID=Europe/London:20250913T090000
DTEND;TZID=Europe/London:20250913T120000
SUMMARY:Private event
URL:https://olvestonparishhall.co.uk/index.php/add-new-event/42-childrens-p
 arty/20451-private-event
X-ALT-DESC;FMTTYPE=TEXT/HTML:<p>Children's party</p>
END:VEVENT
BEGIN:VEVENT
UID:20250111T140000GMT-87670dKubx@https://olvestonparishhall.co.uk/
DTSTAMP:20260420T052915Z
CATEGORIES:Private Event
DTSTART;TZID=Europe/London:20250111T140000
DTEND;TZID=Europe/London:20250111T160000
RRULE:FREQ=MONTHLY;UNTIL=20251213T000000Z;INTERVAL=1;BYDAY=SA;BYSETPOS=2
SUMMARY:Severnside Squares
URL:https://olvestonparishhall.co.uk/index.php/add-new-event/35-private-eve
 nt/18712-severnside-squares
END:VEVENT
BEGIN:VEVENT
UID:20250918T100000BST-9171ASEJgH@https://www.olvestonparishhall.co.uk/
DTSTAMP:20260420T052915Z
CATEGORIES:Private Event
DTSTART;TZID=Europe/London:20250918T100000
DTEND;TZID=Europe/London:20250918T120000
SUMMARY:Parish Players Scenery Team
URL:https://olvestonparishhall.co.uk/index.php/add-new-event/35-private-eve
 nt/20747-parish-players-scenery-team
END:VEVENT
BEGIN:VEVENT
UID:20250117T141500GMT-0026DvnzF8@https://olvestonparishhall.co.uk/
DTSTAMP:20260420T052915Z
CATEGORIES:Private Event
DTSTART;TZID=Europe/London:20250117T131500
DTEND;TZID=Europe/London:20250117T161500
RRULE:FREQ=MONTHLY;UNTIL=20251219T000000Z;INTERVAL=1;BYDAY=FR;BYSETPOS=3
SUMMARY:U3A Cinema Club
URL:https://olvestonparishhall.co.uk/index.php/add-new-event/35-private-eve
 nt/19985-u3a-cinema-club
END:VEVENT
BEGIN:VEVENT
UID:20250920T090000BST-5262AKwvfX@https://www.olvestonparishhall.co.uk/
DTSTAMP:20260420T052915Z
CATEGORIES:Public Event
DTSTART;TZID=Europe/London:20250920T090000
DTEND;TZID=Europe/London:20250920T120000
SUMMARY:Defibrillator Training OPC
URL:https://olvestonparishhall.co.uk/index.php/add-new-event/34-public-even
 t/20460-defibrillator-training-opc
END:VEVENT
BEGIN:VEVENT
UID:20250920T180000BST-9811rvndGl@https://olvestonparishhall.co.uk/
DTSTAMP:20260420T052915Z
CATEGORIES:Private Event
DTSTART;TZID=Europe/London:20250920T170000
DTEND;TZID=Europe/London:20250921T000000
SUMMARY:Private Event
URL:https://olvestonparishhall.co.uk/index.php/add-new-event/35-private-eve
 nt/20512-private-event
END:VEVENT
BEGIN:VEVENT
UID:20250924T120000BST-3991O4izPh@https://olvestonparishhall.co.uk/
DTSTAMP:20260420T052915Z
CATEGORIES:Private Event
DTSTART;TZID=Europe/London:20250924T120000
DTEND;TZID=Europe/London:20250924T150000
SUMMARY:Cookstars
URL:https://olvestonparishhall.co.uk/index.php/add-new-event/35-private-eve
 nt/20617-cookstars
END:VEVENT
BEGIN:VEVENT
UID:20250925T120000BST-4378cELlTu@https://www.olvestonparishhall.co.uk/
DTSTAMP:20260420T052915Z
CATEGORIES:Private Event
DTSTART;TZID=Europe/London:20250925T120000
DTEND;TZID=Europe/London:20250925T170000
SUMMARY:Private event
URL:https://olvestonparishhall.co.uk/index.php/add-new-event/35-private-eve
 nt/20765-private-event
END:VEVENT
BEGIN:VEVENT
UID:20250927T100000BST-3093UoOWJ2@https://www.olvestonparishhall.co.uk/
DTSTAMP:20260420T052915Z
CATEGORIES:Childrens Party - special 3 hour rate
DESCRIPTION:<p>Children's party</p>
DTSTART;TZID=Europe/London:20250927T100000
DTEND;TZID=Europe/London:20250927T130000
SUMMARY:Private Event
URL:https://olvestonparishhall.co.uk/index.php/add-new-event/42-childrens-p
 arty/20630-children-s-party
X-ALT-DESC;FMTTYPE=TEXT/HTML:<p>Children's party</p>
END:VEVENT
BEGIN:VEVENT
UID:20250125T140000GMT-6846x70S8H@https://olvestonparishhall.co.uk/
DTSTAMP:20260420T052915Z
CATEGORIES:Private Event
DTSTART;TZID=Europe/London:20250125T140000
DTEND;TZID=Europe/London:20250125T160000
RRULE:FREQ=MONTHLY;UNTIL=20251123T000000Z;INTERVAL=1;BYDAY=SA;BYSETPOS=4
SUMMARY:Severnside Squares
URL:https://olvestonparishhall.co.uk/index.php/add-new-event/35-private-eve
 nt/18724-severnside-squares
END:VEVENT
BEGIN:VEVENT
UID:20250928T140000BST-8221VnFwKl@https://olvestonparishhall.co.uk/
DTSTAMP:20260420T052915Z
CATEGORIES:Private Event
DTSTART;TZID=Europe/London:20250928T140000
DTEND;TZID=Europe/London:20250928T170000
SUMMARY:Almondsbury Pantomime Rehearsal
URL:https://olvestonparishhall.co.uk/index.php/add-new-event/35-private-eve
 nt/20627-almondsbury-pantomime-rehearsal
END:VEVENT
END:VCALENDAR
