BEGIN:VCALENDAR
VERSION:2.0
PRODID:-//https://olvestonparishhall.co.uk//NONSGML kigkonsult.se iCalcreat
 or 2.29.29//
CALSCALE:GREGORIAN
METHOD:PUBLISH
UID:d983ab2e-45e6-41ad-81ed-172b8798ecdd
X-WR-CALNAME:JCal Pro Calendar
X-WR-CALDESC:Your online events calendar
X-WR-TIMEZONE:Europe/London
BEGIN:VTIMEZONE
TZID:Europe/London
BEGIN:STANDARD
TZNAME:GMT
DTSTART:20251026T020000
TZOFFSETFROM:+0100
TZOFFSETTO:+0000
RDATE:20261025T020000
END:STANDARD
BEGIN:DAYLIGHT
TZNAME:BST
DTSTART:20260329T010000
TZOFFSETFROM:+0000
TZOFFSETTO:+0100
RDATE:20270328T010000
END:DAYLIGHT
END:VTIMEZONE
BEGIN:VEVENT
UID:20150507T101500UTC-e8ca80@http://www.olvestonparishhall.co.uk/
DTSTAMP:20260424T112245Z
CATEGORIES:Public Event
DESCRIPTION:<p>General\, District and Parish Elections</p>\n<p>7am-10pm</p>
DTSTART;TZID=Europe/London:20150507T000000
DTEND;TZID=Europe/London:20150507T235959
SUMMARY:General Election
URL:https://olvestonparishhall.co.uk/index.php/add-new-event/34-public-even
 t/1551-general-election
X-ALT-DESC;FMTTYPE=TEXT/HTML:<p>General\, District and Parish Elections</p>
 \n<p>7am-10pm</p>
END:VEVENT
BEGIN:VEVENT
UID:20150105T150000UTC-ba7f10@http://www.olvestonparishhall.co.uk/
DTSTAMP:20260424T112245Z
CATEGORIES:Private Event
DESCRIPTION:<p>Table Tennis</p>
DTSTART;TZID=Europe/London:20150105T110000
DTEND;TZID=Europe/London:20150105T120000
RRULE:FREQ=WEEKLY;UNTIL=20210222T000000Z;INTERVAL=1;BYDAY=MO
SUMMARY:Table Tennis
URL:https://olvestonparishhall.co.uk/index.php/add-new-event/35-private-eve
 nt/1709-table-tennis
X-ALT-DESC;FMTTYPE=TEXT/HTML:<p>Table Tennis</p>
END:VEVENT
BEGIN:VEVENT
UID:20150907T174500UTC-df9150@http://www.olvestonparishhall.co.uk/
DTSTAMP:20260424T112245Z
CATEGORIES:Public Event
DESCRIPTION:<p>Contact Claire <span id='cloak4c63bab936bb6862f2540d7231564b
 6d'>This email address is being protected from spambots. You need JavaScri
 pt enabled to view it.</span><script type='text/javascript'>\n				document.get
 ElementById('cloak4c63bab936bb6862f2540d7231564b6d').innerHTML = ''\;\n				var
  prefix = '&#109\;a' + 'i&#108\;' + '&#116\;o'\;\n				var path = 'hr' + 'ef' +
  '='\;\n				var addy4c63bab936bb6862f2540d7231564b6d = 'br&#97\;dl&#101\;yst&#
 111\;k&#101\;' + '&#64\;'\;\n				addy4c63bab936bb6862f2540d7231564b6d = addy4c
 63bab936bb6862f2540d7231564b6d + 'b&#97\;byb&#97\;ll&#101\;t' + '&#46\;' +
  'c&#111\;' + '&#46\;' + '&#117\;k'\;\n				var addy_text4c63bab936bb6862f2540d
 7231564b6d = 'br&#97\;dl&#101\;yst&#111\;k&#101\;' + '&#64\;' + 'b&#97\;by
 b&#97\;ll&#101\;t' + '&#46\;' + 'c&#111\;' + '&#46\;' + '&#117\;k'\;docume
 nt.getElementById('cloak4c63bab936bb6862f2540d7231564b6d').innerHTML += '<
 a ' + path + '\'' + prefix + ':' + addy4c63bab936bb6862f2540d7231564b6d + 
 '\'>'+addy_text4c63bab936bb6862f2540d7231564b6d+'<\/a>'\;\n		</script></p>
DTSTART;TZID=Europe/London:20150907T184500
DTEND;TZID=Europe/London:20150907T210000
RRULE:FREQ=WEEKLY;UNTIL=20160724T230000Z;INTERVAL=1;BYDAY=MO
SUMMARY:Baby Ballet
URL:https://olvestonparishhall.co.uk/index.php/add-new-event/34-public-even
 t/2898-baby-ballet
X-ALT-DESC;FMTTYPE=TEXT/HTML:<p>Contact Claire <span id='cloak4c63bab936bb6
 862f2540d7231564b6d'>This email address is being protected from spambots. 
 You need JavaScript enabled to view it.</span><script type='text/javascrip
 t'>\n				document.getElementById('cloak4c63bab936bb6862f2540d7231564b6d').inne
 rHTML = ''\;\n				var prefix = '&#109\;a' + 'i&#108\;' + '&#116\;o'\;\n				var pat
 h = 'hr' + 'ef' + '='\;\n				var addy4c63bab936bb6862f2540d7231564b6d = 'br&#9
 7\;dl&#101\;yst&#111\;k&#101\;' + '&#64\;'\;\n				addy4c63bab936bb6862f2540d72
 31564b6d = addy4c63bab936bb6862f2540d7231564b6d + 'b&#97\;byb&#97\;ll&#101
 \;t' + '&#46\;' + 'c&#111\;' + '&#46\;' + '&#117\;k'\;\n				var addy_text4c63b
 ab936bb6862f2540d7231564b6d = 'br&#97\;dl&#101\;yst&#111\;k&#101\;' + '&#6
 4\;' + 'b&#97\;byb&#97\;ll&#101\;t' + '&#46\;' + 'c&#111\;' + '&#46\;' + '
 &#117\;k'\;document.getElementById('cloak4c63bab936bb6862f2540d7231564b6d'
 ).innerHTML += '<a ' + path + '\'' + prefix + ':' + addy4c63bab936bb6862f2
 540d7231564b6d + '\'>'+addy_text4c63bab936bb6862f2540d7231564b6d+'<\/a>'\;
 \n		</script></p>
END:VEVENT
BEGIN:VEVENT
UID:20150914T233000UTC-973aba@http://www.olvestonparishhall.co.uk/
DTSTAMP:20260424T112245Z
CATEGORIES:Private Event
DESCRIPTION:<p>Rehearsal</p>
DTSTART;TZID=Europe/London:20150915T003000
DTEND;TZID=Europe/London:20150915T030000
RRULE:FREQ=WEEKLY;UNTIL=20151221T000000Z;INTERVAL=1;BYDAY=MO,TH
SUMMARY:Parish Players Rehearsal
URL:https://olvestonparishhall.co.uk/index.php/add-new-event/35-private-eve
 nt/2602-parish-players-rehearsal
X-ALT-DESC;FMTTYPE=TEXT/HTML:<p>Rehearsal</p>
END:VEVENT
BEGIN:VEVENT
UID:20150714T233000UTC-5bbc20@http://www.olvestonparishhall.co.uk/
DTSTAMP:20260424T112245Z
CATEGORIES:Private Event
DESCRIPTION:<p>W.I</p>
DTSTART;TZID=Europe/London:20150715T003000
DTEND;TZID=Europe/London:20150715T023000
RRULE:FREQ=MONTHLY;UNTIL=20151222T000000Z;INTERVAL=1;BYDAY=TU;BYSETPOS=2
SUMMARY:W.I
URL:https://olvestonparishhall.co.uk/index.php/add-new-event/35-private-eve
 nt/2781-w-i
X-ALT-DESC;FMTTYPE=TEXT/HTML:<p>W.I</p>
END:VEVENT
BEGIN:VEVENT
UID:20150326T133000UTC-a140ca@http://www.olvestonparishhall.co.uk/
DTSTAMP:20260424T112245Z
CATEGORIES:Public Event
DESCRIPTION:<p>9:30am - 10:15am &nbsp\;</p>\n<p>babyballet ??&nbsp\;Tinies 
 (18 months to 3 years)</p>\n<p>&nbsp\;</p>\n<p>10:15am &nbsp\;- 11:00am</p
 >\n<p>babyballet?? Movers (3 - 4 years)</p>\n<p>&nbsp\;</p>\n<p>Contact Cl
 aire&nbsp\;<span id='cloak368376a0d26c57a7cd2845e7984da178'>This email add
 ress is being protected from spambots. You need JavaScript enabled to view
  it.</span><script type='text/javascript'>
				document.getElementById('cloak36
 8376a0d26c57a7cd2845e7984da178').innerHTML = ''\;
				var prefix = '&#109\;a' +
  'i&#108\;' + '&#116\;o'\;
				var path = 'hr' + 'ef' + '='\;
				var addy368376a0d2
 6c57a7cd2845e7984da178 = 'br&#97\;dl&#101\;yst&#111\;k&#101\;' + '&#64\;'\
 ;
				addy368376a0d26c57a7cd2845e7984da178 = addy368376a0d26c57a7cd2845e7984da1
 78 + 'b&#97\;byb&#97\;ll&#101\;t' + '&#46\;' + 'c&#111\;' + '&#46\;' + '&#
 117\;k'\;
				var addy_text368376a0d26c57a7cd2845e7984da178 = 'br&#97\;dl&#101\
 ;yst&#111\;k&#101\;' + '&#64\;' + 'b&#97\;byb&#97\;ll&#101\;t' + '&#46\;' 
 + 'c&#111\;' + '&#46\;' + '&#117\;k'\;document.getElementById('cloak368376
 a0d26c57a7cd2845e7984da178').innerHTML += '<a ' + path + '\'' + prefix + '
 :' + addy368376a0d26c57a7cd2845e7984da178 + '\'>'+addy_text368376a0d26c57a
 7cd2845e7984da178+'<\/a>'\;
		</script></p>
DTSTART;TZID=Europe/London:20150226T153000
DTEND;TZID=Europe/London:20150226T170000
RRULE:FREQ=WEEKLY;UNTIL=20160727T230000Z;INTERVAL=1;BYDAY=TH
SUMMARY:Baby Ballet
URL:https://olvestonparishhall.co.uk/index.php/add-new-event/34-public-even
 t/2049-baby-ballet
X-ALT-DESC;FMTTYPE=TEXT/HTML:<p>9:30am - 10:15am &nbsp\;</p>\n<p>babyballet
  ??&nbsp\;Tinies (18 months to 3 years)</p>\n<p>&nbsp\;</p>\n<p>10:15am &n
 bsp\;- 11:00am</p>\n<p>babyballet?? Movers (3 - 4 years)</p>\n<p>&nbsp\;</
 p>\n<p>Contact Claire&nbsp\;<span id='cloak368376a0d26c57a7cd2845e7984da17
 8'>This email address is being protected from spambots. You need JavaScrip
 t enabled to view it.</span><script type='text/javascript'>
				document.getEle
 mentById('cloak368376a0d26c57a7cd2845e7984da178').innerHTML = ''\;
				var pref
 ix = '&#109\;a' + 'i&#108\;' + '&#116\;o'\;
				var path = 'hr' + 'ef' + '='\;
				v
 ar addy368376a0d26c57a7cd2845e7984da178 = 'br&#97\;dl&#101\;yst&#111\;k&#1
 01\;' + '&#64\;'\;
				addy368376a0d26c57a7cd2845e7984da178 = addy368376a0d26c5
 7a7cd2845e7984da178 + 'b&#97\;byb&#97\;ll&#101\;t' + '&#46\;' + 'c&#111\;'
  + '&#46\;' + '&#117\;k'\;
				var addy_text368376a0d26c57a7cd2845e7984da178 = 
 'br&#97\;dl&#101\;yst&#111\;k&#101\;' + '&#64\;' + 'b&#97\;byb&#97\;ll&#10
 1\;t' + '&#46\;' + 'c&#111\;' + '&#46\;' + '&#117\;k'\;document.getElement
 ById('cloak368376a0d26c57a7cd2845e7984da178').innerHTML += '<a ' + path + 
 '\'' + prefix + ':' + addy368376a0d26c57a7cd2845e7984da178 + '\'>'+addy_te
 xt368376a0d26c57a7cd2845e7984da178+'<\/a>'\;
		</script></p>
END:VEVENT
BEGIN:VEVENT
UID:20151112T210000UTC-92c906@http://www.olvestonparishhall.co.uk/
DTSTAMP:20260424T112245Z
CATEGORIES:Private Event
DESCRIPTION:<p>OPC meet</p>
DTSTART;TZID=Europe/London:20151112T220000
DTEND;TZID=Europe/London:20151113T010000
SUMMARY:Parish Council Meeting
URL:https://olvestonparishhall.co.uk/index.php/add-new-event/35-private-eve
 nt/3097-parish-council-meeting
X-ALT-DESC;FMTTYPE=TEXT/HTML:<p>OPC meet</p>
END:VEVENT
BEGIN:VEVENT
UID:20150911T133000UTC-196f83@http://www.olvestonparishhall.co.uk/
DTSTAMP:20260424T112246Z
CATEGORIES:Public Event
DESCRIPTION:<p>Contact Claire&nbsp\;<span id='cloakd6cbd6084053c2a0f6b0baa6
 a808434f'>This email address is being protected from spambots. You need Ja
 vaScript enabled to view it.</span><script type='text/javascript'>\n				docume
 nt.getElementById('cloakd6cbd6084053c2a0f6b0baa6a808434f').innerHTML = ''\
 ;\n				var prefix = '&#109\;a' + 'i&#108\;' + '&#116\;o'\;\n				var path = 'hr' + 
 'ef' + '='\;\n				var addyd6cbd6084053c2a0f6b0baa6a808434f = 'br&#97\;dl&#101\
 ;yst&#111\;k&#101\;' + '&#64\;'\;\n				addyd6cbd6084053c2a0f6b0baa6a808434f = 
 addyd6cbd6084053c2a0f6b0baa6a808434f + 'b&#97\;byb&#97\;ll&#101\;t' + '&#4
 6\;' + 'c&#111\;' + '&#46\;' + '&#117\;k'\;\n				var addy_textd6cbd6084053c2a0
 f6b0baa6a808434f = '&nbsp\;'\;document.getElementById('cloakd6cbd6084053c2
 a0f6b0baa6a808434f').innerHTML += '<a ' + path + '\'' + prefix + ':' + add
 yd6cbd6084053c2a0f6b0baa6a808434f + '\'>'+addy_textd6cbd6084053c2a0f6b0baa
 6a808434f+'<\/a>'\;\n		</script><span id='cloakea296bdcf448c41d56ace82057556
 343'>This email address is being protected from spambots. You need JavaScr
 ipt enabled to view it.</span><script type='text/javascript'>\n				document.ge
 tElementById('cloakea296bdcf448c41d56ace82057556343').innerHTML = ''\;\n				va
 r prefix = '&#109\;a' + 'i&#108\;' + '&#116\;o'\;\n				var path = 'hr' + 'ef' 
 + '='\;\n				var addyea296bdcf448c41d56ace82057556343 = 'br&#97\;dl&#101\;yst&
 #111\;k&#101\;' + '&#64\;'\;\n				addyea296bdcf448c41d56ace82057556343 = addye
 a296bdcf448c41d56ace82057556343 + 'b&#97\;byb&#97\;ll&#101\;t' + '&#46\;' 
 + 'c&#111\;' + '&#46\;' + '&#117\;k'\;\n				var addy_textea296bdcf448c41d56ace
 82057556343 = 'br&#97\;dl&#101\;yst&#111\;k&#101\;' + '&#64\;' + 'b&#97\;b
 yb&#97\;ll&#101\;t' + '&#46\;' + 'c&#111\;' + '&#46\;' + '&#117\;k'\;docum
 ent.getElementById('cloakea296bdcf448c41d56ace82057556343').innerHTML += '
 <a ' + path + '\'' + prefix + ':' + addyea296bdcf448c41d56ace82057556343 +
  '\'>'+addy_textea296bdcf448c41d56ace82057556343+'<\/a>'\;\n		</script></p>
DTSTART;TZID=Europe/London:20150911T143000
DTEND;TZID=Europe/London:20150911T163000
RRULE:FREQ=WEEKLY;UNTIL=20160721T230000Z;INTERVAL=1;BYDAY=FR
SUMMARY:Baby Ballet
URL:https://olvestonparishhall.co.uk/index.php/add-new-event/34-public-even
 t/2913-baby-ballet
X-ALT-DESC;FMTTYPE=TEXT/HTML:<p>Contact Claire&nbsp\;<span id='cloakd6cbd60
 84053c2a0f6b0baa6a808434f'>This email address is being protected from spam
 bots. You need JavaScript enabled to view it.</span><script type='text/jav
 ascript'>\n				document.getElementById('cloakd6cbd6084053c2a0f6b0baa6a808434f'
 ).innerHTML = ''\;\n				var prefix = '&#109\;a' + 'i&#108\;' + '&#116\;o'\;\n				v
 ar path = 'hr' + 'ef' + '='\;\n				var addyd6cbd6084053c2a0f6b0baa6a808434f = 
 'br&#97\;dl&#101\;yst&#111\;k&#101\;' + '&#64\;'\;\n				addyd6cbd6084053c2a0f6
 b0baa6a808434f = addyd6cbd6084053c2a0f6b0baa6a808434f + 'b&#97\;byb&#97\;l
 l&#101\;t' + '&#46\;' + 'c&#111\;' + '&#46\;' + '&#117\;k'\;\n				var addy_tex
 td6cbd6084053c2a0f6b0baa6a808434f = '&nbsp\;'\;document.getElementById('cl
 oakd6cbd6084053c2a0f6b0baa6a808434f').innerHTML += '<a ' + path + '\'' + p
 refix + ':' + addyd6cbd6084053c2a0f6b0baa6a808434f + '\'>'+addy_textd6cbd6
 084053c2a0f6b0baa6a808434f+'<\/a>'\;\n		</script><span id='cloakea296bdcf448
 c41d56ace82057556343'>This email address is being protected from spambots.
  You need JavaScript enabled to view it.</span><script type='text/javascri
 pt'>\n				document.getElementById('cloakea296bdcf448c41d56ace82057556343').inn
 erHTML = ''\;\n				var prefix = '&#109\;a' + 'i&#108\;' + '&#116\;o'\;\n				var pa
 th = 'hr' + 'ef' + '='\;\n				var addyea296bdcf448c41d56ace82057556343 = 'br&#
 97\;dl&#101\;yst&#111\;k&#101\;' + '&#64\;'\;\n				addyea296bdcf448c41d56ace82
 057556343 = addyea296bdcf448c41d56ace82057556343 + 'b&#97\;byb&#97\;ll&#10
 1\;t' + '&#46\;' + 'c&#111\;' + '&#46\;' + '&#117\;k'\;\n				var addy_textea29
 6bdcf448c41d56ace82057556343 = 'br&#97\;dl&#101\;yst&#111\;k&#101\;' + '&#
 64\;' + 'b&#97\;byb&#97\;ll&#101\;t' + '&#46\;' + 'c&#111\;' + '&#46\;' + 
 '&#117\;k'\;document.getElementById('cloakea296bdcf448c41d56ace82057556343
 ').innerHTML += '<a ' + path + '\'' + prefix + ':' + addyea296bdcf448c41d5
 6ace82057556343 + '\'>'+addy_textea296bdcf448c41d56ace82057556343+'<\/a>'\
 ;\n		</script></p>
END:VEVENT
BEGIN:VEVENT
UID:20151113T230000UTC-4349a3@http://www.olvestonparishhall.co.uk/
DTSTAMP:20260424T112246Z
CATEGORIES:Private Event
DESCRIPTION:<p>Olveston Allotments AGM all welcome</p>
DTSTART;TZID=Europe/London:20151114T000000
DTEND;TZID=Europe/London:20151114T040000
SUMMARY:Olveston Allotments AGM & Social
URL:https://olvestonparishhall.co.uk/index.php/add-new-event/35-private-eve
 nt/3008-olveston-allotments-agm-social
X-ALT-DESC;FMTTYPE=TEXT/HTML:<p>Olveston Allotments AGM all welcome</p>
END:VEVENT
BEGIN:VEVENT
UID:20150912T130000UTC-cf0009@http://www.olvestonparishhall.co.uk/
DTSTAMP:20260424T112246Z
CATEGORIES:Private Event
DESCRIPTION:<p>Baby Ballet</p>\n<p>Dance Class and Movement class from 6 Mo
 nths to 6 Years</p>\n<p>Contact <span id='cloak7a1c302dd6d0906547546fa7cc4
 6953c'>This email address is being protected from spambots. You need JavaS
 cript enabled to view it.</span><script type='text/javascript'>
				document.ge
 tElementById('cloak7a1c302dd6d0906547546fa7cc46953c').innerHTML = ''\;
				var 
 prefix = '&#109\;a' + 'i&#108\;' + '&#116\;o'\;
				var path = 'hr' + 'ef' + '=
 '\;
				var addy7a1c302dd6d0906547546fa7cc46953c = 'br&#97\;dl&#101\;yst&#111\;
 k&#101\;' + '&#64\;'\;
				addy7a1c302dd6d0906547546fa7cc46953c = addy7a1c302dd
 6d0906547546fa7cc46953c + 'b&#97\;byb&#97\;ll&#101\;t' + '&#46\;' + 'c&#11
 1\;' + '&#46\;' + '&#117\;k'\;
				var addy_text7a1c302dd6d0906547546fa7cc46953
 c = 'br&#97\;dl&#101\;yst&#111\;k&#101\;' + '&#64\;' + 'b&#97\;byb&#97\;ll
 &#101\;t' + '&#46\;' + 'c&#111\;' + '&#46\;' + '&#117\;k'\;document.getEle
 mentById('cloak7a1c302dd6d0906547546fa7cc46953c').innerHTML += '<a ' + pat
 h + '\'' + prefix + ':' + addy7a1c302dd6d0906547546fa7cc46953c + '\'>'+add
 y_text7a1c302dd6d0906547546fa7cc46953c+'<\/a>'\;
		</script></p>
DTSTART;TZID=Europe/London:20150912T140000
DTEND;TZID=Europe/London:20150912T171500
RRULE:FREQ=WEEKLY;UNTIL=20171219T000000Z;INTERVAL=1;BYDAY=SA
SUMMARY:Baby Ballet
URL:https://olvestonparishhall.co.uk/index.php/add-new-event/35-private-eve
 nt/2952-baby-ballet
X-ALT-DESC;FMTTYPE=TEXT/HTML:<p>Baby Ballet</p>\n<p>Dance Class and Movemen
 t class from 6 Months to 6 Years</p>\n<p>Contact <span id='cloak7a1c302dd6
 d0906547546fa7cc46953c'>This email address is being protected from spambot
 s. You need JavaScript enabled to view it.</span><script type='text/javasc
 ript'>
				document.getElementById('cloak7a1c302dd6d0906547546fa7cc46953c').inn
 erHTML = ''\;
				var prefix = '&#109\;a' + 'i&#108\;' + '&#116\;o'\;
				var path =
  'hr' + 'ef' + '='\;
				var addy7a1c302dd6d0906547546fa7cc46953c = 'br&#97\;dl
 &#101\;yst&#111\;k&#101\;' + '&#64\;'\;
				addy7a1c302dd6d0906547546fa7cc46953
 c = addy7a1c302dd6d0906547546fa7cc46953c + 'b&#97\;byb&#97\;ll&#101\;t' + 
 '&#46\;' + 'c&#111\;' + '&#46\;' + '&#117\;k'\;
				var addy_text7a1c302dd6d090
 6547546fa7cc46953c = 'br&#97\;dl&#101\;yst&#111\;k&#101\;' + '&#64\;' + 'b
 &#97\;byb&#97\;ll&#101\;t' + '&#46\;' + 'c&#111\;' + '&#46\;' + '&#117\;k'
 \;document.getElementById('cloak7a1c302dd6d0906547546fa7cc46953c').innerHT
 ML += '<a ' + path + '\'' + prefix + ':' + addy7a1c302dd6d0906547546fa7cc4
 6953c + '\'>'+addy_text7a1c302dd6d0906547546fa7cc46953c+'<\/a>'\;
		</script>
 </p>
END:VEVENT
BEGIN:VEVENT
UID:20150912T223000UTC-d945eb@http://www.olvestonparishhall.co.uk/
DTSTAMP:20260424T112246Z
CATEGORIES:Public Event
DESCRIPTION:<p>Fundraising event for Olveston and Tockington Tennis Club &n
 bsp\;</p>
DTSTART;TZID=Europe/London:20151115T003000
DTEND;TZID=Europe/London:20151115T043000
SUMMARY:Quiz night
URL:https://olvestonparishhall.co.uk/index.php/add-new-event/34-public-even
 t/1989-quiz-night
X-ALT-DESC;FMTTYPE=TEXT/HTML:<p>Fundraising event for Olveston and Tockingt
 on Tennis Club &nbsp\;</p>
END:VEVENT
BEGIN:VEVENT
UID:20151115T200000UTC-88710f@http://www.olvestonparishhall.co.uk/
DTSTAMP:20260424T112246Z
CATEGORIES:Private Event
DESCRIPTION:<p>dnce</p>
DTSTART;TZID=Europe/London:20151115T210000
DTEND;TZID=Europe/London:20151115T220000
SUMMARY:Square Dancing
URL:https://olvestonparishhall.co.uk/index.php/add-new-event/35-private-eve
 nt/3115-square-dancing
X-ALT-DESC;FMTTYPE=TEXT/HTML:<p>dnce</p>
END:VEVENT
END:VCALENDAR
