BEGIN:VCALENDAR
VERSION:2.0
PRODID:-//https://olvestonparishhall.co.uk//NONSGML kigkonsult.se iCalcreat
 or 2.29.29//
CALSCALE:GREGORIAN
METHOD:PUBLISH
UID:4043843c-96f8-4db1-acea-56963ff34982
X-WR-CALNAME:JCal Pro Calendar
X-WR-CALDESC:Your online events calendar
X-WR-TIMEZONE:Europe/London
BEGIN:VTIMEZONE
TZID:Europe/London
BEGIN:STANDARD
TZNAME:GMT
DTSTART:20251026T020000
TZOFFSETFROM:+0100
TZOFFSETTO:+0000
RDATE:20261025T020000
END:STANDARD
BEGIN:DAYLIGHT
TZNAME:BST
DTSTART:20260329T010000
TZOFFSETFROM:+0000
TZOFFSETTO:+0100
RDATE:20270328T010000
END:DAYLIGHT
END:VTIMEZONE
BEGIN:VEVENT
UID:20150105T150000UTC-ba7f10@http://www.olvestonparishhall.co.uk/
DTSTAMP:20260424T194649Z
CATEGORIES:Private Event
DESCRIPTION:<p>Table Tennis</p>
DTSTART;TZID=Europe/London:20150105T110000
DTEND;TZID=Europe/London:20150105T120000
RRULE:FREQ=WEEKLY;UNTIL=20210222T000000Z;INTERVAL=1;BYDAY=MO
SUMMARY:Table Tennis
URL:https://olvestonparishhall.co.uk/index.php/add-new-event/35-private-eve
 nt/1709-table-tennis
X-ALT-DESC;FMTTYPE=TEXT/HTML:<p>Table Tennis</p>
END:VEVENT
BEGIN:VEVENT
UID:20141020T233000UTC-16f46b@http://www.olvestonparishhall.co.uk/
DTSTAMP:20260424T194649Z
CATEGORIES:Private Event
DESCRIPTION:<p>Rehearsal</p>
DTSTART;TZID=Europe/London:20141021T003000
DTEND;TZID=Europe/London:20141021T030000
RRULE:FREQ=WEEKLY;UNTIL=20150212T000000Z;INTERVAL=1;BYDAY=MO,TH
SUMMARY:Parish Players Rehearsal
URL:https://olvestonparishhall.co.uk/index.php/add-new-event/35-private-eve
 nt/1583-parish-players-rehearsal
X-ALT-DESC;FMTTYPE=TEXT/HTML:<p>Rehearsal</p>
END:VEVENT
BEGIN:VEVENT
UID:20150120T190000UTC-25d2c9@http://www.olvestonparishhall.co.uk/
DTSTAMP:20260424T194649Z
CATEGORIES:Public Event
DESCRIPTION:<p>Public Exhibition</p>\n<p>AVON POWER STATION</p>\n<p>2pm-7:4
 5pm at Olveston Parish Hall</p>\n<p>Please come along to this Public Exhib
 ition. Scottish Power is proposing to consent\, build and operate a new ga
 s fired power station in the area. Scottish Power will be undertaking cons
 ulation to give loal people and businesses an oppurtunity to find out more
  and discuss proposals for the new power station</p>\n<p>www.avonpowerstat
 ion.com</p>
DTSTART;TZID=Europe/London:20150120T200000
DTEND;TZID=Europe/London:20150121T014500
SUMMARY:Public Meeting
URL:https://olvestonparishhall.co.uk/index.php/add-new-event/34-public-even
 t/1975-public-meeting
X-ALT-DESC;FMTTYPE=TEXT/HTML:<p>Public Exhibition</p>\n<p>AVON POWER STATIO
 N</p>\n<p>2pm-7:45pm at Olveston Parish Hall</p>\n<p>Please come along to 
 this Public Exhibition. Scottish Power is proposing to consent\, build and
  operate a new gas fired power station in the area. Scottish Power will be
  undertaking consulation to give loal people and businesses an oppurtunity
  to find out more and discuss proposals for the new power station</p>\n<p>
 www.avonpowerstation.com</p>
END:VEVENT
BEGIN:VEVENT
UID:20130424T000000UTC-9b8d67@http://www.olvestonparishhall.co.uk/
DTSTAMP:20260424T194649Z
CATEGORIES:Public Event
DESCRIPTION:<p>Just come along 8pm-9pm</p>
DTSTART;TZID=Europe/London:20130424T010000
DTEND;TZID=Europe/London:20130424T020000
RRULE:FREQ=WEEKLY;UNTIL=20151221T000000Z;INTERVAL=1;BYDAY=TU
SUMMARY:Keep Fit
URL:https://olvestonparishhall.co.uk/index.php/add-new-event/34-public-even
 t/84-keep-fit
X-ALT-DESC;FMTTYPE=TEXT/HTML:<p>Just come along 8pm-9pm</p>
END:VEVENT
BEGIN:VEVENT
UID:20140604T100000UTC-29e286@http://www.olvestonparishhall.co.uk/
DTSTAMP:20260424T194649Z
CATEGORIES:Private Event
DESCRIPTION:<p>Baby Ballet</p>\n<p>Dance Class and Movement class from 6 Mo
 nths to 6 Years</p>\n<p>Contact <span id='cloak8ad8d7d7c555334fbe5c2190d1e
 841d3'>This email address is being protected from spambots. You need JavaS
 cript enabled to view it.</span><script type='text/javascript'>
				document.ge
 tElementById('cloak8ad8d7d7c555334fbe5c2190d1e841d3').innerHTML = ''\;
				var 
 prefix = '&#109\;a' + 'i&#108\;' + '&#116\;o'\;
				var path = 'hr' + 'ef' + '=
 '\;
				var addy8ad8d7d7c555334fbe5c2190d1e841d3 = 'br&#97\;dl&#101\;yst&#111\;
 k&#101\;' + '&#64\;'\;
				addy8ad8d7d7c555334fbe5c2190d1e841d3 = addy8ad8d7d7c
 555334fbe5c2190d1e841d3 + 'b&#97\;byb&#97\;ll&#101\;t' + '&#46\;' + 'c&#11
 1\;' + '&#46\;' + '&#117\;k'\;
				var addy_text8ad8d7d7c555334fbe5c2190d1e841d
 3 = 'br&#97\;dl&#101\;yst&#111\;k&#101\;' + '&#64\;' + 'b&#97\;byb&#97\;ll
 &#101\;t' + '&#46\;' + 'c&#111\;' + '&#46\;' + '&#117\;k'\;document.getEle
 mentById('cloak8ad8d7d7c555334fbe5c2190d1e841d3').innerHTML += '<a ' + pat
 h + '\'' + prefix + ':' + addy8ad8d7d7c555334fbe5c2190d1e841d3 + '\'>'+add
 y_text8ad8d7d7c555334fbe5c2190d1e841d3+'<\/a>'\;
		</script></p>
DTSTART;TZID=Europe/London:20140904T143000
DTEND;TZID=Europe/London:20140904T173000
RRULE:FREQ=WEEKLY;COUNT=25;INTERVAL=1;BYDAY=TH
SUMMARY:Baby Ballet
URL:https://olvestonparishhall.co.uk/index.php/add-new-event/35-private-eve
 nt/1310-baby-ballet
X-ALT-DESC;FMTTYPE=TEXT/HTML:<p>Baby Ballet</p>\n<p>Dance Class and Movemen
 t class from 6 Months to 6 Years</p>\n<p>Contact <span id='cloak8ad8d7d7c5
 55334fbe5c2190d1e841d3'>This email address is being protected from spambot
 s. You need JavaScript enabled to view it.</span><script type='text/javasc
 ript'>
				document.getElementById('cloak8ad8d7d7c555334fbe5c2190d1e841d3').inn
 erHTML = ''\;
				var prefix = '&#109\;a' + 'i&#108\;' + '&#116\;o'\;
				var path =
  'hr' + 'ef' + '='\;
				var addy8ad8d7d7c555334fbe5c2190d1e841d3 = 'br&#97\;dl
 &#101\;yst&#111\;k&#101\;' + '&#64\;'\;
				addy8ad8d7d7c555334fbe5c2190d1e841d
 3 = addy8ad8d7d7c555334fbe5c2190d1e841d3 + 'b&#97\;byb&#97\;ll&#101\;t' + 
 '&#46\;' + 'c&#111\;' + '&#46\;' + '&#117\;k'\;
				var addy_text8ad8d7d7c55533
 4fbe5c2190d1e841d3 = 'br&#97\;dl&#101\;yst&#111\;k&#101\;' + '&#64\;' + 'b
 &#97\;byb&#97\;ll&#101\;t' + '&#46\;' + 'c&#111\;' + '&#46\;' + '&#117\;k'
 \;document.getElementById('cloak8ad8d7d7c555334fbe5c2190d1e841d3').innerHT
 ML += '<a ' + path + '\'' + prefix + ':' + addy8ad8d7d7c555334fbe5c2190d1e
 841d3 + '\'>'+addy_text8ad8d7d7c555334fbe5c2190d1e841d3+'<\/a>'\;
		</script>
 </p>
END:VEVENT
BEGIN:VEVENT
UID:20130419T213000UTC-c187f2@http://olvestonparishhall.co.uk/
DTSTAMP:20260424T194649Z
CATEGORIES:Public Event
DESCRIPTION:<p>Ballroom and Sequence Dance Lessons</p>\n<p>From 5.30pm unti
 l 9.30pm<br />For more information contact Cathy Matthews on 07747686206</
 p>
DTSTART;TZID=Europe/London:20130419T223000
DTEND;TZID=Europe/London:20130420T023000
RRULE:FREQ=WEEKLY;UNTIL=20151204T000000Z;INTERVAL=1;BYDAY=FR
SUMMARY:Dancing Lessons
URL:https://olvestonparishhall.co.uk/index.php/add-new-event/34-public-even
 t/25-dancing-lessons
X-ALT-DESC;FMTTYPE=TEXT/HTML:<p>Ballroom and Sequence Dance Lessons</p>\n<p
 >From 5.30pm until 9.30pm<br />For more information contact Cathy Matthews
  on 07747686206</p>
END:VEVENT
END:VCALENDAR
