BEGIN:VCALENDAR
VERSION:2.0
PRODID:-//https://olvestonparishhall.co.uk//NONSGML kigkonsult.se iCalcreat
 or 2.29.29//
CALSCALE:GREGORIAN
METHOD:PUBLISH
UID:3833cde8-b153-4577-a448-129b62df3f4e
X-WR-CALNAME:JCal Pro Calendar
X-WR-CALDESC:Your online events calendar
X-WR-TIMEZONE:Europe/London
BEGIN:VTIMEZONE
TZID:Europe/London
BEGIN:STANDARD
TZNAME:GMT
DTSTART:20251026T020000
TZOFFSETFROM:+0100
TZOFFSETTO:+0000
RDATE:20261025T020000
END:STANDARD
BEGIN:DAYLIGHT
TZNAME:BST
DTSTART:20260329T010000
TZOFFSETFROM:+0000
TZOFFSETTO:+0100
RDATE:20270328T010000
END:DAYLIGHT
END:VTIMEZONE
BEGIN:VEVENT
UID:20150507T101500UTC-e8ca80@http://www.olvestonparishhall.co.uk/
DTSTAMP:20260424T235412Z
CATEGORIES:Public Event
DESCRIPTION:<p>General\, District and Parish Elections</p>\n<p>7am-10pm</p>
DTSTART;TZID=Europe/London:20150507T000000
DTEND;TZID=Europe/London:20150507T235959
SUMMARY:General Election
URL:https://olvestonparishhall.co.uk/index.php/add-new-event/34-public-even
 t/1551-general-election
X-ALT-DESC;FMTTYPE=TEXT/HTML:<p>General\, District and Parish Elections</p>
 \n<p>7am-10pm</p>
END:VEVENT
BEGIN:VEVENT
UID:20170514T223000UTC-14c230@http://www.olvestonparishhall.co.uk/
DTSTAMP:20260424T235412Z
CATEGORIES:Public Event
DESCRIPTION:<div style='color: #212121\; font-family: wf_segoe-ui_normal\, 
 'Segoe UI'\, 'Segoe WP'\, Tahoma\, Arial\, sans-serif\, serif\, EmojiFont\
 ; font-size: 15px\; background-color: #ffffff\;'>'A gentle and invigoratin
 g Pilates&nbsp\;class run by a qualified Physiotherapist. Ideal for those 
 looking&nbsp\;to condition\, stabilise and retrain the core\, enhancing fi
 tness and wellbeing. ??6 for pay as you go classes or purchase a Class Pas
 s at ??30 for&nbsp\;6 classes.'</div>\n<p>&nbsp\;</p>
DTSTART;TZID=Europe/London:20170514T183000
DTEND;TZID=Europe/London:20170514T203000
RRULE:FREQ=WEEKLY;COUNT=80;INTERVAL=1;BYDAY=SU
SUMMARY:Pilates
URL:https://olvestonparishhall.co.uk/index.php/add-new-event/34-public-even
 t/4793-physio
X-ALT-DESC;FMTTYPE=TEXT/HTML:<div style='color: #212121\; font-family: wf_s
 egoe-ui_normal\, 'Segoe UI'\, 'Segoe WP'\, Tahoma\, Arial\, sans-serif\, s
 erif\, EmojiFont\; font-size: 15px\; background-color: #ffffff\;'>'A gentl
 e and invigorating Pilates&nbsp\;class run by a qualified Physiotherapist.
  Ideal for those looking&nbsp\;to condition\, stabilise and retrain the co
 re\, enhancing fitness and wellbeing. ??6 for pay as you go classes or pur
 chase a Class Pass at ??30 for&nbsp\;6 classes.'</div>\n<p>&nbsp\;</p>
END:VEVENT
BEGIN:VEVENT
UID:20150105T150000UTC-ba7f10@http://www.olvestonparishhall.co.uk/
DTSTAMP:20260424T235412Z
CATEGORIES:Private Event
DESCRIPTION:<p>Table Tennis</p>
DTSTART;TZID=Europe/London:20150105T110000
DTEND;TZID=Europe/London:20150105T120000
RRULE:FREQ=WEEKLY;UNTIL=20210222T000000Z;INTERVAL=1;BYDAY=MO
SUMMARY:Table Tennis
URL:https://olvestonparishhall.co.uk/index.php/add-new-event/35-private-eve
 nt/1709-table-tennis
X-ALT-DESC;FMTTYPE=TEXT/HTML:<p>Table Tennis</p>
END:VEVENT
BEGIN:VEVENT
UID:20171205T093000UTC-38ef32@http://www.olvestonparishhall.co.uk/
DTSTAMP:20260424T235412Z
CATEGORIES:Public Event
DESCRIPTION:<p>9:30-10:30 all welcome</p>
DTSTART;TZID=Europe/London:20171205T103000
DTEND;TZID=Europe/London:20171205T113000
RRULE:FREQ=WEEKLY;UNTIL=20190130T000000Z;INTERVAL=1;BYDAY=TU
SUMMARY:PIYO - Pilates Yoga then Bootcamp
URL:https://olvestonparishhall.co.uk/index.php/add-new-event/34-public-even
 t/5829-piyo-pilates-yoga-then-bootcamp
X-ALT-DESC;FMTTYPE=TEXT/HTML:<p>9:30-10:30 all welcome</p>
END:VEVENT
BEGIN:VEVENT
UID:20170607T000000UTC-412bbf@http://www.olvestonparishhall.co.uk/
DTSTAMP:20260424T235412Z
CATEGORIES:Private Event
DESCRIPTION:<p>Keep Fit</p>
DTSTART;TZID=Europe/London:20170606T200000
DTEND;TZID=Europe/London:20170606T210000
RRULE:FREQ=WEEKLY;UNTIL=20181106T000000Z;INTERVAL=1;BYDAY=TU
SUMMARY:Keep Fit
URL:https://olvestonparishhall.co.uk/index.php/add-new-event/35-private-eve
 nt/4828-keep-fit
X-ALT-DESC;FMTTYPE=TEXT/HTML:<p>Keep Fit</p>
END:VEVENT
BEGIN:VEVENT
UID:20180110T093000UTC-34b23b@http://www.olvestonparishhall.co.uk/
DTSTAMP:20260424T235412Z
CATEGORIES:Public Event
DESCRIPTION:<p>Contact Jo McMeechan</p>\n<p><span style='color: #212121\; f
 ont-family: wf_segoe-ui_normal\, 'Segoe UI'\, 'Segoe WP'\, Tahoma\, Arial\
 , sans-serif\, serif\, EmojiFont\; font-size: 15px\; background-color: #ff
 ffff\;'>'A gentle and invigorating Pilates&nbsp\;class run by a qualified 
 Physiotherapist. Ideal for those looking&nbsp\;to condition\, stabilise an
 d retrain the core\, enhancing fitness and wellbeing. ??6 for pay as you g
 o classes or purchase a Class Pass at ??30 for&nbsp\;6 classes.'</span></p
 >\n<div style='color: #212121\; font-family: wf_segoe-ui_normal\, 'Segoe U
 I'\, 'Segoe WP'\, Tahoma\, Arial\, sans-serif\, serif\, EmojiFont\; font-s
 ize: 15px\; background-color: #ffffff\;' dir='auto'>Email&nbsp\;<span id='
 cloakab9d100bf87173add859760e46dda1c3'>This email address is being protect
 ed from spambots. You need JavaScript enabled to view it.</span><script ty
 pe='text/javascript'>
				document.getElementById('cloakab9d100bf87173add859760
 e46dda1c3').innerHTML = ''\;
				var prefix = '&#109\;a' + 'i&#108\;' + '&#116\
 ;o'\;
				var path = 'hr' + 'ef' + '='\;
				var addyab9d100bf87173add859760e46dda1c
 3 = 'jmphys&#105\;&#111\;.p&#105\;l&#97\;t&#101\;s' + '&#64\;'\;
				addyab9d10
 0bf87173add859760e46dda1c3 = addyab9d100bf87173add859760e46dda1c3 + 'gm&#9
 7\;&#105\;l' + '&#46\;' + 'c&#111\;m'\;
				var addy_textab9d100bf87173add85976
 0e46dda1c3 = '&nbsp\;'\;document.getElementById('cloakab9d100bf87173add859
 760e46dda1c3').innerHTML += '<a ' + path + '\'' + prefix + ':' + addyab9d1
 00bf87173add859760e46dda1c3 + '\' rel='noopener noreferrer' target='_blank
 ' data-auth='NotApplicable'>'+addy_textab9d100bf87173add859760e46dda1c3+'<
 \/a>'\;
		</script><span id='cloak36cc0ce3ce7808f4fa74e3f528701c58'>This emai
 l address is being protected from spambots. You need JavaScript enabled to
  view it.</span><script type='text/javascript'>
				document.getElementById('cl
 oak36cc0ce3ce7808f4fa74e3f528701c58').innerHTML = ''\;
				var prefix = '&#109\
 ;a' + 'i&#108\;' + '&#116\;o'\;
				var path = 'hr' + 'ef' + '='\;
				var addy36cc0
 ce3ce7808f4fa74e3f528701c58 = 'jmphys&#105\;&#111\;.p&#105\;l&#97\;t&#101\
 ;s' + '&#64\;'\;
				addy36cc0ce3ce7808f4fa74e3f528701c58 = addy36cc0ce3ce7808f
 4fa74e3f528701c58 + 'gm&#97\;&#105\;l' + '&#46\;' + 'c&#111\;m'\;
				var addy_
 text36cc0ce3ce7808f4fa74e3f528701c58 = 'jmphys&#105\;&#111\;.p&#105\;l&#97
 \;t&#101\;s' + '&#64\;' + 'gm&#97\;&#105\;l' + '&#46\;' + 'c&#111\;m'\;doc
 ument.getElementById('cloak36cc0ce3ce7808f4fa74e3f528701c58').innerHTML +=
  '<a ' + path + '\'' + prefix + ':' + addy36cc0ce3ce7808f4fa74e3f528701c58
  + '\'>'+addy_text36cc0ce3ce7808f4fa74e3f528701c58+'<\/a>'\;
		</script></div
 >\n<p><span style='color: #212121\; font-family: wf_segoe-ui_normal\, 'Seg
 oe UI'\, 'Segoe WP'\, Tahoma\, Arial\, sans-serif\, serif\, EmojiFont\; fo
 nt-size: 15px\; background-color: #ffffff\;'>&nbsp\;</span></p>\n<div styl
 e='color: #212121\; font-family: wf_segoe-ui_normal\, 'Segoe UI'\, 'Segoe 
 WP'\, Tahoma\, Arial\, sans-serif\, serif\, EmojiFont\; font-size: 15px\; 
 background-color: #ffffff\;' dir='auto'>Tel 07427647997</div>\n<p><span st
 yle='color: #212121\; font-family: wf_segoe-ui_normal\, 'Segoe UI'\, 'Sego
 e WP'\, Tahoma\, Arial\, sans-serif\, serif\, EmojiFont\; font-size: 15px\
 ; background-color: #ffffff\;'>&nbsp\;</span></p>
DTSTART;TZID=Europe/London:20180110T103000
DTEND;TZID=Europe/London:20180110T123000
RRULE:FREQ=WEEKLY;COUNT=40;INTERVAL=1;BYDAY=WE
SUMMARY:Pilates
URL:https://olvestonparishhall.co.uk/index.php/add-new-event/34-public-even
 t/5883-pilates
X-ALT-DESC;FMTTYPE=TEXT/HTML:<p>Contact Jo McMeechan</p>\n<p><span style='c
 olor: #212121\; font-family: wf_segoe-ui_normal\, 'Segoe UI'\, 'Segoe WP'\
 , Tahoma\, Arial\, sans-serif\, serif\, EmojiFont\; font-size: 15px\; back
 ground-color: #ffffff\;'>'A gentle and invigorating Pilates&nbsp\;class ru
 n by a qualified Physiotherapist. Ideal for those looking&nbsp\;to conditi
 on\, stabilise and retrain the core\, enhancing fitness and wellbeing. ??6
  for pay as you go classes or purchase a Class Pass at ??30 for&nbsp\;6 cl
 asses.'</span></p>\n<div style='color: #212121\; font-family: wf_segoe-ui_
 normal\, 'Segoe UI'\, 'Segoe WP'\, Tahoma\, Arial\, sans-serif\, serif\, E
 mojiFont\; font-size: 15px\; background-color: #ffffff\;' dir='auto'>Email
 &nbsp\;<span id='cloakab9d100bf87173add859760e46dda1c3'>This email address
  is being protected from spambots. You need JavaScript enabled to view it.
 </span><script type='text/javascript'>
				document.getElementById('cloakab9d10
 0bf87173add859760e46dda1c3').innerHTML = ''\;
				var prefix = '&#109\;a' + 'i&
 #108\;' + '&#116\;o'\;
				var path = 'hr' + 'ef' + '='\;
				var addyab9d100bf87173
 add859760e46dda1c3 = 'jmphys&#105\;&#111\;.p&#105\;l&#97\;t&#101\;s' + '&#
 64\;'\;
				addyab9d100bf87173add859760e46dda1c3 = addyab9d100bf87173add859760e
 46dda1c3 + 'gm&#97\;&#105\;l' + '&#46\;' + 'c&#111\;m'\;
				var addy_textab9d1
 00bf87173add859760e46dda1c3 = '&nbsp\;'\;document.getElementById('cloakab9
 d100bf87173add859760e46dda1c3').innerHTML += '<a ' + path + '\'' + prefix 
 + ':' + addyab9d100bf87173add859760e46dda1c3 + '\' rel='noopener noreferre
 r' target='_blank' data-auth='NotApplicable'>'+addy_textab9d100bf87173add8
 59760e46dda1c3+'<\/a>'\;
		</script><span id='cloak36cc0ce3ce7808f4fa74e3f528
 701c58'>This email address is being protected from spambots. You need Java
 Script enabled to view it.</span><script type='text/javascript'>
				document.g
 etElementById('cloak36cc0ce3ce7808f4fa74e3f528701c58').innerHTML = ''\;
				var
  prefix = '&#109\;a' + 'i&#108\;' + '&#116\;o'\;
				var path = 'hr' + 'ef' + '
 ='\;
				var addy36cc0ce3ce7808f4fa74e3f528701c58 = 'jmphys&#105\;&#111\;.p&#10
 5\;l&#97\;t&#101\;s' + '&#64\;'\;
				addy36cc0ce3ce7808f4fa74e3f528701c58 = ad
 dy36cc0ce3ce7808f4fa74e3f528701c58 + 'gm&#97\;&#105\;l' + '&#46\;' + 'c&#1
 11\;m'\;
				var addy_text36cc0ce3ce7808f4fa74e3f528701c58 = 'jmphys&#105\;&#11
 1\;.p&#105\;l&#97\;t&#101\;s' + '&#64\;' + 'gm&#97\;&#105\;l' + '&#46\;' +
  'c&#111\;m'\;document.getElementById('cloak36cc0ce3ce7808f4fa74e3f528701c
 58').innerHTML += '<a ' + path + '\'' + prefix + ':' + addy36cc0ce3ce7808f
 4fa74e3f528701c58 + '\'>'+addy_text36cc0ce3ce7808f4fa74e3f528701c58+'<\/a>
 '\;
		</script></div>\n<p><span style='color: #212121\; font-family: wf_segoe
 -ui_normal\, 'Segoe UI'\, 'Segoe WP'\, Tahoma\, Arial\, sans-serif\, serif
 \, EmojiFont\; font-size: 15px\; background-color: #ffffff\;'>&nbsp\;</spa
 n></p>\n<div style='color: #212121\; font-family: wf_segoe-ui_normal\, 'Se
 goe UI'\, 'Segoe WP'\, Tahoma\, Arial\, sans-serif\, serif\, EmojiFont\; f
 ont-size: 15px\; background-color: #ffffff\;' dir='auto'>Tel 07427647997</
 div>\n<p><span style='color: #212121\; font-family: wf_segoe-ui_normal\, '
 Segoe UI'\, 'Segoe WP'\, Tahoma\, Arial\, sans-serif\, serif\, EmojiFont\;
  font-size: 15px\; background-color: #ffffff\;'>&nbsp\;</span></p>
END:VEVENT
BEGIN:VEVENT
UID:20170310T210000UTC-ff97ce@http://www.olvestonparishhall.co.uk/
DTSTAMP:20260424T235412Z
CATEGORIES:Private Event
DESCRIPTION:<p>Private</p>
DTSTART;TZID=Europe/London:20170310T170000
DTEND;TZID=Europe/London:20170310T220000
RRULE:FREQ=WEEKLY;UNTIL=20181228T000000Z;INTERVAL=1;BYDAY=FR
SUMMARY:Dance Lessons
URL:https://olvestonparishhall.co.uk/index.php/add-new-event/35-private-eve
 nt/4731-dance-lessons
X-ALT-DESC;FMTTYPE=TEXT/HTML:<p>Private</p>
END:VEVENT
BEGIN:VEVENT
UID:20180908T090000UTC-9ad9ab@http://www.olvestonparishhall.co.uk/
DTSTAMP:20260424T235412Z
CATEGORIES:Childrens Party - special 3 hour rate
DESCRIPTION:<p>Party</p>
DTSTART;TZID=Europe/London:20180908T100000
DTEND;TZID=Europe/London:20180908T140000
SUMMARY:kids party
URL:https://olvestonparishhall.co.uk/index.php/add-new-event/42-childrens-p
 arty/7386-kids-party
X-ALT-DESC;FMTTYPE=TEXT/HTML:<p>Party</p>
END:VEVENT
BEGIN:VEVENT
UID:20180908T190000UTC-f620e1@http://www.olvestonparishhall.co.uk/
DTSTAMP:20260424T235412Z
CATEGORIES:Private Event
DESCRIPTION:<p>TBC</p>
DTSTART;TZID=Europe/London:20180908T140000
DTEND;TZID=Europe/London:20180908T210000
SUMMARY:W I Centenary
URL:https://olvestonparishhall.co.uk/index.php/add-new-event/35-private-eve
 nt/3861-w-i-centenary
X-ALT-DESC;FMTTYPE=TEXT/HTML:<p>TBC</p>
END:VEVENT
BEGIN:VEVENT
UID:20180909T140000UTC-f3e81b@http://www.olvestonparishhall.co.uk/
DTSTAMP:20260424T235412Z
CATEGORIES:Private Event
DESCRIPTION:<p>party</p>
DTSTART;TZID=Europe/London:20180909T150000
DTEND;TZID=Europe/London:20180909T180000
SUMMARY:kids party
URL:https://olvestonparishhall.co.uk/index.php/add-new-event/35-private-eve
 nt/6738-kids-party
X-ALT-DESC;FMTTYPE=TEXT/HTML:<p>party</p>
END:VEVENT
BEGIN:VEVENT
UID:20180909T140000UTC-35fb24@http://www.olvestonparishhall.co.uk/
DTSTAMP:20260424T235412Z
CATEGORIES:Private Event
DESCRIPTION:<p>party</p>
DTSTART;TZID=Europe/London:20180909T150000
DTEND;TZID=Europe/London:20180909T180000
SUMMARY:kids party
URL:https://olvestonparishhall.co.uk/index.php/add-new-event/35-private-eve
 nt/6739-kids-party
X-ALT-DESC;FMTTYPE=TEXT/HTML:<p>party</p>
END:VEVENT
BEGIN:VEVENT
UID:20180912T090000UTC-be2d23@http://www.olvestonparishhall.co.uk/
DTSTAMP:20260424T235412Z
CATEGORIES:Private Event
DESCRIPTION:<p>Lucnh</p>
DTSTART;TZID=Europe/London:20180912T100000
DTEND;TZID=Europe/London:20180912T160000
SUMMARY:u3a leaders lunch
URL:https://olvestonparishhall.co.uk/index.php/add-new-event/35-private-eve
 nt/6755-u3a-leaders-lunch
X-ALT-DESC;FMTTYPE=TEXT/HTML:<p>Lucnh</p>
END:VEVENT
BEGIN:VEVENT
UID:20180913T110000UTC-2e3783@http://www.olvestonparishhall.co.uk/
DTSTAMP:20260424T235412Z
CATEGORIES:Public Event
DESCRIPTION:<p>Are you interested in fostering\, but aren't sure what's inv
 olved? Then come along to our information evening to chat with our fosteri
 ng team and find out lots of helpful information about this rewarding role
 . Date: Thursday 13th September 2018 Time: 7pm - 9pm There is a short pres
 entation from the fostering team to provide you with information on: &nbsp
 \; - The different types of fostering &nbsp\; - The assessment process &nb
 sp\; - The support and training you will receive Followed by an open quest
 ion and answer session and then the opportunity to speak to the team and o
 ur foster carers individually.&nbsp\; Becoming a foster carer is a serious
  decision that impacts on your family and we recommend that family members
  (over the age of 12) also attend the information evening.&nbsp\; At the m
 oment there are not enough foster carers in South Gloucestershire to ensur
 e each child and young person can be placed within their community close t
 o their school\, family and friends.&nbsp\; We want to change this by maki
 ng sure every child has the chance to be looked after by local foster care
 rs who can support a child or young person at such a critical time in thei
 r lives.&nbsp\; We look forward to seeing you there! &nbsp\; &nbsp\; &nbsp
 \;</p>
DTSTART;TZID=Europe/London:20180913T120000
DTEND;TZID=Europe/London:20180913T130000
SUMMARY:Fostering Information Evening
URL:https://olvestonparishhall.co.uk/index.php/add-new-event/34-public-even
 t/6699-fostering-information-evening
X-ALT-DESC;FMTTYPE=TEXT/HTML:<p>Are you interested in fostering\, but aren'
 t sure what's involved? Then come along to our information evening to chat
  with our fostering team and find out lots of helpful information about th
 is rewarding role. Date: Thursday 13th September 2018 Time: 7pm - 9pm Ther
 e is a short presentation from the fostering team to provide you with info
 rmation on: &nbsp\; - The different types of fostering &nbsp\; - The asses
 sment process &nbsp\; - The support and training you will receive Followed
  by an open question and answer session and then the opportunity to speak 
 to the team and our foster carers individually.&nbsp\; Becoming a foster c
 arer is a serious decision that impacts on your family and we recommend th
 at family members (over the age of 12) also attend the information evening
 .&nbsp\; At the moment there are not enough foster carers in South Glouces
 tershire to ensure each child and young person can be placed within their 
 community close to their school\, family and friends.&nbsp\; We want to ch
 ange this by making sure every child has the chance to be looked after by 
 local foster carers who can support a child or young person at such a crit
 ical time in their lives.&nbsp\; We look forward to seeing you there! &nbs
 p\; &nbsp\; &nbsp\;</p>
END:VEVENT
BEGIN:VEVENT
UID:20180915T140000UTC-7c7b23@http://www.olvestonparishhall.co.uk/
DTSTAMP:20260424T235412Z
CATEGORIES:Private Event
DESCRIPTION:<p>Square dance</p>
DTSTART;TZID=Europe/London:20180915T150000
DTEND;TZID=Europe/London:20180915T170000
SUMMARY:Square Dance
URL:https://olvestonparishhall.co.uk/index.php/add-new-event/35-private-eve
 nt/7339-square-dance
X-ALT-DESC;FMTTYPE=TEXT/HTML:<p>Square dance</p>
END:VEVENT
BEGIN:VEVENT
UID:20180920T081500UTC-7354a5@http://www.olvestonparishhall.co.uk/
DTSTAMP:20260424T235412Z
CATEGORIES:Private Event
DESCRIPTION:<p>Baby Ballet</p>
DTSTART;TZID=Europe/London:20180920T091500
DTEND;TZID=Europe/London:20180920T104500
RRULE:FREQ=WEEKLY;COUNT=25;INTERVAL=1;BYDAY=TH,FR
SUMMARY:Baby Ballet
URL:https://olvestonparishhall.co.uk/index.php/add-new-event/35-private-eve
 nt/7388-baby-ballet
X-ALT-DESC;FMTTYPE=TEXT/HTML:<p>Baby Ballet</p>
END:VEVENT
BEGIN:VEVENT
UID:20180922T090000UTC-d9e3f6@http://www.olvestonparishhall.co.uk/
DTSTAMP:20260424T235412Z
CATEGORIES:Private Event
DESCRIPTION:Private event
DTSTART;TZID=Europe/London:20180922T100000
DTEND;TZID=Europe/London:20180922T140000
SUMMARY:Children's Party
URL:https://olvestonparishhall.co.uk/index.php/add-new-event/35-private-eve
 nt/6754-children-s-party
X-ALT-DESC;FMTTYPE=TEXT/HTML:Private event
END:VEVENT
BEGIN:VEVENT
UID:20180922T150000UTC-c77226@http://www.olvestonparishhall.co.uk/
DTSTAMP:20260424T235412Z
CATEGORIES:Private Event
DESCRIPTION:<p>p</p>
DTSTART;TZID=Europe/London:20180922T160000
DTEND;TZID=Europe/London:20180922T230000
SUMMARY:Private Event
URL:https://olvestonparishhall.co.uk/index.php/add-new-event/35-private-eve
 nt/6147-private-event
X-ALT-DESC;FMTTYPE=TEXT/HTML:<p>p</p>
END:VEVENT
BEGIN:VEVENT
UID:20180924T183000UTC-97bd0f@http://www.olvestonparishhall.co.uk/
DTSTAMP:20260424T235412Z
CATEGORIES:Private Event
DESCRIPTION:<p>Sound of Music Rehearsals</p>
DTSTART;TZID=Europe/London:20180924T193000
DTEND;TZID=Europe/London:20180924T220000
RRULE:FREQ=WEEKLY;UNTIL=20190221T000000Z;INTERVAL=1;BYDAY=MO,TH
SUMMARY:Parish Players Rehearsal
URL:https://olvestonparishhall.co.uk/index.php/add-new-event/35-private-eve
 nt/7342-parish-players-rehearsal
X-ALT-DESC;FMTTYPE=TEXT/HTML:<p>Sound of Music Rehearsals</p>
END:VEVENT
BEGIN:VEVENT
UID:20180927T093000UTC-012e33@http://www.olvestonparishhall.co.uk/
DTSTAMP:20260424T235412Z
CATEGORIES:Private Event
DESCRIPTION:<p>private event</p>
DTSTART;TZID=Europe/London:20180927T110000
DTEND;TZID=Europe/London:20180927T120000
SUMMARY:dance practice
URL:https://olvestonparishhall.co.uk/index.php/add-new-event/35-private-eve
 nt/7385-dance-practice
X-ALT-DESC;FMTTYPE=TEXT/HTML:<p>private event</p>
END:VEVENT
BEGIN:VEVENT
UID:20180927T100000UTC-c4a4a1@http://www.olvestonparishhall.co.uk/
DTSTAMP:20260424T235412Z
CATEGORIES:Private Event
DESCRIPTION:<p>Dance</p>
DTSTART;TZID=Europe/London:20180927T110000
DTEND;TZID=Europe/London:20180927T120000
SUMMARY:Dance Practice
URL:https://olvestonparishhall.co.uk/index.php/add-new-event/35-private-eve
 nt/7392-dance-practice
X-ALT-DESC;FMTTYPE=TEXT/HTML:<p>Dance</p>
END:VEVENT
BEGIN:VEVENT
UID:20180929T160000UTC-be2225@http://www.olvestonparishhall.co.uk/
DTSTAMP:20260424T235412Z
CATEGORIES:Public Event
DESCRIPTION:<p>HArvest Supper</p>
DTSTART;TZID=Europe/London:20180929T170000
DTEND;TZID=Europe/London:20180929T220000
SUMMARY:Harvest Supper
URL:https://olvestonparishhall.co.uk/index.php/add-new-event/34-public-even
 t/6750-harvest-supper
X-ALT-DESC;FMTTYPE=TEXT/HTML:<p>HArvest Supper</p>
END:VEVENT
BEGIN:VEVENT
UID:20180930T100000UTC-c79348@http://www.olvestonparishhall.co.uk/
DTSTAMP:20260424T235412Z
CATEGORIES:Childrens Party - special 3 hour rate
DESCRIPTION:<p>kids&nbsp\;</p>
DTSTART;TZID=Europe/London:20180930T110000
DTEND;TZID=Europe/London:20180930T140000
SUMMARY:kids party
URL:https://olvestonparishhall.co.uk/index.php/add-new-event/42-childrens-p
 arty/7387-kids-party
X-ALT-DESC;FMTTYPE=TEXT/HTML:<p>kids&nbsp\;</p>
END:VEVENT
BEGIN:VEVENT
UID:20180930T140000UTC-2fa8f6@http://www.olvestonparishhall.co.uk/
DTSTAMP:20260424T235412Z
CATEGORIES:Childrens Party - special 3 hour rate
DESCRIPTION:<p>Kids</p>
DTSTART;TZID=Europe/London:20180930T150000
DTEND;TZID=Europe/London:20180930T180000
SUMMARY:kids party
URL:https://olvestonparishhall.co.uk/index.php/add-new-event/42-childrens-p
 arty/6753-kids-party
X-ALT-DESC;FMTTYPE=TEXT/HTML:<p>Kids</p>
END:VEVENT
END:VCALENDAR
