BEGIN:VCALENDAR
VERSION:2.0
PRODID:-//https://olvestonparishhall.co.uk//NONSGML kigkonsult.se iCalcreat
 or 2.29.29//
CALSCALE:GREGORIAN
METHOD:PUBLISH
UID:3b372fbc-bb7f-407b-ba99-636f58fec6c3
X-WR-CALNAME:JCal Pro Calendar
X-WR-CALDESC:Your online events calendar
X-WR-TIMEZONE:Europe/London
BEGIN:VTIMEZONE
TZID:Europe/London
BEGIN:STANDARD
TZNAME:GMT
DTSTART:20251026T020000
TZOFFSETFROM:+0100
TZOFFSETTO:+0000
RDATE:20261025T020000
END:STANDARD
BEGIN:DAYLIGHT
TZNAME:BST
DTSTART:20260329T010000
TZOFFSETFROM:+0000
TZOFFSETTO:+0100
RDATE:20270328T010000
END:DAYLIGHT
END:VTIMEZONE
BEGIN:VEVENT
UID:20150507T101500UTC-e8ca80@http://www.olvestonparishhall.co.uk/
DTSTAMP:20260425T011600Z
CATEGORIES:Public Event
DESCRIPTION:<p>General\, District and Parish Elections</p>\n<p>7am-10pm</p>
DTSTART;TZID=Europe/London:20150507T000000
DTEND;TZID=Europe/London:20150507T235959
SUMMARY:General Election
URL:https://olvestonparishhall.co.uk/index.php/add-new-event/34-public-even
 t/1551-general-election
X-ALT-DESC;FMTTYPE=TEXT/HTML:<p>General\, District and Parish Elections</p>
 \n<p>7am-10pm</p>
END:VEVENT
BEGIN:VEVENT
UID:20150911T133000UTC-196f83@http://www.olvestonparishhall.co.uk/
DTSTAMP:20260425T011600Z
CATEGORIES:Public Event
DESCRIPTION:<p>Contact Claire&nbsp\;<span id='cloak9d59a65ce519b6851bd7bdf9
 76b1677b'>This email address is being protected from spambots. You need Ja
 vaScript enabled to view it.</span><script type='text/javascript'>\n				docume
 nt.getElementById('cloak9d59a65ce519b6851bd7bdf976b1677b').innerHTML = ''\
 ;\n				var prefix = '&#109\;a' + 'i&#108\;' + '&#116\;o'\;\n				var path = 'hr' + 
 'ef' + '='\;\n				var addy9d59a65ce519b6851bd7bdf976b1677b = 'br&#97\;dl&#101\
 ;yst&#111\;k&#101\;' + '&#64\;'\;\n				addy9d59a65ce519b6851bd7bdf976b1677b = 
 addy9d59a65ce519b6851bd7bdf976b1677b + 'b&#97\;byb&#97\;ll&#101\;t' + '&#4
 6\;' + 'c&#111\;' + '&#46\;' + '&#117\;k'\;\n				var addy_text9d59a65ce519b685
 1bd7bdf976b1677b = '&nbsp\;'\;document.getElementById('cloak9d59a65ce519b6
 851bd7bdf976b1677b').innerHTML += '<a ' + path + '\'' + prefix + ':' + add
 y9d59a65ce519b6851bd7bdf976b1677b + '\'>'+addy_text9d59a65ce519b6851bd7bdf
 976b1677b+'<\/a>'\;\n		</script><span id='cloak3717d18ef53f2d4aef0e5be632f29
 adf'>This email address is being protected from spambots. You need JavaScr
 ipt enabled to view it.</span><script type='text/javascript'>\n				document.ge
 tElementById('cloak3717d18ef53f2d4aef0e5be632f29adf').innerHTML = ''\;\n				va
 r prefix = '&#109\;a' + 'i&#108\;' + '&#116\;o'\;\n				var path = 'hr' + 'ef' 
 + '='\;\n				var addy3717d18ef53f2d4aef0e5be632f29adf = 'br&#97\;dl&#101\;yst&
 #111\;k&#101\;' + '&#64\;'\;\n				addy3717d18ef53f2d4aef0e5be632f29adf = addy3
 717d18ef53f2d4aef0e5be632f29adf + 'b&#97\;byb&#97\;ll&#101\;t' + '&#46\;' 
 + 'c&#111\;' + '&#46\;' + '&#117\;k'\;\n				var addy_text3717d18ef53f2d4aef0e5
 be632f29adf = 'br&#97\;dl&#101\;yst&#111\;k&#101\;' + '&#64\;' + 'b&#97\;b
 yb&#97\;ll&#101\;t' + '&#46\;' + 'c&#111\;' + '&#46\;' + '&#117\;k'\;docum
 ent.getElementById('cloak3717d18ef53f2d4aef0e5be632f29adf').innerHTML += '
 <a ' + path + '\'' + prefix + ':' + addy3717d18ef53f2d4aef0e5be632f29adf +
  '\'>'+addy_text3717d18ef53f2d4aef0e5be632f29adf+'<\/a>'\;\n		</script></p>
DTSTART;TZID=Europe/London:20150911T143000
DTEND;TZID=Europe/London:20150911T163000
RRULE:FREQ=WEEKLY;UNTIL=20160721T230000Z;INTERVAL=1;BYDAY=FR
SUMMARY:Baby Ballet
URL:https://olvestonparishhall.co.uk/index.php/add-new-event/34-public-even
 t/2913-baby-ballet
X-ALT-DESC;FMTTYPE=TEXT/HTML:<p>Contact Claire&nbsp\;<span id='cloak9d59a65
 ce519b6851bd7bdf976b1677b'>This email address is being protected from spam
 bots. You need JavaScript enabled to view it.</span><script type='text/jav
 ascript'>\n				document.getElementById('cloak9d59a65ce519b6851bd7bdf976b1677b'
 ).innerHTML = ''\;\n				var prefix = '&#109\;a' + 'i&#108\;' + '&#116\;o'\;\n				v
 ar path = 'hr' + 'ef' + '='\;\n				var addy9d59a65ce519b6851bd7bdf976b1677b = 
 'br&#97\;dl&#101\;yst&#111\;k&#101\;' + '&#64\;'\;\n				addy9d59a65ce519b6851b
 d7bdf976b1677b = addy9d59a65ce519b6851bd7bdf976b1677b + 'b&#97\;byb&#97\;l
 l&#101\;t' + '&#46\;' + 'c&#111\;' + '&#46\;' + '&#117\;k'\;\n				var addy_tex
 t9d59a65ce519b6851bd7bdf976b1677b = '&nbsp\;'\;document.getElementById('cl
 oak9d59a65ce519b6851bd7bdf976b1677b').innerHTML += '<a ' + path + '\'' + p
 refix + ':' + addy9d59a65ce519b6851bd7bdf976b1677b + '\'>'+addy_text9d59a6
 5ce519b6851bd7bdf976b1677b+'<\/a>'\;\n		</script><span id='cloak3717d18ef53f
 2d4aef0e5be632f29adf'>This email address is being protected from spambots.
  You need JavaScript enabled to view it.</span><script type='text/javascri
 pt'>\n				document.getElementById('cloak3717d18ef53f2d4aef0e5be632f29adf').inn
 erHTML = ''\;\n				var prefix = '&#109\;a' + 'i&#108\;' + '&#116\;o'\;\n				var pa
 th = 'hr' + 'ef' + '='\;\n				var addy3717d18ef53f2d4aef0e5be632f29adf = 'br&#
 97\;dl&#101\;yst&#111\;k&#101\;' + '&#64\;'\;\n				addy3717d18ef53f2d4aef0e5be
 632f29adf = addy3717d18ef53f2d4aef0e5be632f29adf + 'b&#97\;byb&#97\;ll&#10
 1\;t' + '&#46\;' + 'c&#111\;' + '&#46\;' + '&#117\;k'\;\n				var addy_text3717
 d18ef53f2d4aef0e5be632f29adf = 'br&#97\;dl&#101\;yst&#111\;k&#101\;' + '&#
 64\;' + 'b&#97\;byb&#97\;ll&#101\;t' + '&#46\;' + 'c&#111\;' + '&#46\;' + 
 '&#117\;k'\;document.getElementById('cloak3717d18ef53f2d4aef0e5be632f29adf
 ').innerHTML += '<a ' + path + '\'' + prefix + ':' + addy3717d18ef53f2d4ae
 f0e5be632f29adf + '\'>'+addy_text3717d18ef53f2d4aef0e5be632f29adf+'<\/a>'\
 ;\n		</script></p>
END:VEVENT
BEGIN:VEVENT
UID:20150912T130000UTC-cf0009@http://www.olvestonparishhall.co.uk/
DTSTAMP:20260425T011600Z
CATEGORIES:Private Event
DESCRIPTION:<p>Baby Ballet</p>\n<p>Dance Class and Movement class from 6 Mo
 nths to 6 Years</p>\n<p>Contact <span id='cloakcb15ed235450228f52b6a5bb4dd
 5c9ba'>This email address is being protected from spambots. You need JavaS
 cript enabled to view it.</span><script type='text/javascript'>
				document.ge
 tElementById('cloakcb15ed235450228f52b6a5bb4dd5c9ba').innerHTML = ''\;
				var 
 prefix = '&#109\;a' + 'i&#108\;' + '&#116\;o'\;
				var path = 'hr' + 'ef' + '=
 '\;
				var addycb15ed235450228f52b6a5bb4dd5c9ba = 'br&#97\;dl&#101\;yst&#111\;
 k&#101\;' + '&#64\;'\;
				addycb15ed235450228f52b6a5bb4dd5c9ba = addycb15ed235
 450228f52b6a5bb4dd5c9ba + 'b&#97\;byb&#97\;ll&#101\;t' + '&#46\;' + 'c&#11
 1\;' + '&#46\;' + '&#117\;k'\;
				var addy_textcb15ed235450228f52b6a5bb4dd5c9b
 a = 'br&#97\;dl&#101\;yst&#111\;k&#101\;' + '&#64\;' + 'b&#97\;byb&#97\;ll
 &#101\;t' + '&#46\;' + 'c&#111\;' + '&#46\;' + '&#117\;k'\;document.getEle
 mentById('cloakcb15ed235450228f52b6a5bb4dd5c9ba').innerHTML += '<a ' + pat
 h + '\'' + prefix + ':' + addycb15ed235450228f52b6a5bb4dd5c9ba + '\'>'+add
 y_textcb15ed235450228f52b6a5bb4dd5c9ba+'<\/a>'\;
		</script></p>
DTSTART;TZID=Europe/London:20150912T140000
DTEND;TZID=Europe/London:20150912T171500
RRULE:FREQ=WEEKLY;UNTIL=20171219T000000Z;INTERVAL=1;BYDAY=SA
SUMMARY:Baby Ballet
URL:https://olvestonparishhall.co.uk/index.php/add-new-event/35-private-eve
 nt/2952-baby-ballet
X-ALT-DESC;FMTTYPE=TEXT/HTML:<p>Baby Ballet</p>\n<p>Dance Class and Movemen
 t class from 6 Months to 6 Years</p>\n<p>Contact <span id='cloakcb15ed2354
 50228f52b6a5bb4dd5c9ba'>This email address is being protected from spambot
 s. You need JavaScript enabled to view it.</span><script type='text/javasc
 ript'>
				document.getElementById('cloakcb15ed235450228f52b6a5bb4dd5c9ba').inn
 erHTML = ''\;
				var prefix = '&#109\;a' + 'i&#108\;' + '&#116\;o'\;
				var path =
  'hr' + 'ef' + '='\;
				var addycb15ed235450228f52b6a5bb4dd5c9ba = 'br&#97\;dl
 &#101\;yst&#111\;k&#101\;' + '&#64\;'\;
				addycb15ed235450228f52b6a5bb4dd5c9b
 a = addycb15ed235450228f52b6a5bb4dd5c9ba + 'b&#97\;byb&#97\;ll&#101\;t' + 
 '&#46\;' + 'c&#111\;' + '&#46\;' + '&#117\;k'\;
				var addy_textcb15ed23545022
 8f52b6a5bb4dd5c9ba = 'br&#97\;dl&#101\;yst&#111\;k&#101\;' + '&#64\;' + 'b
 &#97\;byb&#97\;ll&#101\;t' + '&#46\;' + 'c&#111\;' + '&#46\;' + '&#117\;k'
 \;document.getElementById('cloakcb15ed235450228f52b6a5bb4dd5c9ba').innerHT
 ML += '<a ' + path + '\'' + prefix + ':' + addycb15ed235450228f52b6a5bb4dd
 5c9ba + '\'>'+addy_textcb15ed235450228f52b6a5bb4dd5c9ba+'<\/a>'\;
		</script>
 </p>
END:VEVENT
BEGIN:VEVENT
UID:20160402T190000UTC-c5291b@http://www.olvestonparishhall.co.uk/
DTSTAMP:20260425T011600Z
CATEGORIES:Private Event
DESCRIPTION:<p>Private</p>
DTSTART;TZID=Europe/London:20160402T200000
DTEND;TZID=Europe/London:20160403T050000
SUMMARY:8Oth Party
URL:https://olvestonparishhall.co.uk/index.php/add-new-event/35-private-eve
 nt/3613-8oth-party
X-ALT-DESC;FMTTYPE=TEXT/HTML:<p>Private</p>
END:VEVENT
BEGIN:VEVENT
UID:20160403T130000UTC-385f81@http://www.olvestonparishhall.co.uk/
DTSTAMP:20260425T011600Z
CATEGORIES:Private Event
DESCRIPTION:<p>Private</p>
DTSTART;TZID=Europe/London:20160403T140000
DTEND;TZID=Europe/London:20160403T150000
SUMMARY:Tidy Up post party
URL:https://olvestonparishhall.co.uk/index.php/add-new-event/35-private-eve
 nt/3614-tidy-up-post-party
X-ALT-DESC;FMTTYPE=TEXT/HTML:<p>Private</p>
END:VEVENT
BEGIN:VEVENT
UID:20150105T150000UTC-ba7f10@http://www.olvestonparishhall.co.uk/
DTSTAMP:20260425T011600Z
CATEGORIES:Private Event
DESCRIPTION:<p>Table Tennis</p>
DTSTART;TZID=Europe/London:20150105T110000
DTEND;TZID=Europe/London:20150105T120000
RRULE:FREQ=WEEKLY;UNTIL=20210222T000000Z;INTERVAL=1;BYDAY=MO
SUMMARY:Table Tennis
URL:https://olvestonparishhall.co.uk/index.php/add-new-event/35-private-eve
 nt/1709-table-tennis
X-ALT-DESC;FMTTYPE=TEXT/HTML:<p>Table Tennis</p>
END:VEVENT
BEGIN:VEVENT
UID:20150907T174500UTC-df9150@http://www.olvestonparishhall.co.uk/
DTSTAMP:20260425T011600Z
CATEGORIES:Public Event
DESCRIPTION:<p>Contact Claire <span id='cloakc77fad7654da92314748a01d4dbe58
 0d'>This email address is being protected from spambots. You need JavaScri
 pt enabled to view it.</span><script type='text/javascript'>\n				document.get
 ElementById('cloakc77fad7654da92314748a01d4dbe580d').innerHTML = ''\;\n				var
  prefix = '&#109\;a' + 'i&#108\;' + '&#116\;o'\;\n				var path = 'hr' + 'ef' +
  '='\;\n				var addyc77fad7654da92314748a01d4dbe580d = 'br&#97\;dl&#101\;yst&#
 111\;k&#101\;' + '&#64\;'\;\n				addyc77fad7654da92314748a01d4dbe580d = addyc7
 7fad7654da92314748a01d4dbe580d + 'b&#97\;byb&#97\;ll&#101\;t' + '&#46\;' +
  'c&#111\;' + '&#46\;' + '&#117\;k'\;\n				var addy_textc77fad7654da92314748a0
 1d4dbe580d = 'br&#97\;dl&#101\;yst&#111\;k&#101\;' + '&#64\;' + 'b&#97\;by
 b&#97\;ll&#101\;t' + '&#46\;' + 'c&#111\;' + '&#46\;' + '&#117\;k'\;docume
 nt.getElementById('cloakc77fad7654da92314748a01d4dbe580d').innerHTML += '<
 a ' + path + '\'' + prefix + ':' + addyc77fad7654da92314748a01d4dbe580d + 
 '\'>'+addy_textc77fad7654da92314748a01d4dbe580d+'<\/a>'\;\n		</script></p>
DTSTART;TZID=Europe/London:20150907T184500
DTEND;TZID=Europe/London:20150907T210000
RRULE:FREQ=WEEKLY;UNTIL=20160724T230000Z;INTERVAL=1;BYDAY=MO
SUMMARY:Baby Ballet
URL:https://olvestonparishhall.co.uk/index.php/add-new-event/34-public-even
 t/2898-baby-ballet
X-ALT-DESC;FMTTYPE=TEXT/HTML:<p>Contact Claire <span id='cloakc77fad7654da9
 2314748a01d4dbe580d'>This email address is being protected from spambots. 
 You need JavaScript enabled to view it.</span><script type='text/javascrip
 t'>\n				document.getElementById('cloakc77fad7654da92314748a01d4dbe580d').inne
 rHTML = ''\;\n				var prefix = '&#109\;a' + 'i&#108\;' + '&#116\;o'\;\n				var pat
 h = 'hr' + 'ef' + '='\;\n				var addyc77fad7654da92314748a01d4dbe580d = 'br&#9
 7\;dl&#101\;yst&#111\;k&#101\;' + '&#64\;'\;\n				addyc77fad7654da92314748a01d
 4dbe580d = addyc77fad7654da92314748a01d4dbe580d + 'b&#97\;byb&#97\;ll&#101
 \;t' + '&#46\;' + 'c&#111\;' + '&#46\;' + '&#117\;k'\;\n				var addy_textc77fa
 d7654da92314748a01d4dbe580d = 'br&#97\;dl&#101\;yst&#111\;k&#101\;' + '&#6
 4\;' + 'b&#97\;byb&#97\;ll&#101\;t' + '&#46\;' + 'c&#111\;' + '&#46\;' + '
 &#117\;k'\;document.getElementById('cloakc77fad7654da92314748a01d4dbe580d'
 ).innerHTML += '<a ' + path + '\'' + prefix + ':' + addyc77fad7654da923147
 48a01d4dbe580d + '\'>'+addy_textc77fad7654da92314748a01d4dbe580d+'<\/a>'\;
 \n		</script></p>
END:VEVENT
BEGIN:VEVENT
UID:20160405T120000UTC-72b05a@http://www.olvestonparishhall.co.uk/
DTSTAMP:20260425T011600Z
CATEGORIES:Private Event
DESCRIPTION:<p>Private</p>
DTSTART;TZID=Europe/London:20160405T130000
DTEND;TZID=Europe/London:20160405T150000
SUMMARY:Baby Ballet Rehearsal
URL:https://olvestonparishhall.co.uk/index.php/add-new-event/35-private-eve
 nt/3615-baby-ballet-rehearsal
X-ALT-DESC;FMTTYPE=TEXT/HTML:<p>Private</p>
END:VEVENT
BEGIN:VEVENT
UID:20160405T150000UTC-bdab89@http://www.olvestonparishhall.co.uk/
DTSTAMP:20260425T011600Z
CATEGORIES:Private Event
DESCRIPTION:<p>PArty</p>
DTSTART;TZID=Europe/London:20160405T160000
DTEND;TZID=Europe/London:20160405T200000
SUMMARY:Christening
URL:https://olvestonparishhall.co.uk/index.php/add-new-event/35-private-eve
 nt/3616-christening
X-ALT-DESC;FMTTYPE=TEXT/HTML:<p>PArty</p>
END:VEVENT
BEGIN:VEVENT
UID:20160120T010000UTC-9e57d6@http://www.olvestonparishhall.co.uk/
DTSTAMP:20260425T011600Z
CATEGORIES:Private Event
DESCRIPTION:<p>Adult Keep Fit. Sue Roberts</p>
DTSTART;TZID=Europe/London:20160120T020000
DTEND;TZID=Europe/London:20160120T030000
RRULE:FREQ=WEEKLY;UNTIL=20161212T000000Z;INTERVAL=1;BYDAY=TU
SUMMARY:Keep Fit
URL:https://olvestonparishhall.co.uk/index.php/add-new-event/35-private-eve
 nt/3450-keep-fit
X-ALT-DESC;FMTTYPE=TEXT/HTML:<p>Adult Keep Fit. Sue Roberts</p>
END:VEVENT
BEGIN:VEVENT
UID:20150326T133000UTC-a140ca@http://www.olvestonparishhall.co.uk/
DTSTAMP:20260425T011600Z
CATEGORIES:Public Event
DESCRIPTION:<p>9:30am - 10:15am &nbsp\;</p>\n<p>babyballet ??&nbsp\;Tinies 
 (18 months to 3 years)</p>\n<p>&nbsp\;</p>\n<p>10:15am &nbsp\;- 11:00am</p
 >\n<p>babyballet?? Movers (3 - 4 years)</p>\n<p>&nbsp\;</p>\n<p>Contact Cl
 aire&nbsp\;<span id='cloak84f5dbe9a6acc846554764a2765f8cd1'>This email add
 ress is being protected from spambots. You need JavaScript enabled to view
  it.</span><script type='text/javascript'>
				document.getElementById('cloak84
 f5dbe9a6acc846554764a2765f8cd1').innerHTML = ''\;
				var prefix = '&#109\;a' +
  'i&#108\;' + '&#116\;o'\;
				var path = 'hr' + 'ef' + '='\;
				var addy84f5dbe9a6
 acc846554764a2765f8cd1 = 'br&#97\;dl&#101\;yst&#111\;k&#101\;' + '&#64\;'\
 ;
				addy84f5dbe9a6acc846554764a2765f8cd1 = addy84f5dbe9a6acc846554764a2765f8c
 d1 + 'b&#97\;byb&#97\;ll&#101\;t' + '&#46\;' + 'c&#111\;' + '&#46\;' + '&#
 117\;k'\;
				var addy_text84f5dbe9a6acc846554764a2765f8cd1 = 'br&#97\;dl&#101\
 ;yst&#111\;k&#101\;' + '&#64\;' + 'b&#97\;byb&#97\;ll&#101\;t' + '&#46\;' 
 + 'c&#111\;' + '&#46\;' + '&#117\;k'\;document.getElementById('cloak84f5db
 e9a6acc846554764a2765f8cd1').innerHTML += '<a ' + path + '\'' + prefix + '
 :' + addy84f5dbe9a6acc846554764a2765f8cd1 + '\'>'+addy_text84f5dbe9a6acc84
 6554764a2765f8cd1+'<\/a>'\;
		</script></p>
DTSTART;TZID=Europe/London:20150226T153000
DTEND;TZID=Europe/London:20150226T170000
RRULE:FREQ=WEEKLY;UNTIL=20160727T230000Z;INTERVAL=1;BYDAY=TH
SUMMARY:Baby Ballet
URL:https://olvestonparishhall.co.uk/index.php/add-new-event/34-public-even
 t/2049-baby-ballet
X-ALT-DESC;FMTTYPE=TEXT/HTML:<p>9:30am - 10:15am &nbsp\;</p>\n<p>babyballet
  ??&nbsp\;Tinies (18 months to 3 years)</p>\n<p>&nbsp\;</p>\n<p>10:15am &n
 bsp\;- 11:00am</p>\n<p>babyballet?? Movers (3 - 4 years)</p>\n<p>&nbsp\;</
 p>\n<p>Contact Claire&nbsp\;<span id='cloak84f5dbe9a6acc846554764a2765f8cd
 1'>This email address is being protected from spambots. You need JavaScrip
 t enabled to view it.</span><script type='text/javascript'>
				document.getEle
 mentById('cloak84f5dbe9a6acc846554764a2765f8cd1').innerHTML = ''\;
				var pref
 ix = '&#109\;a' + 'i&#108\;' + '&#116\;o'\;
				var path = 'hr' + 'ef' + '='\;
				v
 ar addy84f5dbe9a6acc846554764a2765f8cd1 = 'br&#97\;dl&#101\;yst&#111\;k&#1
 01\;' + '&#64\;'\;
				addy84f5dbe9a6acc846554764a2765f8cd1 = addy84f5dbe9a6acc
 846554764a2765f8cd1 + 'b&#97\;byb&#97\;ll&#101\;t' + '&#46\;' + 'c&#111\;'
  + '&#46\;' + '&#117\;k'\;
				var addy_text84f5dbe9a6acc846554764a2765f8cd1 = 
 'br&#97\;dl&#101\;yst&#111\;k&#101\;' + '&#64\;' + 'b&#97\;byb&#97\;ll&#10
 1\;t' + '&#46\;' + 'c&#111\;' + '&#46\;' + '&#117\;k'\;document.getElement
 ById('cloak84f5dbe9a6acc846554764a2765f8cd1').innerHTML += '<a ' + path + 
 '\'' + prefix + ':' + addy84f5dbe9a6acc846554764a2765f8cd1 + '\'>'+addy_te
 xt84f5dbe9a6acc846554764a2765f8cd1+'<\/a>'\;
		</script></p>
END:VEVENT
BEGIN:VEVENT
UID:20160410T170000UTC-d91754@http://www.olvestonparishhall.co.uk/
DTSTAMP:20260425T011600Z
CATEGORIES:Childrens Party - special 3 hour rate
DESCRIPTION:<p>Private event</p>
DTSTART;TZID=Europe/London:20160410T180000
DTEND;TZID=Europe/London:20160410T210000
SUMMARY:vicki simmons
URL:https://olvestonparishhall.co.uk/index.php/add-new-event/42-childrens-p
 arty/3423-vicki-simmons
X-ALT-DESC;FMTTYPE=TEXT/HTML:<p>Private event</p>
END:VEVENT
BEGIN:VEVENT
UID:20160113T003000UTC-10eff1@http://www.olvestonparishhall.co.uk/
DTSTAMP:20260425T011600Z
CATEGORIES:Private Event
DESCRIPTION:<p>W I Meeting</p>
DTSTART;TZID=Europe/London:20160113T013000
DTEND;TZID=Europe/London:20160113T033000
RRULE:FREQ=MONTHLY;UNTIL=20170110T000000Z;INTERVAL=1;BYDAY=TU;BYSETPOS=2
SUMMARY:W.I
URL:https://olvestonparishhall.co.uk/index.php/add-new-event/35-private-eve
 nt/3427-w-i
X-ALT-DESC;FMTTYPE=TEXT/HTML:<p>W I Meeting</p>
END:VEVENT
BEGIN:VEVENT
UID:20160415T220000UTC-006b6f@http://olvestonparishhall.co.uk/
DTSTAMP:20260425T011600Z
CATEGORIES:Public Event
DESCRIPTION:<p>Wine tasting with a difference - organised by Olveston Paris
 h Twinning Association. Starts at 7.30pm.</p>\n<p>The Challenge - all you 
 have to do is to taste the wine and match its characteristics with one of 
 the descriptions on your answer form. If you get enough right you could wi
 n a prize\, but by then who cares?</p>\n<p>Ticket price includes nibbles\,
  cheese\, French bread and a selection wines to taste.</p>\n<p>??14 or ??1
 2 for OPTA members\, available from Noel Clarke on 01454 614099</p>
DTSTART;TZID=Europe/London:20160415T230000
DTEND;TZID=Europe/London:20160416T040000
SUMMARY:The Great Olveston Wine Challenge
URL:https://olvestonparishhall.co.uk/index.php/add-new-event/34-public-even
 t/3071-the-great-olveston-wine-challenge
X-ALT-DESC;FMTTYPE=TEXT/HTML:<p>Wine tasting with a difference - organised 
 by Olveston Parish Twinning Association. Starts at 7.30pm.</p>\n<p>The Cha
 llenge - all you have to do is to taste the wine and match its characteris
 tics with one of the descriptions on your answer form. If you get enough r
 ight you could win a prize\, but by then who cares?</p>\n<p>Ticket price i
 ncludes nibbles\, cheese\, French bread and a selection wines to taste.</p
 >\n<p>??14 or ??12 for OPTA members\, available from Noel Clarke on 01454 
 614099</p>
END:VEVENT
BEGIN:VEVENT
UID:20160416T130000UTC-90cfe7@http://www.olvestonparishhall.co.uk/
DTSTAMP:20260425T011600Z
CATEGORIES:Private Event
DESCRIPTION:<p>sleepover</p>
DTSTART;TZID=Europe/London:20160416T140000
DTEND;TZID=Europe/London:20160417T200000
SUMMARY:Brownie Pack Holiday
URL:https://olvestonparishhall.co.uk/index.php/add-new-event/35-private-eve
 nt/3102-brownie-pack-holiday
X-ALT-DESC;FMTTYPE=TEXT/HTML:<p>sleepover</p>
END:VEVENT
BEGIN:VEVENT
UID:20160419T233000UTC-31f771@http://www.olvestonparishhall.co.uk/
DTSTAMP:20260425T011600Z
CATEGORIES:Private Event
DESCRIPTION:<p>AGM</p>
DTSTART;TZID=Europe/London:20160420T003000
DTEND;TZID=Europe/London:20160420T030000
SUMMARY:OTTC AGM
URL:https://olvestonparishhall.co.uk/index.php/add-new-event/35-private-eve
 nt/3608-ottc-agm
X-ALT-DESC;FMTTYPE=TEXT/HTML:<p>AGM</p>
END:VEVENT
BEGIN:VEVENT
UID:20160422T220000UTC-2198b7@http://www.olvestonparishhall.co.uk/
DTSTAMP:20260425T011600Z
CATEGORIES:Private Event
DESCRIPTION:<p>Private</p>
DTSTART;TZID=Europe/London:20160422T230000
DTEND;TZID=Europe/London:20160423T023000
RRULE:FREQ=WEEKLY;UNTIL=20170210T000000Z;INTERVAL=1;BYDAY=FR
SUMMARY:Dance Lessons
URL:https://olvestonparishhall.co.uk/index.php/add-new-event/35-private-eve
 nt/3827-dance-lessons
X-ALT-DESC;FMTTYPE=TEXT/HTML:<p>Private</p>
END:VEVENT
BEGIN:VEVENT
UID:20160423T130000UTC-63167b@http://www.olvestonparishhall.co.uk/
DTSTAMP:20260425T011600Z
CATEGORIES:Public Event
DESCRIPTION:<p>open to the public</p>
DTSTART;TZID=Europe/London:20160423T140000
DTEND;TZID=Europe/London:20160423T220000
SUMMARY:Meccano exhibition
URL:https://olvestonparishhall.co.uk/index.php/add-new-event/34-public-even
 t/3421-meccano-exhibition
X-ALT-DESC;FMTTYPE=TEXT/HTML:<p>open to the public</p>
END:VEVENT
BEGIN:VEVENT
UID:20160423T220000UTC-6de042@http://www.olvestonparishhall.co.uk/
DTSTAMP:20260425T011600Z
CATEGORIES:Private Event
DESCRIPTION:<p>barn dance</p>
DTSTART;TZID=Europe/London:20160423T230000
DTEND;TZID=Europe/London:20160424T050000
SUMMARY:Private Event
URL:https://olvestonparishhall.co.uk/index.php/add-new-event/35-private-eve
 nt/3420-private-event
X-ALT-DESC;FMTTYPE=TEXT/HTML:<p>barn dance</p>
END:VEVENT
END:VCALENDAR
