BEGIN:VCALENDAR
VERSION:2.0
PRODID:-//https://olvestonparishhall.co.uk//NONSGML kigkonsult.se iCalcreat
 or 2.29.29//
CALSCALE:GREGORIAN
METHOD:PUBLISH
UID:e265459f-bfa5-4e28-abec-8b23bf8742aa
X-WR-CALNAME:JCal Pro Calendar
X-WR-CALDESC:Your online events calendar
X-WR-TIMEZONE:Europe/London
BEGIN:VTIMEZONE
TZID:Europe/London
BEGIN:STANDARD
TZNAME:GMT
DTSTART:20251026T020000
TZOFFSETFROM:+0100
TZOFFSETTO:+0000
RDATE:20261025T020000
END:STANDARD
BEGIN:DAYLIGHT
TZNAME:BST
DTSTART:20260329T010000
TZOFFSETFROM:+0000
TZOFFSETTO:+0100
RDATE:20270328T010000
END:DAYLIGHT
END:VTIMEZONE
BEGIN:VEVENT
UID:20150507T101500UTC-e8ca80@http://www.olvestonparishhall.co.uk/
DTSTAMP:20260424T154259Z
CATEGORIES:Public Event
DESCRIPTION:<p>General\, District and Parish Elections</p>\n<p>7am-10pm</p>
DTSTART;TZID=Europe/London:20150507T000000
DTEND;TZID=Europe/London:20150507T235959
SUMMARY:General Election
URL:https://olvestonparishhall.co.uk/index.php/add-new-event/34-public-even
 t/1551-general-election
X-ALT-DESC;FMTTYPE=TEXT/HTML:<p>General\, District and Parish Elections</p>
 \n<p>7am-10pm</p>
END:VEVENT
BEGIN:VEVENT
UID:20150105T150000UTC-ba7f10@http://www.olvestonparishhall.co.uk/
DTSTAMP:20260424T154259Z
CATEGORIES:Private Event
DESCRIPTION:<p>Table Tennis</p>
DTSTART;TZID=Europe/London:20150105T110000
DTEND;TZID=Europe/London:20150105T120000
RRULE:FREQ=WEEKLY;UNTIL=20210222T000000Z;INTERVAL=1;BYDAY=MO
SUMMARY:Table Tennis
URL:https://olvestonparishhall.co.uk/index.php/add-new-event/35-private-eve
 nt/1709-table-tennis
X-ALT-DESC;FMTTYPE=TEXT/HTML:<p>Table Tennis</p>
END:VEVENT
BEGIN:VEVENT
UID:20150907T174500UTC-df9150@http://www.olvestonparishhall.co.uk/
DTSTAMP:20260424T154259Z
CATEGORIES:Public Event
DESCRIPTION:<p>Contact Claire <span id='cloak0e5da1b94e9f845e915185037fddb8
 2b'>This email address is being protected from spambots. You need JavaScri
 pt enabled to view it.</span><script type='text/javascript'>\n				document.get
 ElementById('cloak0e5da1b94e9f845e915185037fddb82b').innerHTML = ''\;\n				var
  prefix = '&#109\;a' + 'i&#108\;' + '&#116\;o'\;\n				var path = 'hr' + 'ef' +
  '='\;\n				var addy0e5da1b94e9f845e915185037fddb82b = 'br&#97\;dl&#101\;yst&#
 111\;k&#101\;' + '&#64\;'\;\n				addy0e5da1b94e9f845e915185037fddb82b = addy0e
 5da1b94e9f845e915185037fddb82b + 'b&#97\;byb&#97\;ll&#101\;t' + '&#46\;' +
  'c&#111\;' + '&#46\;' + '&#117\;k'\;\n				var addy_text0e5da1b94e9f845e915185
 037fddb82b = 'br&#97\;dl&#101\;yst&#111\;k&#101\;' + '&#64\;' + 'b&#97\;by
 b&#97\;ll&#101\;t' + '&#46\;' + 'c&#111\;' + '&#46\;' + '&#117\;k'\;docume
 nt.getElementById('cloak0e5da1b94e9f845e915185037fddb82b').innerHTML += '<
 a ' + path + '\'' + prefix + ':' + addy0e5da1b94e9f845e915185037fddb82b + 
 '\'>'+addy_text0e5da1b94e9f845e915185037fddb82b+'<\/a>'\;\n		</script></p>
DTSTART;TZID=Europe/London:20150907T184500
DTEND;TZID=Europe/London:20150907T210000
RRULE:FREQ=WEEKLY;UNTIL=20160724T230000Z;INTERVAL=1;BYDAY=MO
SUMMARY:Baby Ballet
URL:https://olvestonparishhall.co.uk/index.php/add-new-event/34-public-even
 t/2898-baby-ballet
X-ALT-DESC;FMTTYPE=TEXT/HTML:<p>Contact Claire <span id='cloak0e5da1b94e9f8
 45e915185037fddb82b'>This email address is being protected from spambots. 
 You need JavaScript enabled to view it.</span><script type='text/javascrip
 t'>\n				document.getElementById('cloak0e5da1b94e9f845e915185037fddb82b').inne
 rHTML = ''\;\n				var prefix = '&#109\;a' + 'i&#108\;' + '&#116\;o'\;\n				var pat
 h = 'hr' + 'ef' + '='\;\n				var addy0e5da1b94e9f845e915185037fddb82b = 'br&#9
 7\;dl&#101\;yst&#111\;k&#101\;' + '&#64\;'\;\n				addy0e5da1b94e9f845e91518503
 7fddb82b = addy0e5da1b94e9f845e915185037fddb82b + 'b&#97\;byb&#97\;ll&#101
 \;t' + '&#46\;' + 'c&#111\;' + '&#46\;' + '&#117\;k'\;\n				var addy_text0e5da
 1b94e9f845e915185037fddb82b = 'br&#97\;dl&#101\;yst&#111\;k&#101\;' + '&#6
 4\;' + 'b&#97\;byb&#97\;ll&#101\;t' + '&#46\;' + 'c&#111\;' + '&#46\;' + '
 &#117\;k'\;document.getElementById('cloak0e5da1b94e9f845e915185037fddb82b'
 ).innerHTML += '<a ' + path + '\'' + prefix + ':' + addy0e5da1b94e9f845e91
 5185037fddb82b + '\'>'+addy_text0e5da1b94e9f845e915185037fddb82b+'<\/a>'\;
 \n		</script></p>
END:VEVENT
BEGIN:VEVENT
UID:20160105T000000UTC-26579f@http://www.olvestonparishhall.co.uk/
DTSTAMP:20260424T154259Z
CATEGORIES:Private Event
DESCRIPTION:<p>Rehearsal</p>
DTSTART;TZID=Europe/London:20160105T010000
DTEND;TZID=Europe/London:20160105T033000
RRULE:FREQ=WEEKLY;UNTIL=20160204T000000Z;INTERVAL=1;BYDAY=MO,TH
SUMMARY:Parish Players Rehearsal
URL:https://olvestonparishhall.co.uk/index.php/add-new-event/35-private-eve
 nt/2630-parish-players-rehearsal
X-ALT-DESC;FMTTYPE=TEXT/HTML:<p>Rehearsal</p>
END:VEVENT
BEGIN:VEVENT
UID:20160120T010000UTC-9e57d6@http://www.olvestonparishhall.co.uk/
DTSTAMP:20260424T154259Z
CATEGORIES:Private Event
DESCRIPTION:<p>Adult Keep Fit. Sue Roberts</p>
DTSTART;TZID=Europe/London:20160120T020000
DTEND;TZID=Europe/London:20160120T030000
RRULE:FREQ=WEEKLY;UNTIL=20161212T000000Z;INTERVAL=1;BYDAY=TU
SUMMARY:Keep Fit
URL:https://olvestonparishhall.co.uk/index.php/add-new-event/35-private-eve
 nt/3450-keep-fit
X-ALT-DESC;FMTTYPE=TEXT/HTML:<p>Adult Keep Fit. Sue Roberts</p>
END:VEVENT
BEGIN:VEVENT
UID:20150326T133000UTC-a140ca@http://www.olvestonparishhall.co.uk/
DTSTAMP:20260424T154259Z
CATEGORIES:Public Event
DESCRIPTION:<p>9:30am - 10:15am &nbsp\;</p>\n<p>babyballet ??&nbsp\;Tinies 
 (18 months to 3 years)</p>\n<p>&nbsp\;</p>\n<p>10:15am &nbsp\;- 11:00am</p
 >\n<p>babyballet?? Movers (3 - 4 years)</p>\n<p>&nbsp\;</p>\n<p>Contact Cl
 aire&nbsp\;<span id='cloak681b364d237309bc286a37ab8983e13f'>This email add
 ress is being protected from spambots. You need JavaScript enabled to view
  it.</span><script type='text/javascript'>
				document.getElementById('cloak68
 1b364d237309bc286a37ab8983e13f').innerHTML = ''\;
				var prefix = '&#109\;a' +
  'i&#108\;' + '&#116\;o'\;
				var path = 'hr' + 'ef' + '='\;
				var addy681b364d23
 7309bc286a37ab8983e13f = 'br&#97\;dl&#101\;yst&#111\;k&#101\;' + '&#64\;'\
 ;
				addy681b364d237309bc286a37ab8983e13f = addy681b364d237309bc286a37ab8983e1
 3f + 'b&#97\;byb&#97\;ll&#101\;t' + '&#46\;' + 'c&#111\;' + '&#46\;' + '&#
 117\;k'\;
				var addy_text681b364d237309bc286a37ab8983e13f = 'br&#97\;dl&#101\
 ;yst&#111\;k&#101\;' + '&#64\;' + 'b&#97\;byb&#97\;ll&#101\;t' + '&#46\;' 
 + 'c&#111\;' + '&#46\;' + '&#117\;k'\;document.getElementById('cloak681b36
 4d237309bc286a37ab8983e13f').innerHTML += '<a ' + path + '\'' + prefix + '
 :' + addy681b364d237309bc286a37ab8983e13f + '\'>'+addy_text681b364d237309b
 c286a37ab8983e13f+'<\/a>'\;
		</script></p>
DTSTART;TZID=Europe/London:20150226T153000
DTEND;TZID=Europe/London:20150226T170000
RRULE:FREQ=WEEKLY;UNTIL=20160727T230000Z;INTERVAL=1;BYDAY=TH
SUMMARY:Baby Ballet
URL:https://olvestonparishhall.co.uk/index.php/add-new-event/34-public-even
 t/2049-baby-ballet
X-ALT-DESC;FMTTYPE=TEXT/HTML:<p>9:30am - 10:15am &nbsp\;</p>\n<p>babyballet
  ??&nbsp\;Tinies (18 months to 3 years)</p>\n<p>&nbsp\;</p>\n<p>10:15am &n
 bsp\;- 11:00am</p>\n<p>babyballet?? Movers (3 - 4 years)</p>\n<p>&nbsp\;</
 p>\n<p>Contact Claire&nbsp\;<span id='cloak681b364d237309bc286a37ab8983e13
 f'>This email address is being protected from spambots. You need JavaScrip
 t enabled to view it.</span><script type='text/javascript'>
				document.getEle
 mentById('cloak681b364d237309bc286a37ab8983e13f').innerHTML = ''\;
				var pref
 ix = '&#109\;a' + 'i&#108\;' + '&#116\;o'\;
				var path = 'hr' + 'ef' + '='\;
				v
 ar addy681b364d237309bc286a37ab8983e13f = 'br&#97\;dl&#101\;yst&#111\;k&#1
 01\;' + '&#64\;'\;
				addy681b364d237309bc286a37ab8983e13f = addy681b364d23730
 9bc286a37ab8983e13f + 'b&#97\;byb&#97\;ll&#101\;t' + '&#46\;' + 'c&#111\;'
  + '&#46\;' + '&#117\;k'\;
				var addy_text681b364d237309bc286a37ab8983e13f = 
 'br&#97\;dl&#101\;yst&#111\;k&#101\;' + '&#64\;' + 'b&#97\;byb&#97\;ll&#10
 1\;t' + '&#46\;' + 'c&#111\;' + '&#46\;' + '&#117\;k'\;document.getElement
 ById('cloak681b364d237309bc286a37ab8983e13f').innerHTML += '<a ' + path + 
 '\'' + prefix + ':' + addy681b364d237309bc286a37ab8983e13f + '\'>'+addy_te
 xt681b364d237309bc286a37ab8983e13f+'<\/a>'\;
		</script></p>
END:VEVENT
BEGIN:VEVENT
UID:20150911T133000UTC-196f83@http://www.olvestonparishhall.co.uk/
DTSTAMP:20260424T154259Z
CATEGORIES:Public Event
DESCRIPTION:<p>Contact Claire&nbsp\;<span id='cloak57d0122a7bd251baff566f31
 892ea8df'>This email address is being protected from spambots. You need Ja
 vaScript enabled to view it.</span><script type='text/javascript'>\n				docume
 nt.getElementById('cloak57d0122a7bd251baff566f31892ea8df').innerHTML = ''\
 ;\n				var prefix = '&#109\;a' + 'i&#108\;' + '&#116\;o'\;\n				var path = 'hr' + 
 'ef' + '='\;\n				var addy57d0122a7bd251baff566f31892ea8df = 'br&#97\;dl&#101\
 ;yst&#111\;k&#101\;' + '&#64\;'\;\n				addy57d0122a7bd251baff566f31892ea8df = 
 addy57d0122a7bd251baff566f31892ea8df + 'b&#97\;byb&#97\;ll&#101\;t' + '&#4
 6\;' + 'c&#111\;' + '&#46\;' + '&#117\;k'\;\n				var addy_text57d0122a7bd251ba
 ff566f31892ea8df = '&nbsp\;'\;document.getElementById('cloak57d0122a7bd251
 baff566f31892ea8df').innerHTML += '<a ' + path + '\'' + prefix + ':' + add
 y57d0122a7bd251baff566f31892ea8df + '\'>'+addy_text57d0122a7bd251baff566f3
 1892ea8df+'<\/a>'\;\n		</script><span id='cloakd20801f886c8c82f77bde7c63803d
 cd4'>This email address is being protected from spambots. You need JavaScr
 ipt enabled to view it.</span><script type='text/javascript'>\n				document.ge
 tElementById('cloakd20801f886c8c82f77bde7c63803dcd4').innerHTML = ''\;\n				va
 r prefix = '&#109\;a' + 'i&#108\;' + '&#116\;o'\;\n				var path = 'hr' + 'ef' 
 + '='\;\n				var addyd20801f886c8c82f77bde7c63803dcd4 = 'br&#97\;dl&#101\;yst&
 #111\;k&#101\;' + '&#64\;'\;\n				addyd20801f886c8c82f77bde7c63803dcd4 = addyd
 20801f886c8c82f77bde7c63803dcd4 + 'b&#97\;byb&#97\;ll&#101\;t' + '&#46\;' 
 + 'c&#111\;' + '&#46\;' + '&#117\;k'\;\n				var addy_textd20801f886c8c82f77bde
 7c63803dcd4 = 'br&#97\;dl&#101\;yst&#111\;k&#101\;' + '&#64\;' + 'b&#97\;b
 yb&#97\;ll&#101\;t' + '&#46\;' + 'c&#111\;' + '&#46\;' + '&#117\;k'\;docum
 ent.getElementById('cloakd20801f886c8c82f77bde7c63803dcd4').innerHTML += '
 <a ' + path + '\'' + prefix + ':' + addyd20801f886c8c82f77bde7c63803dcd4 +
  '\'>'+addy_textd20801f886c8c82f77bde7c63803dcd4+'<\/a>'\;\n		</script></p>
DTSTART;TZID=Europe/London:20150911T143000
DTEND;TZID=Europe/London:20150911T163000
RRULE:FREQ=WEEKLY;UNTIL=20160721T230000Z;INTERVAL=1;BYDAY=FR
SUMMARY:Baby Ballet
URL:https://olvestonparishhall.co.uk/index.php/add-new-event/34-public-even
 t/2913-baby-ballet
X-ALT-DESC;FMTTYPE=TEXT/HTML:<p>Contact Claire&nbsp\;<span id='cloak57d0122
 a7bd251baff566f31892ea8df'>This email address is being protected from spam
 bots. You need JavaScript enabled to view it.</span><script type='text/jav
 ascript'>\n				document.getElementById('cloak57d0122a7bd251baff566f31892ea8df'
 ).innerHTML = ''\;\n				var prefix = '&#109\;a' + 'i&#108\;' + '&#116\;o'\;\n				v
 ar path = 'hr' + 'ef' + '='\;\n				var addy57d0122a7bd251baff566f31892ea8df = 
 'br&#97\;dl&#101\;yst&#111\;k&#101\;' + '&#64\;'\;\n				addy57d0122a7bd251baff
 566f31892ea8df = addy57d0122a7bd251baff566f31892ea8df + 'b&#97\;byb&#97\;l
 l&#101\;t' + '&#46\;' + 'c&#111\;' + '&#46\;' + '&#117\;k'\;\n				var addy_tex
 t57d0122a7bd251baff566f31892ea8df = '&nbsp\;'\;document.getElementById('cl
 oak57d0122a7bd251baff566f31892ea8df').innerHTML += '<a ' + path + '\'' + p
 refix + ':' + addy57d0122a7bd251baff566f31892ea8df + '\'>'+addy_text57d012
 2a7bd251baff566f31892ea8df+'<\/a>'\;\n		</script><span id='cloakd20801f886c8
 c82f77bde7c63803dcd4'>This email address is being protected from spambots.
  You need JavaScript enabled to view it.</span><script type='text/javascri
 pt'>\n				document.getElementById('cloakd20801f886c8c82f77bde7c63803dcd4').inn
 erHTML = ''\;\n				var prefix = '&#109\;a' + 'i&#108\;' + '&#116\;o'\;\n				var pa
 th = 'hr' + 'ef' + '='\;\n				var addyd20801f886c8c82f77bde7c63803dcd4 = 'br&#
 97\;dl&#101\;yst&#111\;k&#101\;' + '&#64\;'\;\n				addyd20801f886c8c82f77bde7c
 63803dcd4 = addyd20801f886c8c82f77bde7c63803dcd4 + 'b&#97\;byb&#97\;ll&#10
 1\;t' + '&#46\;' + 'c&#111\;' + '&#46\;' + '&#117\;k'\;\n				var addy_textd208
 01f886c8c82f77bde7c63803dcd4 = 'br&#97\;dl&#101\;yst&#111\;k&#101\;' + '&#
 64\;' + 'b&#97\;byb&#97\;ll&#101\;t' + '&#46\;' + 'c&#111\;' + '&#46\;' + 
 '&#117\;k'\;document.getElementById('cloakd20801f886c8c82f77bde7c63803dcd4
 ').innerHTML += '<a ' + path + '\'' + prefix + ':' + addyd20801f886c8c82f7
 7bde7c63803dcd4 + '\'>'+addy_textd20801f886c8c82f77bde7c63803dcd4+'<\/a>'\
 ;\n		</script></p>
END:VEVENT
BEGIN:VEVENT
UID:20150205T180000UTC-2e7c9a@http://www.olvestonparishhall.co.uk/
DTSTAMP:20260424T154259Z
CATEGORIES:Private Event
DESCRIPTION:<p>Cinema</p>
DTSTART;TZID=Europe/London:20160205T190000
DTEND;TZID=Europe/London:20160205T223000
SUMMARY:U3A cinema
URL:https://olvestonparishhall.co.uk/index.php/add-new-event/35-private-eve
 nt/3417-u3a-cinema
X-ALT-DESC;FMTTYPE=TEXT/HTML:<p>Cinema</p>
END:VEVENT
BEGIN:VEVENT
UID:20160205T180000UTC-6d846d@http://www.olvestonparishhall.co.uk/
DTSTAMP:20260424T154259Z
CATEGORIES:Private Event
DESCRIPTION:<p>Cinema</p>
DTSTART;TZID=Europe/London:20160205T190000
DTEND;TZID=Europe/London:20160205T223000
SUMMARY:U3A cinema
URL:https://olvestonparishhall.co.uk/index.php/add-new-event/35-private-eve
 nt/3426-u3a-cinema
X-ALT-DESC;FMTTYPE=TEXT/HTML:<p>Cinema</p>
END:VEVENT
BEGIN:VEVENT
UID:20160205T230000UTC-93cb6b@http://olvestonparishhall.co.uk/
DTSTAMP:20260424T154259Z
CATEGORIES:Public Event
DESCRIPTION:<p>Bar opens at 7pm for 7.30pm start</p>\n<p>Teams of 4 - ??5 p
 er person</p>\n<p>Price includes a light snack</p>\n<p>The winning team ge
 ts to nominate a charity for a donation from the evening's takings</p>\n<p
 >Just turn up and play\, or if you want to reserve a table\, phone Noel Cl
 arke on 01454 614099</p>\n<p>Organised by Olveston Parish Twinning Associa
 tion</p>
DTSTART;TZID=Europe/London:20160206T000000
DTEND;TZID=Europe/London:20160206T050000
SUMMARY:Quiz Night
URL:https://olvestonparishhall.co.uk/index.php/add-new-event/34-public-even
 t/3070-quiz-night
X-ALT-DESC;FMTTYPE=TEXT/HTML:<p>Bar opens at 7pm for 7.30pm start</p>\n<p>T
 eams of 4 - ??5 per person</p>\n<p>Price includes a light snack</p>\n<p>Th
 e winning team gets to nominate a charity for a donation from the evening'
 s takings</p>\n<p>Just turn up and play\, or if you want to reserve a tabl
 e\, phone Noel Clarke on 01454 614099</p>\n<p>Organised by Olveston Parish
  Twinning Association</p>
END:VEVENT
BEGIN:VEVENT
UID:20160206T130000UTC-2be1fd@http://www.olvestonparishhall.co.uk/
DTSTAMP:20260424T154259Z
CATEGORIES:Public Event
DESCRIPTION:<p>The Parish Players Present 'Annie'</p>
DTSTART;TZID=Europe/London:20160206T140000
DTEND;TZID=Europe/London:20160215T010000
SUMMARY:Parish Players 'Annie'
URL:https://olvestonparishhall.co.uk/index.php/add-new-event/34-public-even
 t/2639-parish-players-annie
X-ALT-DESC;FMTTYPE=TEXT/HTML:<p>The Parish Players Present 'Annie'</p>
END:VEVENT
BEGIN:VEVENT
UID:20150912T130000UTC-cf0009@http://www.olvestonparishhall.co.uk/
DTSTAMP:20260424T154259Z
CATEGORIES:Private Event
DESCRIPTION:<p>Baby Ballet</p>\n<p>Dance Class and Movement class from 6 Mo
 nths to 6 Years</p>\n<p>Contact <span id='cloakab168b583ca976f05d9e886321b
 cd073'>This email address is being protected from spambots. You need JavaS
 cript enabled to view it.</span><script type='text/javascript'>
				document.ge
 tElementById('cloakab168b583ca976f05d9e886321bcd073').innerHTML = ''\;
				var 
 prefix = '&#109\;a' + 'i&#108\;' + '&#116\;o'\;
				var path = 'hr' + 'ef' + '=
 '\;
				var addyab168b583ca976f05d9e886321bcd073 = 'br&#97\;dl&#101\;yst&#111\;
 k&#101\;' + '&#64\;'\;
				addyab168b583ca976f05d9e886321bcd073 = addyab168b583
 ca976f05d9e886321bcd073 + 'b&#97\;byb&#97\;ll&#101\;t' + '&#46\;' + 'c&#11
 1\;' + '&#46\;' + '&#117\;k'\;
				var addy_textab168b583ca976f05d9e886321bcd07
 3 = 'br&#97\;dl&#101\;yst&#111\;k&#101\;' + '&#64\;' + 'b&#97\;byb&#97\;ll
 &#101\;t' + '&#46\;' + 'c&#111\;' + '&#46\;' + '&#117\;k'\;document.getEle
 mentById('cloakab168b583ca976f05d9e886321bcd073').innerHTML += '<a ' + pat
 h + '\'' + prefix + ':' + addyab168b583ca976f05d9e886321bcd073 + '\'>'+add
 y_textab168b583ca976f05d9e886321bcd073+'<\/a>'\;
		</script></p>
DTSTART;TZID=Europe/London:20150912T140000
DTEND;TZID=Europe/London:20150912T171500
RRULE:FREQ=WEEKLY;UNTIL=20171219T000000Z;INTERVAL=1;BYDAY=SA
SUMMARY:Baby Ballet
URL:https://olvestonparishhall.co.uk/index.php/add-new-event/35-private-eve
 nt/2952-baby-ballet
X-ALT-DESC;FMTTYPE=TEXT/HTML:<p>Baby Ballet</p>\n<p>Dance Class and Movemen
 t class from 6 Months to 6 Years</p>\n<p>Contact <span id='cloakab168b583c
 a976f05d9e886321bcd073'>This email address is being protected from spambot
 s. You need JavaScript enabled to view it.</span><script type='text/javasc
 ript'>
				document.getElementById('cloakab168b583ca976f05d9e886321bcd073').inn
 erHTML = ''\;
				var prefix = '&#109\;a' + 'i&#108\;' + '&#116\;o'\;
				var path =
  'hr' + 'ef' + '='\;
				var addyab168b583ca976f05d9e886321bcd073 = 'br&#97\;dl
 &#101\;yst&#111\;k&#101\;' + '&#64\;'\;
				addyab168b583ca976f05d9e886321bcd07
 3 = addyab168b583ca976f05d9e886321bcd073 + 'b&#97\;byb&#97\;ll&#101\;t' + 
 '&#46\;' + 'c&#111\;' + '&#46\;' + '&#117\;k'\;
				var addy_textab168b583ca976
 f05d9e886321bcd073 = 'br&#97\;dl&#101\;yst&#111\;k&#101\;' + '&#64\;' + 'b
 &#97\;byb&#97\;ll&#101\;t' + '&#46\;' + 'c&#111\;' + '&#46\;' + '&#117\;k'
 \;document.getElementById('cloakab168b583ca976f05d9e886321bcd073').innerHT
 ML += '<a ' + path + '\'' + prefix + ':' + addyab168b583ca976f05d9e886321b
 cd073 + '\'>'+addy_textab168b583ca976f05d9e886321bcd073+'<\/a>'\;
		</script>
 </p>
END:VEVENT
BEGIN:VEVENT
UID:20160211T110000UTC-b0aeac@http://www.olvestonparishhall.co.uk/
DTSTAMP:20260424T154259Z
CATEGORIES:Private Event
DESCRIPTION:<p>PP</p>
DTSTART;TZID=Europe/London:20160211T120000
DTEND;TZID=Europe/London:20160219T130000
SUMMARY:Parish Players Production Peter Pan
URL:https://olvestonparishhall.co.uk/index.php/add-new-event/35-private-eve
 nt/3867-parish-players-production-peter-pan
X-ALT-DESC;FMTTYPE=TEXT/HTML:<p>PP</p>
END:VEVENT
BEGIN:VEVENT
UID:20160217T003000UTC-b4e52c@http://www.olvestonparishhall.co.uk/
DTSTAMP:20260424T154259Z
CATEGORIES:Private Event
DESCRIPTION:<p>Meeting</p>
DTSTART;TZID=Europe/London:20160217T013000
DTEND;TZID=Europe/London:20160217T033000
SUMMARY:W.I
URL:https://olvestonparishhall.co.uk/index.php/add-new-event/35-private-eve
 nt/3597-w-i
X-ALT-DESC;FMTTYPE=TEXT/HTML:<p>Meeting</p>
END:VEVENT
BEGIN:VEVENT
UID:20160219T180000UTC-32db08@http://www.olvestonparishhall.co.uk/
DTSTAMP:20260424T154259Z
CATEGORIES:Private Event
DESCRIPTION:<p>Cineam</p>
DTSTART;TZID=Europe/London:20160219T190000
DTEND;TZID=Europe/London:20160219T223000
SUMMARY:U3A cinema
URL:https://olvestonparishhall.co.uk/index.php/add-new-event/35-private-eve
 nt/3598-u3a-cinema
X-ALT-DESC;FMTTYPE=TEXT/HTML:<p>Cineam</p>
END:VEVENT
BEGIN:VEVENT
UID:20160220T163000UTC-8d73c2@http://www.olvestonparishhall.co.uk/
DTSTAMP:20260424T154259Z
CATEGORIES:Childrens Party - special 3 hour rate
DESCRIPTION:<p>Private Event</p>
DTSTART;TZID=Europe/London:20160220T210000
DTEND;TZID=Europe/London:20160221T000000
SUMMARY:Private Event
URL:https://olvestonparishhall.co.uk/index.php/add-new-event/42-childrens-p
 arty/2950-private-event
X-ALT-DESC;FMTTYPE=TEXT/HTML:<p>Private Event</p>
END:VEVENT
BEGIN:VEVENT
UID:20160221T150000UTC-b26813@http://www.olvestonparishhall.co.uk/
DTSTAMP:20260424T154259Z
CATEGORIES:Private Event
DESCRIPTION:<p>Dance</p>
DTSTART;TZID=Europe/London:20160221T160000
DTEND;TZID=Europe/London:20160221T170000
SUMMARY:Dance Practice
URL:https://olvestonparishhall.co.uk/index.php/add-new-event/35-private-eve
 nt/3601-dance-practice
X-ALT-DESC;FMTTYPE=TEXT/HTML:<p>Dance</p>
END:VEVENT
BEGIN:VEVENT
UID:20160221T180000UTC-d068d5@http://www.olvestonparishhall.co.uk/
DTSTAMP:20260424T154259Z
CATEGORIES:Childrens Party - special 3 hour rate
DESCRIPTION:<p>Private event</p>
DTSTART;TZID=Europe/London:20160221T190000
DTEND;TZID=Europe/London:20160221T220000
SUMMARY:Children's birthday party
URL:https://olvestonparishhall.co.uk/index.php/add-new-event/42-childrens-p
 arty/3419-children-s-birthday-party
X-ALT-DESC;FMTTYPE=TEXT/HTML:<p>Private event</p>
END:VEVENT
BEGIN:VEVENT
UID:20160221T180000UTC-93116f@http://www.olvestonparishhall.co.uk/
DTSTAMP:20260424T154259Z
CATEGORIES:Childrens Party - special 3 hour rate
DESCRIPTION:<p>party</p>
DTSTART;TZID=Europe/London:20160221T190000
DTEND;TZID=Europe/London:20160221T220000
SUMMARY:kids party
URL:https://olvestonparishhall.co.uk/index.php/add-new-event/42-childrens-p
 arty/3599-kids-party
X-ALT-DESC;FMTTYPE=TEXT/HTML:<p>party</p>
END:VEVENT
BEGIN:VEVENT
UID:20160227T000000UTC-38814c@http://www.olvestonparishhall.co.uk/
DTSTAMP:20260424T154259Z
CATEGORIES:Public Event
DESCRIPTION:<p>7:30 for 7:45 Start</p>\n<p>&nbsp\;</p>\n<p>Tickets &amp\;6.
 50 to include Fish and Chip Supper.</p>\n<p>&nbsp\;</p>\n<p>Contact Pat Sa
 vage&nbsp\;<span style='color: #000000\; font-family: 'Times New Roman'\; 
 font-size: medium\;'>01454 610388</span></p>
DTSTART;TZID=Europe/London:20160227T010000
DTEND;TZID=Europe/London:20160227T060000
SUMMARY:Fish and Chip Quiz night
URL:https://olvestonparishhall.co.uk/index.php/add-new-event/34-public-even
 t/3602-fish-and-chip-quiz-night
X-ALT-DESC;FMTTYPE=TEXT/HTML:<p>7:30 for 7:45 Start</p>\n<p>&nbsp\;</p>\n<p
 >Tickets &amp\;6.50 to include Fish and Chip Supper.</p>\n<p>&nbsp\;</p>\n
 <p>Contact Pat Savage&nbsp\;<span style='color: #000000\; font-family: 'Ti
 mes New Roman'\; font-size: medium\;'>01454 610388</span></p>
END:VEVENT
BEGIN:VEVENT
UID:20160227T190000UTC-5ec7f4@http://www.olvestonparishhall.co.uk/
DTSTAMP:20260424T154259Z
CATEGORIES:Private Event
DESCRIPTION:<p>Square Dance</p>
DTSTART;TZID=Europe/London:20160227T200000
DTEND;TZID=Europe/London:20160227T220000
SUMMARY:Square Dance
URL:https://olvestonparishhall.co.uk/index.php/add-new-event/35-private-eve
 nt/3603-square-dance
X-ALT-DESC;FMTTYPE=TEXT/HTML:<p>Square Dance</p>
END:VEVENT
BEGIN:VEVENT
UID:20160227T170000UTC-61ecc9@http://www.olvestonparishhall.co.uk/
DTSTAMP:20260424T154259Z
CATEGORIES:Private Event
DESCRIPTION:<p>Joint 30th and 60th</p>
DTSTART;TZID=Europe/London:20160227T233000
DTEND;TZID=Europe/London:20160228T113000
SUMMARY:Birthday party
URL:https://olvestonparishhall.co.uk/index.php/add-new-event/35-private-eve
 nt/3418-birthday-party
X-ALT-DESC;FMTTYPE=TEXT/HTML:<p>Joint 30th and 60th</p>
END:VEVENT
BEGIN:VEVENT
UID:20160228T150000UTC-a0e820@http://www.olvestonparishhall.co.uk/
DTSTAMP:20260424T154259Z
CATEGORIES:Private Event
DESCRIPTION:<p>dance</p>
DTSTART;TZID=Europe/London:20160228T160000
DTEND;TZID=Europe/London:20160228T170000
SUMMARY:Dance Practice
URL:https://olvestonparishhall.co.uk/index.php/add-new-event/35-private-eve
 nt/3604-dance-practice
X-ALT-DESC;FMTTYPE=TEXT/HTML:<p>dance</p>
END:VEVENT
BEGIN:VEVENT
UID:20160214T150000UTC-0ab62e@http://www.olvestonparishhall.co.uk/
DTSTAMP:20260424T154259Z
CATEGORIES:Private Event
DESCRIPTION:<p>BHSPC AREA QUIZ</p>
DTSTART;TZID=Europe/London:20160228T180000
DTEND;TZID=Europe/London:20160228T230000
SUMMARY:BHSPC AREA QUIZ
URL:https://olvestonparishhall.co.uk/index.php/add-new-event/35-private-eve
 nt/3095-bhspc-area-quiz
X-ALT-DESC;FMTTYPE=TEXT/HTML:<p>BHSPC AREA QUIZ</p>
END:VEVENT
END:VCALENDAR
