BEGIN:VCALENDAR
VERSION:2.0
PRODID:-//https://olvestonparishhall.co.uk//NONSGML kigkonsult.se iCalcreat
 or 2.29.29//
CALSCALE:GREGORIAN
METHOD:PUBLISH
UID:7087df3b-ed96-4db1-bf38-7acd5495d872
X-WR-CALNAME:JCal Pro Calendar
X-WR-CALDESC:Your online events calendar
X-WR-TIMEZONE:Europe/London
BEGIN:VTIMEZONE
TZID:Europe/London
BEGIN:STANDARD
TZNAME:GMT
DTSTART:20251026T020000
TZOFFSETFROM:+0100
TZOFFSETTO:+0000
RDATE:20261025T020000
END:STANDARD
BEGIN:DAYLIGHT
TZNAME:BST
DTSTART:20260329T010000
TZOFFSETFROM:+0000
TZOFFSETTO:+0100
RDATE:20270328T010000
END:DAYLIGHT
END:VTIMEZONE
BEGIN:VEVENT
UID:20150105T150000UTC-ba7f10@http://www.olvestonparishhall.co.uk/
DTSTAMP:20260422T152128Z
CATEGORIES:Private Event
DESCRIPTION:<p>Table Tennis</p>
DTSTART;TZID=Europe/London:20150105T110000
DTEND;TZID=Europe/London:20150105T120000
RRULE:FREQ=WEEKLY;UNTIL=20210222T000000Z;INTERVAL=1;BYDAY=MO
SUMMARY:Table Tennis
URL:https://olvestonparishhall.co.uk/index.php/add-new-event/35-private-eve
 nt/1709-table-tennis
X-ALT-DESC;FMTTYPE=TEXT/HTML:<p>Table Tennis</p>
END:VEVENT
BEGIN:VEVENT
UID:20141020T233000UTC-16f46b@http://www.olvestonparishhall.co.uk/
DTSTAMP:20260422T152128Z
CATEGORIES:Private Event
DESCRIPTION:<p>Rehearsal</p>
DTSTART;TZID=Europe/London:20141021T003000
DTEND;TZID=Europe/London:20141021T030000
RRULE:FREQ=WEEKLY;UNTIL=20150212T000000Z;INTERVAL=1;BYDAY=MO,TH
SUMMARY:Parish Players Rehearsal
URL:https://olvestonparishhall.co.uk/index.php/add-new-event/35-private-eve
 nt/1583-parish-players-rehearsal
X-ALT-DESC;FMTTYPE=TEXT/HTML:<p>Rehearsal</p>
END:VEVENT
BEGIN:VEVENT
UID:20130424T000000UTC-9b8d67@http://www.olvestonparishhall.co.uk/
DTSTAMP:20260422T152128Z
CATEGORIES:Public Event
DESCRIPTION:<p>Just come along 8pm-9pm</p>
DTSTART;TZID=Europe/London:20130424T010000
DTEND;TZID=Europe/London:20130424T020000
RRULE:FREQ=WEEKLY;UNTIL=20151221T000000Z;INTERVAL=1;BYDAY=TU
SUMMARY:Keep Fit
URL:https://olvestonparishhall.co.uk/index.php/add-new-event/34-public-even
 t/84-keep-fit
X-ALT-DESC;FMTTYPE=TEXT/HTML:<p>Just come along 8pm-9pm</p>
END:VEVENT
BEGIN:VEVENT
UID:20150205T000000UTC-b2a7c5@http://www.olvestonparishhall.co.uk/
DTSTAMP:20260422T152128Z
CATEGORIES:Private Event
DESCRIPTION:<p>pp</p>
DTSTART;TZID=Europe/London:20150205T010000
DTEND;TZID=Europe/London:20150205T040000
SUMMARY:Parish Players Rehearsal
URL:https://olvestonparishhall.co.uk/index.php/add-new-event/35-private-eve
 nt/3072-parish-players-rehearsal
X-ALT-DESC;FMTTYPE=TEXT/HTML:<p>pp</p>
END:VEVENT
BEGIN:VEVENT
UID:20140604T100000UTC-29e286@http://www.olvestonparishhall.co.uk/
DTSTAMP:20260422T152128Z
CATEGORIES:Private Event
DESCRIPTION:<p>Baby Ballet</p>\n<p>Dance Class and Movement class from 6 Mo
 nths to 6 Years</p>\n<p>Contact <span id='cloakeced71a6b31b4fe0a6d87cb3c88
 238b6'>This email address is being protected from spambots. You need JavaS
 cript enabled to view it.</span><script type='text/javascript'>
				document.ge
 tElementById('cloakeced71a6b31b4fe0a6d87cb3c88238b6').innerHTML = ''\;
				var 
 prefix = '&#109\;a' + 'i&#108\;' + '&#116\;o'\;
				var path = 'hr' + 'ef' + '=
 '\;
				var addyeced71a6b31b4fe0a6d87cb3c88238b6 = 'br&#97\;dl&#101\;yst&#111\;
 k&#101\;' + '&#64\;'\;
				addyeced71a6b31b4fe0a6d87cb3c88238b6 = addyeced71a6b
 31b4fe0a6d87cb3c88238b6 + 'b&#97\;byb&#97\;ll&#101\;t' + '&#46\;' + 'c&#11
 1\;' + '&#46\;' + '&#117\;k'\;
				var addy_texteced71a6b31b4fe0a6d87cb3c88238b
 6 = 'br&#97\;dl&#101\;yst&#111\;k&#101\;' + '&#64\;' + 'b&#97\;byb&#97\;ll
 &#101\;t' + '&#46\;' + 'c&#111\;' + '&#46\;' + '&#117\;k'\;document.getEle
 mentById('cloakeced71a6b31b4fe0a6d87cb3c88238b6').innerHTML += '<a ' + pat
 h + '\'' + prefix + ':' + addyeced71a6b31b4fe0a6d87cb3c88238b6 + '\'>'+add
 y_texteced71a6b31b4fe0a6d87cb3c88238b6+'<\/a>'\;
		</script></p>
DTSTART;TZID=Europe/London:20140904T143000
DTEND;TZID=Europe/London:20140904T173000
RRULE:FREQ=WEEKLY;COUNT=25;INTERVAL=1;BYDAY=TH
SUMMARY:Baby Ballet
URL:https://olvestonparishhall.co.uk/index.php/add-new-event/35-private-eve
 nt/1310-baby-ballet
X-ALT-DESC;FMTTYPE=TEXT/HTML:<p>Baby Ballet</p>\n<p>Dance Class and Movemen
 t class from 6 Months to 6 Years</p>\n<p>Contact <span id='cloakeced71a6b3
 1b4fe0a6d87cb3c88238b6'>This email address is being protected from spambot
 s. You need JavaScript enabled to view it.</span><script type='text/javasc
 ript'>
				document.getElementById('cloakeced71a6b31b4fe0a6d87cb3c88238b6').inn
 erHTML = ''\;
				var prefix = '&#109\;a' + 'i&#108\;' + '&#116\;o'\;
				var path =
  'hr' + 'ef' + '='\;
				var addyeced71a6b31b4fe0a6d87cb3c88238b6 = 'br&#97\;dl
 &#101\;yst&#111\;k&#101\;' + '&#64\;'\;
				addyeced71a6b31b4fe0a6d87cb3c88238b
 6 = addyeced71a6b31b4fe0a6d87cb3c88238b6 + 'b&#97\;byb&#97\;ll&#101\;t' + 
 '&#46\;' + 'c&#111\;' + '&#46\;' + '&#117\;k'\;
				var addy_texteced71a6b31b4f
 e0a6d87cb3c88238b6 = 'br&#97\;dl&#101\;yst&#111\;k&#101\;' + '&#64\;' + 'b
 &#97\;byb&#97\;ll&#101\;t' + '&#46\;' + 'c&#111\;' + '&#46\;' + '&#117\;k'
 \;document.getElementById('cloakeced71a6b31b4fe0a6d87cb3c88238b6').innerHT
 ML += '<a ' + path + '\'' + prefix + ':' + addyeced71a6b31b4fe0a6d87cb3c88
 238b6 + '\'>'+addy_texteced71a6b31b4fe0a6d87cb3c88238b6+'<\/a>'\;
		</script>
 </p>
END:VEVENT
BEGIN:VEVENT
UID:20150102T180000UTC-3f9881@http://www.olvestonparishhall.co.uk/
DTSTAMP:20260422T152128Z
CATEGORIES:Private Event
DESCRIPTION:<p>cinema club</p>
DTSTART;TZID=Europe/London:20150102T190000
DTEND;TZID=Europe/London:20150102T223000
RRULE:FREQ=MONTHLY;COUNT=12;INTERVAL=1;BYDAY=FR;BYSETPOS=1
SUMMARY:U3A - Cinema Club
URL:https://olvestonparishhall.co.uk/index.php/add-new-event/35-private-eve
 nt/1678-u3a-cinema-club
X-ALT-DESC;FMTTYPE=TEXT/HTML:<p>cinema club</p>
END:VEVENT
BEGIN:VEVENT
UID:20130419T213000UTC-c187f2@http://olvestonparishhall.co.uk/
DTSTAMP:20260422T152128Z
CATEGORIES:Public Event
DESCRIPTION:<p>Ballroom and Sequence Dance Lessons</p>\n<p>From 5.30pm unti
 l 9.30pm<br />For more information contact Cathy Matthews on 07747686206</
 p>
DTSTART;TZID=Europe/London:20130419T223000
DTEND;TZID=Europe/London:20130420T023000
RRULE:FREQ=WEEKLY;UNTIL=20151204T000000Z;INTERVAL=1;BYDAY=FR
SUMMARY:Dancing Lessons
URL:https://olvestonparishhall.co.uk/index.php/add-new-event/34-public-even
 t/25-dancing-lessons
X-ALT-DESC;FMTTYPE=TEXT/HTML:<p>Ballroom and Sequence Dance Lessons</p>\n<p
 >From 5.30pm until 9.30pm<br />For more information contact Cathy Matthews
  on 07747686206</p>
END:VEVENT
BEGIN:VEVENT
UID:20150207T190000UTC-b89c12@http://www.olvestonparishhall.co.uk/
DTSTAMP:20260422T152128Z
CATEGORIES:Private Event
DESCRIPTION:<p>Square Dance</p>
DTSTART;TZID=Europe/London:20150207T200000
DTEND;TZID=Europe/London:20150207T220000
SUMMARY:Square Dancing
URL:https://olvestonparishhall.co.uk/index.php/add-new-event/35-private-eve
 nt/1992-square-dancing
X-ALT-DESC;FMTTYPE=TEXT/HTML:<p>Square Dance</p>
END:VEVENT
BEGIN:VEVENT
UID:20150207T190000UTC-600069@http://www.olvestonparishhall.co.uk/
DTSTAMP:20260422T152128Z
CATEGORIES:Private Event
DESCRIPTION:<p>Square Dance</p>
DTSTART;TZID=Europe/London:20150207T200000
DTEND;TZID=Europe/London:20150207T220000
SUMMARY:Square Dancing
URL:https://olvestonparishhall.co.uk/index.php/add-new-event/35-private-eve
 nt/1993-square-dancing
X-ALT-DESC;FMTTYPE=TEXT/HTML:<p>Square Dance</p>
END:VEVENT
BEGIN:VEVENT
UID:20150114T003000UTC-b6b784@http://www.olvestonparishhall.co.uk/
DTSTAMP:20260422T152128Z
CATEGORIES:Private Event
DESCRIPTION:<p>Womens Institute</p>
DTSTART;TZID=Europe/London:20150114T013000
DTEND;TZID=Europe/London:20150114T033000
RRULE:FREQ=MONTHLY;UNTIL=20150701T230000Z;INTERVAL=1;BYDAY=TU;BYSETPOS=2
SUMMARY:W.I
URL:https://olvestonparishhall.co.uk/index.php/add-new-event/35-private-eve
 nt/1963-w-i
X-ALT-DESC;FMTTYPE=TEXT/HTML:<p>Womens Institute</p>
END:VEVENT
BEGIN:VEVENT
UID:20150211T232900UTC-7c9d08@http://www.olvestonparishhall.co.uk/
DTSTAMP:20260422T152128Z
CATEGORIES:Private Event
DESCRIPTION:<p>Curling</p>
DTSTART;TZID=Europe/London:20150212T002900
DTEND;TZID=Europe/London:20150212T040000
SUMMARY:Inner Wheel
URL:https://olvestonparishhall.co.uk/index.php/add-new-event/35-private-eve
 nt/1977-inner-wheel
X-ALT-DESC;FMTTYPE=TEXT/HTML:<p>Curling</p>
END:VEVENT
BEGIN:VEVENT
UID:20150212T233000UTC-c3b40e@http://www.olvestonparishhall.co.uk/
DTSTAMP:20260422T152128Z
CATEGORIES:Private Event
DESCRIPTION:<p>rehearsal</p>
DTSTART;TZID=Europe/London:20150213T003000
DTEND;TZID=Europe/London:20150213T033000
SUMMARY:Parish Players Rehearsal
URL:https://olvestonparishhall.co.uk/index.php/add-new-event/35-private-eve
 nt/2043-parish-players-rehearsal
X-ALT-DESC;FMTTYPE=TEXT/HTML:<p>rehearsal</p>
END:VEVENT
BEGIN:VEVENT
UID:20150214T210000UTC-f714fd@http://www.olvestonparishhall.co.uk/
DTSTAMP:20260422T152128Z
CATEGORIES:Private Event
DESCRIPTION:<p>PRivate</p>
DTSTART;TZID=Europe/London:20150214T220000
DTEND;TZID=Europe/London:20150215T050000
SUMMARY:21st Birthday Party
URL:https://olvestonparishhall.co.uk/index.php/add-new-event/35-private-eve
 nt/1163-21st-birthday-party
X-ALT-DESC;FMTTYPE=TEXT/HTML:<p>PRivate</p>
END:VEVENT
BEGIN:VEVENT
UID:20140215T150000UTC-e9d76a@http://www.olvestonparishhall.co.uk/
DTSTAMP:20260422T152128Z
CATEGORIES:Public Event
DESCRIPTION:<p>Annual Production Details TBC</p>
DTSTART;TZID=Europe/London:20150215T160000
DTEND;TZID=Europe/London:20150222T170000
SUMMARY:Parish Players Production
URL:https://olvestonparishhall.co.uk/index.php/add-new-event/34-public-even
 t/1162-parish-players-production
X-ALT-DESC;FMTTYPE=TEXT/HTML:<p>Annual Production Details TBC</p>
END:VEVENT
BEGIN:VEVENT
UID:20150226T003000UTC-526725@http://www.olvestonparishhall.co.uk/
DTSTAMP:20260422T152128Z
CATEGORIES:Public Event
DESCRIPTION:<p>7:30-9:30</p>
DTSTART;TZID=Europe/London:20150226T013000
DTEND;TZID=Europe/London:20150226T033000
SUMMARY:Community Land trust meeting
URL:https://olvestonparishhall.co.uk/index.php/add-new-event/34-public-even
 t/1670-community-land-trust-meeting
X-ALT-DESC;FMTTYPE=TEXT/HTML:<p>7:30-9:30</p>
END:VEVENT
BEGIN:VEVENT
UID:20150326T133000UTC-a140ca@http://www.olvestonparishhall.co.uk/
DTSTAMP:20260422T152128Z
CATEGORIES:Public Event
DESCRIPTION:<p>9:30am - 10:15am &nbsp\;</p>\n<p>babyballet ??&nbsp\;Tinies 
 (18 months to 3 years)</p>\n<p>&nbsp\;</p>\n<p>10:15am &nbsp\;- 11:00am</p
 >\n<p>babyballet?? Movers (3 - 4 years)</p>\n<p>&nbsp\;</p>\n<p>Contact Cl
 aire&nbsp\;<span id='cloak22e21813682606381b61280199e6c758'>This email add
 ress is being protected from spambots. You need JavaScript enabled to view
  it.</span><script type='text/javascript'>
				document.getElementById('cloak22
 e21813682606381b61280199e6c758').innerHTML = ''\;
				var prefix = '&#109\;a' +
  'i&#108\;' + '&#116\;o'\;
				var path = 'hr' + 'ef' + '='\;
				var addy22e2181368
 2606381b61280199e6c758 = 'br&#97\;dl&#101\;yst&#111\;k&#101\;' + '&#64\;'\
 ;
				addy22e21813682606381b61280199e6c758 = addy22e21813682606381b61280199e6c7
 58 + 'b&#97\;byb&#97\;ll&#101\;t' + '&#46\;' + 'c&#111\;' + '&#46\;' + '&#
 117\;k'\;
				var addy_text22e21813682606381b61280199e6c758 = 'br&#97\;dl&#101\
 ;yst&#111\;k&#101\;' + '&#64\;' + 'b&#97\;byb&#97\;ll&#101\;t' + '&#46\;' 
 + 'c&#111\;' + '&#46\;' + '&#117\;k'\;document.getElementById('cloak22e218
 13682606381b61280199e6c758').innerHTML += '<a ' + path + '\'' + prefix + '
 :' + addy22e21813682606381b61280199e6c758 + '\'>'+addy_text22e218136826063
 81b61280199e6c758+'<\/a>'\;
		</script></p>
DTSTART;TZID=Europe/London:20150226T153000
DTEND;TZID=Europe/London:20150226T170000
RRULE:FREQ=WEEKLY;UNTIL=20160727T230000Z;INTERVAL=1;BYDAY=TH
SUMMARY:Baby Ballet
URL:https://olvestonparishhall.co.uk/index.php/add-new-event/34-public-even
 t/2049-baby-ballet
X-ALT-DESC;FMTTYPE=TEXT/HTML:<p>9:30am - 10:15am &nbsp\;</p>\n<p>babyballet
  ??&nbsp\;Tinies (18 months to 3 years)</p>\n<p>&nbsp\;</p>\n<p>10:15am &n
 bsp\;- 11:00am</p>\n<p>babyballet?? Movers (3 - 4 years)</p>\n<p>&nbsp\;</
 p>\n<p>Contact Claire&nbsp\;<span id='cloak22e21813682606381b61280199e6c75
 8'>This email address is being protected from spambots. You need JavaScrip
 t enabled to view it.</span><script type='text/javascript'>
				document.getEle
 mentById('cloak22e21813682606381b61280199e6c758').innerHTML = ''\;
				var pref
 ix = '&#109\;a' + 'i&#108\;' + '&#116\;o'\;
				var path = 'hr' + 'ef' + '='\;
				v
 ar addy22e21813682606381b61280199e6c758 = 'br&#97\;dl&#101\;yst&#111\;k&#1
 01\;' + '&#64\;'\;
				addy22e21813682606381b61280199e6c758 = addy22e2181368260
 6381b61280199e6c758 + 'b&#97\;byb&#97\;ll&#101\;t' + '&#46\;' + 'c&#111\;'
  + '&#46\;' + '&#117\;k'\;
				var addy_text22e21813682606381b61280199e6c758 = 
 'br&#97\;dl&#101\;yst&#111\;k&#101\;' + '&#64\;' + 'b&#97\;byb&#97\;ll&#10
 1\;t' + '&#46\;' + 'c&#111\;' + '&#46\;' + '&#117\;k'\;document.getElement
 ById('cloak22e21813682606381b61280199e6c758').innerHTML += '<a ' + path + 
 '\'' + prefix + ':' + addy22e21813682606381b61280199e6c758 + '\'>'+addy_te
 xt22e21813682606381b61280199e6c758+'<\/a>'\;
		</script></p>
END:VEVENT
BEGIN:VEVENT
UID:20150227T190000UTC-49e35d@http://www.olvestonparishhall.co.uk/
DTSTAMP:20260422T152128Z
CATEGORIES:Private Event
DESCRIPTION:<p>Party</p>
DTSTART;TZID=Europe/London:20150227T200000
DTEND;TZID=Europe/London:20150228T020000
SUMMARY:party
URL:https://olvestonparishhall.co.uk/index.php/add-new-event/35-private-eve
 nt/3108-party
X-ALT-DESC;FMTTYPE=TEXT/HTML:<p>Party</p>
END:VEVENT
BEGIN:VEVENT
UID:20150227T220000UTC-27de6d@http://www.olvestonparishhall.co.uk/
DTSTAMP:20260422T152128Z
CATEGORIES:Public Event
DESCRIPTION:<p>Quiz night <br />with added Fish &amp\; Chips</p>\n<p><br />
 Cash Bar</p>\n<p><br />7.30pm <br />for prompt 7.45pm start</p>\n<p><br />
 Teams of 4-6</p>\n<p><br />Tickets ??7.50 per person includes fish &amp\; 
 chips<br />from Pat Savage <span id='cloakb6ec4160a91797d32ee95af55227790b
 '>This email address is being protected from spambots. You need JavaScript
  enabled to view it.</span><script type='text/javascript'>
				document.getElem
 entById('cloakb6ec4160a91797d32ee95af55227790b').innerHTML = ''\;
				var prefi
 x = '&#109\;a' + 'i&#108\;' + '&#116\;o'\;
				var path = 'hr' + 'ef' + '='\;
				va
 r addyb6ec4160a91797d32ee95af55227790b = 'p&#97\;t' + '&#64\;'\;
				addyb6ec41
 60a91797d32ee95af55227790b = addyb6ec4160a91797d32ee95af55227790b + 's&#97
 \;v&#97\;g&#101\;&#97\;ss&#111\;c&#105\;&#97\;t&#101\;s' + '&#46\;' + 'c&#
 111\;' + '&#46\;' + '&#117\;k'\;
				var addy_textb6ec4160a91797d32ee95af552277
 90b = 'p&#97\;t' + '&#64\;' + 's&#97\;v&#97\;g&#101\;&#97\;ss&#111\;c&#105
 \;&#97\;t&#101\;s' + '&#46\;' + 'c&#111\;' + '&#46\;' + '&#117\;k'\;docume
 nt.getElementById('cloakb6ec4160a91797d32ee95af55227790b').innerHTML += '<
 a ' + path + '\'' + prefix + ':' + addyb6ec4160a91797d32ee95af55227790b + 
 '\'>'+addy_textb6ec4160a91797d32ee95af55227790b+'<\/a>'\;
		</script></p>
DTSTART;TZID=Europe/London:20150227T230000
DTEND;TZID=Europe/London:20150228T060000
SUMMARY:Fish & Quiz Supper
URL:https://olvestonparishhall.co.uk/index.php/add-new-event/34-public-even
 t/1616-quiz-night
X-ALT-DESC;FMTTYPE=TEXT/HTML:<p>Quiz night <br />with added Fish &amp\; Chi
 ps</p>\n<p><br />Cash Bar</p>\n<p><br />7.30pm <br />for prompt 7.45pm sta
 rt</p>\n<p><br />Teams of 4-6</p>\n<p><br />Tickets ??7.50 per person incl
 udes fish &amp\; chips<br />from Pat Savage <span id='cloakb6ec4160a91797d
 32ee95af55227790b'>This email address is being protected from spambots. Yo
 u need JavaScript enabled to view it.</span><script type='text/javascript'
 >
				document.getElementById('cloakb6ec4160a91797d32ee95af55227790b').innerHTM
 L = ''\;
				var prefix = '&#109\;a' + 'i&#108\;' + '&#116\;o'\;
				var path = 'hr'
  + 'ef' + '='\;
				var addyb6ec4160a91797d32ee95af55227790b = 'p&#97\;t' + '&#
 64\;'\;
				addyb6ec4160a91797d32ee95af55227790b = addyb6ec4160a91797d32ee95af5
 5227790b + 's&#97\;v&#97\;g&#101\;&#97\;ss&#111\;c&#105\;&#97\;t&#101\;s' 
 + '&#46\;' + 'c&#111\;' + '&#46\;' + '&#117\;k'\;
				var addy_textb6ec4160a917
 97d32ee95af55227790b = 'p&#97\;t' + '&#64\;' + 's&#97\;v&#97\;g&#101\;&#97
 \;ss&#111\;c&#105\;&#97\;t&#101\;s' + '&#46\;' + 'c&#111\;' + '&#46\;' + '
 &#117\;k'\;document.getElementById('cloakb6ec4160a91797d32ee95af55227790b'
 ).innerHTML += '<a ' + path + '\'' + prefix + ':' + addyb6ec4160a91797d32e
 e95af55227790b + '\'>'+addy_textb6ec4160a91797d32ee95af55227790b+'<\/a>'\;
 
		</script></p>
END:VEVENT
BEGIN:VEVENT
UID:20150227T220000UTC-e00bcf@http://www.olvestonparishhall.co.uk/
DTSTAMP:20260422T152128Z
CATEGORIES:Private Event
DESCRIPTION:<p>Party</p>
DTSTART;TZID=Europe/London:20150227T230000
DTEND;TZID=Europe/London:20150228T050000
SUMMARY:Private Party
URL:https://olvestonparishhall.co.uk/index.php/add-new-event/35-private-eve
 nt/3093-private-party
X-ALT-DESC;FMTTYPE=TEXT/HTML:<p>Party</p>
END:VEVENT
BEGIN:VEVENT
UID:20150227T230000UTC-21e253@http://www.olvestonparishhall.co.uk/
DTSTAMP:20260422T152128Z
CATEGORIES:Private Event
DESCRIPTION:<p>party</p>
DTSTART;TZID=Europe/London:20150228T000000
DTEND;TZID=Europe/London:20150228T050000
SUMMARY:party
URL:https://olvestonparishhall.co.uk/index.php/add-new-event/35-private-eve
 nt/3096-party
X-ALT-DESC;FMTTYPE=TEXT/HTML:<p>party</p>
END:VEVENT
BEGIN:VEVENT
UID:20150228T183000UTC-b475f1@http://www.olvestonparishhall.co.uk/
DTSTAMP:20260422T152128Z
CATEGORIES:Childrens Party - special 3 hour rate
DESCRIPTION:<p>party</p>
DTSTART;TZID=Europe/London:20150228T193000
DTEND;TZID=Europe/London:20150228T223000
SUMMARY:Childrens Birthday Party
URL:https://olvestonparishhall.co.uk/index.php/add-new-event/42-childrens-p
 arty/2009-childrens-birthday-party
X-ALT-DESC;FMTTYPE=TEXT/HTML:<p>party</p>
END:VEVENT
END:VCALENDAR
