BEGIN:VCALENDAR
VERSION:2.0
PRODID:-//https://olvestonparishhall.co.uk//NONSGML kigkonsult.se iCalcreat
 or 2.29.29//
CALSCALE:GREGORIAN
METHOD:PUBLISH
UID:d93e53e9-2b98-4053-931b-22e6031630aa
X-WR-CALNAME:JCal Pro Calendar
X-WR-CALDESC:Your online events calendar
X-WR-TIMEZONE:Europe/London
BEGIN:VTIMEZONE
TZID:Europe/London
BEGIN:STANDARD
TZNAME:GMT
DTSTART:20251026T020000
TZOFFSETFROM:+0100
TZOFFSETTO:+0000
RDATE:20261025T020000
END:STANDARD
BEGIN:DAYLIGHT
TZNAME:BST
DTSTART:20260329T010000
TZOFFSETFROM:+0000
TZOFFSETTO:+0100
RDATE:20270328T010000
END:DAYLIGHT
END:VTIMEZONE
BEGIN:VEVENT
UID:20150507T101500UTC-e8ca80@http://www.olvestonparishhall.co.uk/
DTSTAMP:20260420T002139Z
CATEGORIES:Public Event
DESCRIPTION:<p>General\, District and Parish Elections</p>\n<p>7am-10pm</p>
DTSTART;TZID=Europe/London:20150507T000000
DTEND;TZID=Europe/London:20150507T235959
SUMMARY:General Election
URL:https://olvestonparishhall.co.uk/index.php/add-new-event/34-public-even
 t/1551-general-election
X-ALT-DESC;FMTTYPE=TEXT/HTML:<p>General\, District and Parish Elections</p>
 \n<p>7am-10pm</p>
END:VEVENT
BEGIN:VEVENT
UID:20150914T233000UTC-973aba@http://www.olvestonparishhall.co.uk/
DTSTAMP:20260420T002139Z
CATEGORIES:Private Event
DESCRIPTION:<p>Rehearsal</p>
DTSTART;TZID=Europe/London:20150915T003000
DTEND;TZID=Europe/London:20150915T030000
RRULE:FREQ=WEEKLY;UNTIL=20151221T000000Z;INTERVAL=1;BYDAY=MO,TH
SUMMARY:Parish Players Rehearsal
URL:https://olvestonparishhall.co.uk/index.php/add-new-event/35-private-eve
 nt/2602-parish-players-rehearsal
X-ALT-DESC;FMTTYPE=TEXT/HTML:<p>Rehearsal</p>
END:VEVENT
BEGIN:VEVENT
UID:20150911T133000UTC-196f83@http://www.olvestonparishhall.co.uk/
DTSTAMP:20260420T002139Z
CATEGORIES:Public Event
DESCRIPTION:<p>Contact Claire&nbsp\;<span id='cloakf92e7011acba9a84813e50e9
 51f41da4'>This email address is being protected from spambots. You need Ja
 vaScript enabled to view it.</span><script type='text/javascript'>\n				docume
 nt.getElementById('cloakf92e7011acba9a84813e50e951f41da4').innerHTML = ''\
 ;\n				var prefix = '&#109\;a' + 'i&#108\;' + '&#116\;o'\;\n				var path = 'hr' + 
 'ef' + '='\;\n				var addyf92e7011acba9a84813e50e951f41da4 = 'br&#97\;dl&#101\
 ;yst&#111\;k&#101\;' + '&#64\;'\;\n				addyf92e7011acba9a84813e50e951f41da4 = 
 addyf92e7011acba9a84813e50e951f41da4 + 'b&#97\;byb&#97\;ll&#101\;t' + '&#4
 6\;' + 'c&#111\;' + '&#46\;' + '&#117\;k'\;\n				var addy_textf92e7011acba9a84
 813e50e951f41da4 = '&nbsp\;'\;document.getElementById('cloakf92e7011acba9a
 84813e50e951f41da4').innerHTML += '<a ' + path + '\'' + prefix + ':' + add
 yf92e7011acba9a84813e50e951f41da4 + '\'>'+addy_textf92e7011acba9a84813e50e
 951f41da4+'<\/a>'\;\n		</script><span id='cloak05cbbf7389a7663a794e222eaff0e
 d82'>This email address is being protected from spambots. You need JavaScr
 ipt enabled to view it.</span><script type='text/javascript'>\n				document.ge
 tElementById('cloak05cbbf7389a7663a794e222eaff0ed82').innerHTML = ''\;\n				va
 r prefix = '&#109\;a' + 'i&#108\;' + '&#116\;o'\;\n				var path = 'hr' + 'ef' 
 + '='\;\n				var addy05cbbf7389a7663a794e222eaff0ed82 = 'br&#97\;dl&#101\;yst&
 #111\;k&#101\;' + '&#64\;'\;\n				addy05cbbf7389a7663a794e222eaff0ed82 = addy0
 5cbbf7389a7663a794e222eaff0ed82 + 'b&#97\;byb&#97\;ll&#101\;t' + '&#46\;' 
 + 'c&#111\;' + '&#46\;' + '&#117\;k'\;\n				var addy_text05cbbf7389a7663a794e2
 22eaff0ed82 = 'br&#97\;dl&#101\;yst&#111\;k&#101\;' + '&#64\;' + 'b&#97\;b
 yb&#97\;ll&#101\;t' + '&#46\;' + 'c&#111\;' + '&#46\;' + '&#117\;k'\;docum
 ent.getElementById('cloak05cbbf7389a7663a794e222eaff0ed82').innerHTML += '
 <a ' + path + '\'' + prefix + ':' + addy05cbbf7389a7663a794e222eaff0ed82 +
  '\'>'+addy_text05cbbf7389a7663a794e222eaff0ed82+'<\/a>'\;\n		</script></p>
DTSTART;TZID=Europe/London:20150911T143000
DTEND;TZID=Europe/London:20150911T163000
RRULE:FREQ=WEEKLY;UNTIL=20160721T230000Z;INTERVAL=1;BYDAY=FR
SUMMARY:Baby Ballet
URL:https://olvestonparishhall.co.uk/index.php/add-new-event/34-public-even
 t/2913-baby-ballet
X-ALT-DESC;FMTTYPE=TEXT/HTML:<p>Contact Claire&nbsp\;<span id='cloakf92e701
 1acba9a84813e50e951f41da4'>This email address is being protected from spam
 bots. You need JavaScript enabled to view it.</span><script type='text/jav
 ascript'>\n				document.getElementById('cloakf92e7011acba9a84813e50e951f41da4'
 ).innerHTML = ''\;\n				var prefix = '&#109\;a' + 'i&#108\;' + '&#116\;o'\;\n				v
 ar path = 'hr' + 'ef' + '='\;\n				var addyf92e7011acba9a84813e50e951f41da4 = 
 'br&#97\;dl&#101\;yst&#111\;k&#101\;' + '&#64\;'\;\n				addyf92e7011acba9a8481
 3e50e951f41da4 = addyf92e7011acba9a84813e50e951f41da4 + 'b&#97\;byb&#97\;l
 l&#101\;t' + '&#46\;' + 'c&#111\;' + '&#46\;' + '&#117\;k'\;\n				var addy_tex
 tf92e7011acba9a84813e50e951f41da4 = '&nbsp\;'\;document.getElementById('cl
 oakf92e7011acba9a84813e50e951f41da4').innerHTML += '<a ' + path + '\'' + p
 refix + ':' + addyf92e7011acba9a84813e50e951f41da4 + '\'>'+addy_textf92e70
 11acba9a84813e50e951f41da4+'<\/a>'\;\n		</script><span id='cloak05cbbf7389a7
 663a794e222eaff0ed82'>This email address is being protected from spambots.
  You need JavaScript enabled to view it.</span><script type='text/javascri
 pt'>\n				document.getElementById('cloak05cbbf7389a7663a794e222eaff0ed82').inn
 erHTML = ''\;\n				var prefix = '&#109\;a' + 'i&#108\;' + '&#116\;o'\;\n				var pa
 th = 'hr' + 'ef' + '='\;\n				var addy05cbbf7389a7663a794e222eaff0ed82 = 'br&#
 97\;dl&#101\;yst&#111\;k&#101\;' + '&#64\;'\;\n				addy05cbbf7389a7663a794e222
 eaff0ed82 = addy05cbbf7389a7663a794e222eaff0ed82 + 'b&#97\;byb&#97\;ll&#10
 1\;t' + '&#46\;' + 'c&#111\;' + '&#46\;' + '&#117\;k'\;\n				var addy_text05cb
 bf7389a7663a794e222eaff0ed82 = 'br&#97\;dl&#101\;yst&#111\;k&#101\;' + '&#
 64\;' + 'b&#97\;byb&#97\;ll&#101\;t' + '&#46\;' + 'c&#111\;' + '&#46\;' + 
 '&#117\;k'\;document.getElementById('cloak05cbbf7389a7663a794e222eaff0ed82
 ').innerHTML += '<a ' + path + '\'' + prefix + ':' + addy05cbbf7389a7663a7
 94e222eaff0ed82 + '\'>'+addy_text05cbbf7389a7663a794e222eaff0ed82+'<\/a>'\
 ;\n		</script></p>
END:VEVENT
BEGIN:VEVENT
UID:20150102T180000UTC-3f9881@http://www.olvestonparishhall.co.uk/
DTSTAMP:20260420T002139Z
CATEGORIES:Private Event
DESCRIPTION:<p>cinema club</p>
DTSTART;TZID=Europe/London:20150102T190000
DTEND;TZID=Europe/London:20150102T223000
RRULE:FREQ=MONTHLY;COUNT=12;INTERVAL=1;BYDAY=FR;BYSETPOS=1
SUMMARY:U3A - Cinema Club
URL:https://olvestonparishhall.co.uk/index.php/add-new-event/35-private-eve
 nt/1678-u3a-cinema-club
X-ALT-DESC;FMTTYPE=TEXT/HTML:<p>cinema club</p>
END:VEVENT
END:VCALENDAR
