BEGIN:VCALENDAR
VERSION:2.0
PRODID:-//https://olvestonparishhall.co.uk//NONSGML kigkonsult.se iCalcreat
 or 2.29.29//
CALSCALE:GREGORIAN
METHOD:PUBLISH
UID:6cee19fc-b455-481c-9a2b-4217fe37a8b4
X-WR-CALNAME:JCal Pro Calendar
X-WR-CALDESC:Your online events calendar
X-WR-TIMEZONE:Europe/London
BEGIN:VTIMEZONE
TZID:Europe/London
BEGIN:STANDARD
TZNAME:GMT
DTSTART:20251026T020000
TZOFFSETFROM:+0100
TZOFFSETTO:+0000
RDATE:20261025T020000
END:STANDARD
BEGIN:DAYLIGHT
TZNAME:BST
DTSTART:20260329T010000
TZOFFSETFROM:+0000
TZOFFSETTO:+0100
RDATE:20270328T010000
END:DAYLIGHT
END:VTIMEZONE
BEGIN:VEVENT
UID:20130419T213000UTC-c187f2@http://olvestonparishhall.co.uk/
DTSTAMP:20260424T013709Z
CATEGORIES:Public Event
DESCRIPTION:<p>Ballroom and Sequence Dance Lessons</p>\n<p>From 5.30pm unti
 l 9.30pm<br />For more information contact Cathy Matthews on 07747686206</
 p>
DTSTART;TZID=Europe/London:20130419T223000
DTEND;TZID=Europe/London:20130420T023000
RRULE:FREQ=WEEKLY;UNTIL=20151204T000000Z;INTERVAL=1;BYDAY=FR
SUMMARY:Dancing Lessons
URL:https://olvestonparishhall.co.uk/index.php/add-new-event/34-public-even
 t/25-dancing-lessons
X-ALT-DESC;FMTTYPE=TEXT/HTML:<p>Ballroom and Sequence Dance Lessons</p>\n<p
 >From 5.30pm until 9.30pm<br />For more information contact Cathy Matthews
  on 07747686206</p>
END:VEVENT
BEGIN:VEVENT
UID:20131012T190000UTC-732710@http://olvestonparishhall.co.uk/
DTSTAMP:20260424T013709Z
CATEGORIES:Public Event
DESCRIPTION:<p>Olveston Parish Harvest Supper</p>\n<p>From 7pm until 11.30p
 m</p>
DTSTART;TZID=Europe/London:20131012T200000
DTEND;TZID=Europe/London:20131013T050000
SUMMARY:Harvest Supper
URL:https://olvestonparishhall.co.uk/index.php/add-new-event/34-public-even
 t/40-harvest-supper
X-ALT-DESC;FMTTYPE=TEXT/HTML:<p>Olveston Parish Harvest Supper</p>\n<p>From
  7pm until 11.30pm</p>
END:VEVENT
END:VCALENDAR
