BEGIN:VCALENDAR
VERSION:2.0
PRODID:-//https://olvestonparishhall.co.uk//NONSGML kigkonsult.se iCalcreat
 or 2.29.29//
CALSCALE:GREGORIAN
METHOD:PUBLISH
UID:a7262874-236e-4a5f-8ddc-c6d418f11e1f
X-WR-CALNAME:JCal Pro Calendar
X-WR-CALDESC:Your online events calendar
X-WR-TIMEZONE:Europe/London
BEGIN:VTIMEZONE
TZID:Europe/London
BEGIN:STANDARD
TZNAME:GMT
DTSTART:20251026T020000
TZOFFSETFROM:+0100
TZOFFSETTO:+0000
RDATE:20261025T020000
END:STANDARD
BEGIN:DAYLIGHT
TZNAME:BST
DTSTART:20260329T010000
TZOFFSETFROM:+0000
TZOFFSETTO:+0100
RDATE:20270328T010000
END:DAYLIGHT
END:VTIMEZONE
BEGIN:VEVENT
UID:20130512T140000UTC-42ab83@http://olvestonparishhall.co.uk/
DTSTAMP:20260424T223819Z
CATEGORIES:Public Event
DESCRIPTION:<p>A new outdoor perforrmannce for all the family. From 5pm.</p
 >\n<p>Tickets 01454 610388 or 613591.</p>
DTSTART;TZID=Europe/London:20130512T200000
DTEND;TZID=Europe/London:20130513T010000
SUMMARY:Strong Man
URL:https://olvestonparishhall.co.uk/index.php/add-new-event/34-public-even
 t/39-strong-man
X-ALT-DESC;FMTTYPE=TEXT/HTML:<p>A new outdoor perforrmannce for all the fam
 ily. From 5pm.</p>\n<p>Tickets 01454 610388 or 613591.</p>
END:VEVENT
BEGIN:VEVENT
UID:20130422T140000UTC-5e1084@http://www.olvestonparishhall.co.uk/
DTSTAMP:20260424T223819Z
CATEGORIES:Private Event
DESCRIPTION:<p>Table Tennis</p>
DTSTART;TZID=Europe/London:20130422T150000
DTEND;TZID=Europe/London:20130422T160000
RRULE:FREQ=WEEKLY;UNTIL=20140623T230000Z;INTERVAL=1;BYDAY=MO
SUMMARY:Table Tennis
URL:https://olvestonparishhall.co.uk/index.php/add-new-event/35-private-eve
 nt/116-table-tennis
X-ALT-DESC;FMTTYPE=TEXT/HTML:<p>Table Tennis</p>
END:VEVENT
END:VCALENDAR
