BEGIN:VCALENDAR
VERSION:2.0
PRODID:-//https://olvestonparishhall.co.uk//NONSGML kigkonsult.se iCalcreat
 or 2.29.29//
CALSCALE:GREGORIAN
METHOD:PUBLISH
UID:37ade45b-5a72-4d53-907e-b0c70fee168b
X-WR-CALNAME:JCal Pro Calendar
X-WR-CALDESC:Your online events calendar
X-WR-TIMEZONE:Europe/London
BEGIN:VTIMEZONE
TZID:Europe/London
BEGIN:STANDARD
TZNAME:GMT
DTSTART:20251026T020000
TZOFFSETFROM:+0100
TZOFFSETTO:+0000
RDATE:20261025T020000
END:STANDARD
BEGIN:DAYLIGHT
TZNAME:BST
DTSTART:20260329T010000
TZOFFSETFROM:+0000
TZOFFSETTO:+0100
RDATE:20270328T010000
END:DAYLIGHT
END:VTIMEZONE
BEGIN:VEVENT
UID:20200308T130000UTC-219ed5@http://www.olvestonparishhall.co.uk/
DTSTAMP:20260419T164844Z
CATEGORIES:Childrens Party - special 3 hour rate
DESCRIPTION:Private event
DTSTART;TZID=Europe/London:20200308T140000
DTEND;TZID=Europe/London:20200308T170000
SUMMARY:Private event-ML birthday party
URL:https://olvestonparishhall.co.uk/index.php/add-new-event/42-childrens-p
 arty/9624-private-event-ml-birthday-party
X-ALT-DESC;FMTTYPE=TEXT/HTML:Private event
END:VEVENT
END:VCALENDAR
