BEGIN:VCALENDAR
VERSION:2.0
PRODID:-//https://olvestonparishhall.co.uk//NONSGML kigkonsult.se iCalcreat
 or 2.29.29//
CALSCALE:GREGORIAN
METHOD:PUBLISH
UID:86d84656-4f57-49ed-a210-998c17f05a7c
X-WR-CALNAME:JCal Pro Calendar
X-WR-CALDESC:Your online events calendar
X-WR-TIMEZONE:Europe/London
BEGIN:VTIMEZONE
TZID:Europe/London
BEGIN:STANDARD
TZNAME:GMT
DTSTART:20251026T020000
TZOFFSETFROM:+0100
TZOFFSETTO:+0000
RDATE:20261025T020000
END:STANDARD
BEGIN:DAYLIGHT
TZNAME:BST
DTSTART:20260329T010000
TZOFFSETFROM:+0000
TZOFFSETTO:+0100
RDATE:20270328T010000
END:DAYLIGHT
END:VTIMEZONE
BEGIN:VEVENT
UID:20191130T180000UTC-10c6f9@http://www.olvestonparishhall.co.uk/
DTSTAMP:20260419T221139Z
CATEGORIES:Childrens Party - special 3 hour rate
DESCRIPTION:<p>\,</p>
DTSTART;TZID=Europe/London:20191130T190000
DTEND;TZID=Europe/London:20191130T200000
SUMMARY:kids party
URL:https://olvestonparishhall.co.uk/index.php/add-new-event/42-childrens-p
 arty/9126-kids-party
X-ALT-DESC;FMTTYPE=TEXT/HTML:<p>\,</p>
END:VEVENT
END:VCALENDAR
