BEGIN:VCALENDAR
VERSION:2.0
PRODID:-//https://olvestonparishhall.co.uk//NONSGML kigkonsult.se iCalcreat
 or 2.29.29//
CALSCALE:GREGORIAN
METHOD:PUBLISH
UID:7f541533-44bf-4d47-bfe1-bcfc9660126f
X-WR-CALNAME:JCal Pro Calendar
X-WR-CALDESC:Your online events calendar
X-WR-TIMEZONE:Europe/London
BEGIN:VTIMEZONE
TZID:Europe/London
BEGIN:STANDARD
TZNAME:GMT
DTSTART:20251026T020000
TZOFFSETFROM:+0100
TZOFFSETTO:+0000
RDATE:20261025T020000
END:STANDARD
BEGIN:DAYLIGHT
TZNAME:BST
DTSTART:20260329T010000
TZOFFSETFROM:+0000
TZOFFSETTO:+0100
RDATE:20270328T010000
END:DAYLIGHT
END:VTIMEZONE
BEGIN:VEVENT
UID:20150109T172900UTC-6a4e9f@http://www.olvestonparishhall.co.uk/
DTSTAMP:20260424T132834Z
CATEGORIES:Childrens Party - special 3 hour rate
DESCRIPTION:<p>party</p>
DTSTART;TZID=Europe/London:20150109T182900
DTEND;TZID=Europe/London:20150109T212900
SUMMARY:Kids party
URL:https://olvestonparishhall.co.uk/index.php/add-new-event/42-childrens-p
 arty/3104-kids-party
X-ALT-DESC;FMTTYPE=TEXT/HTML:<p>party</p>
END:VEVENT
END:VCALENDAR
