BEGIN:VCALENDAR
VERSION:2.0
PRODID:-//https://olvestonparishhall.co.uk//NONSGML kigkonsult.se iCalcreat
 or 2.29.29//
CALSCALE:GREGORIAN
METHOD:PUBLISH
UID:d9e04c35-d179-4873-9445-0a24581f8a96
X-WR-CALNAME:JCal Pro Calendar
X-WR-CALDESC:Your online events calendar
X-WR-TIMEZONE:Europe/London
BEGIN:VTIMEZONE
TZID:Europe/London
BEGIN:STANDARD
TZNAME:GMT
DTSTART:20251026T020000
TZOFFSETFROM:+0100
TZOFFSETTO:+0000
RDATE:20261025T020000
END:STANDARD
BEGIN:DAYLIGHT
TZNAME:BST
DTSTART:20260329T010000
TZOFFSETFROM:+0000
TZOFFSETTO:+0100
RDATE:20270328T010000
END:DAYLIGHT
END:VTIMEZONE
BEGIN:VEVENT
UID:20151215T140000UTC-f91ac4@http://www.olvestonparishhall.co.uk/
DTSTAMP:20260420T031048Z
CATEGORIES:Childrens Party - special 3 hour rate
DESCRIPTION:<p>party</p>
DTSTART;TZID=Europe/London:20151215T210000
DTEND;TZID=Europe/London:20151216T001500
SUMMARY:Kids party
URL:https://olvestonparishhall.co.uk/index.php/add-new-event/42-childrens-p
 arty/2810-preschool-nativity
X-ALT-DESC;FMTTYPE=TEXT/HTML:<p>party</p>
END:VEVENT
END:VCALENDAR
