BEGIN:VCALENDAR
VERSION:2.0
PRODID:-//https://olvestonparishhall.co.uk//NONSGML kigkonsult.se iCalcreat
 or 2.29.29//
CALSCALE:GREGORIAN
METHOD:PUBLISH
UID:ce5c16b1-87f3-4169-9159-497e939751fc
X-WR-CALNAME:JCal Pro Calendar
X-WR-CALDESC:Your online events calendar
X-WR-TIMEZONE:Europe/London
BEGIN:VTIMEZONE
TZID:Europe/London
BEGIN:STANDARD
TZNAME:GMT
DTSTART:20251026T020000
TZOFFSETFROM:+0100
TZOFFSETTO:+0000
RDATE:20261025T020000
END:STANDARD
BEGIN:DAYLIGHT
TZNAME:BST
DTSTART:20260329T010000
TZOFFSETFROM:+0000
TZOFFSETTO:+0100
RDATE:20270328T010000
END:DAYLIGHT
END:VTIMEZONE
BEGIN:VEVENT
UID:20221030T170000GMT-45258HiZPJ@https://www.olvestonparishhall.co.uk/
DTSTAMP:20260424T064647Z
CATEGORIES:Childrens Party - special 3 hour rate
DTSTART;TZID=Europe/London:20221030T150000
DTEND;TZID=Europe/London:20221030T220000
SUMMARY:Private Event
URL:https://olvestonparishhall.co.uk/index.php/add-new-event/42-childrens-p
 arty/15320-thirmal-rao
END:VEVENT
END:VCALENDAR
