BEGIN:VCALENDAR
VERSION:2.0
PRODID:-//https://olvestonparishhall.co.uk//NONSGML kigkonsult.se iCalcreat
 or 2.29.29//
CALSCALE:GREGORIAN
METHOD:PUBLISH
UID:3224ce70-5a24-41a7-9b8a-6ee1894b0ae8
X-WR-CALNAME:JCal Pro Calendar
X-WR-CALDESC:Your online events calendar
X-WR-TIMEZONE:Europe/London
BEGIN:VTIMEZONE
TZID:Europe/London
BEGIN:STANDARD
TZNAME:GMT
DTSTART:20251026T020000
TZOFFSETFROM:+0100
TZOFFSETTO:+0000
RDATE:20261025T020000
END:STANDARD
BEGIN:DAYLIGHT
TZNAME:BST
DTSTART:20260329T010000
TZOFFSETFROM:+0000
TZOFFSETTO:+0100
RDATE:20270328T010000
END:DAYLIGHT
END:VTIMEZONE
BEGIN:VEVENT
UID:20211003T120000UTC-00b8e9@https://www.olvestonparishhall.co.uk/
DTSTAMP:20260422T160226Z
CATEGORIES:Childrens Party - special 3 hour rate
DESCRIPTION:<p>Private event -party</p>
DTSTART;TZID=Europe/London:20211003T130000
DTEND;TZID=Europe/London:20211003T160000
SUMMARY:Private Event
URL:https://olvestonparishhall.co.uk/index.php/add-new-event/42-childrens-p
 arty/12032-private-event
X-ALT-DESC;FMTTYPE=TEXT/HTML:<p>Private event -party</p>
END:VEVENT
END:VCALENDAR
