BEGIN:VCALENDAR
VERSION:2.0
PRODID:-//https://olvestonparishhall.co.uk//NONSGML kigkonsult.se iCalcreat
 or 2.29.29//
CALSCALE:GREGORIAN
METHOD:PUBLISH
UID:5b76c10d-3424-4777-99da-f7321a80653e
X-WR-CALNAME:JCal Pro Calendar
X-WR-CALDESC:Your online events calendar
X-WR-TIMEZONE:Europe/London
BEGIN:VTIMEZONE
TZID:Europe/London
BEGIN:STANDARD
TZNAME:GMT
DTSTART:20251026T020000
TZOFFSETFROM:+0100
TZOFFSETTO:+0000
RDATE:20261025T020000
END:STANDARD
BEGIN:DAYLIGHT
TZNAME:BST
DTSTART:20260329T010000
TZOFFSETFROM:+0000
TZOFFSETTO:+0100
RDATE:20270328T010000
END:DAYLIGHT
END:VTIMEZONE
BEGIN:VEVENT
UID:20210710T180000UTC-d26245@https://olvestonparishhall.co.uk/
DTSTAMP:20260424T132419Z
CATEGORIES:Childrens Party - special 3 hour rate
DESCRIPTION:<p>Kids Disco</p>
DTSTART;TZID=Europe/London:20210710T190000
DTEND;TZID=Europe/London:20210711T000000
SUMMARY:Private Event
URL:https://olvestonparishhall.co.uk/index.php/add-new-event/42-childrens-p
 arty/12005-private-event
X-ALT-DESC;FMTTYPE=TEXT/HTML:<p>Kids Disco</p>
END:VEVENT
END:VCALENDAR
