BEGIN:VCALENDAR
VERSION:2.0
PRODID:-//https://olvestonparishhall.co.uk//NONSGML kigkonsult.se iCalcreat
 or 2.29.29//
CALSCALE:GREGORIAN
METHOD:PUBLISH
UID:f53fdc34-d20d-43ca-8d91-b46872e0f632
X-WR-CALNAME:JCal Pro Calendar
X-WR-CALDESC:Your online events calendar
X-WR-TIMEZONE:Europe/London
BEGIN:VTIMEZONE
TZID:Europe/London
BEGIN:STANDARD
TZNAME:GMT
DTSTART:20251026T020000
TZOFFSETFROM:+0100
TZOFFSETTO:+0000
RDATE:20261025T020000
END:STANDARD
BEGIN:DAYLIGHT
TZNAME:BST
DTSTART:20260329T010000
TZOFFSETFROM:+0000
TZOFFSETTO:+0100
RDATE:20270328T010000
END:DAYLIGHT
END:VTIMEZONE
BEGIN:VEVENT
UID:20130629T130000UTC-3f8948@http://www.olvestonparishhall.co.uk/
DTSTAMP:20260424T112918Z
CATEGORIES:Private Event
DESCRIPTION:<p>Training COurse</p>
DTSTART;TZID=Europe/London:20130629T140000
DTEND;TZID=Europe/London:20130630T000000
SUMMARY:Private Training Course
URL:https://olvestonparishhall.co.uk/index.php/add-new-event/35-private-eve
 nt/674-private-training-course
X-ALT-DESC;FMTTYPE=TEXT/HTML:<p>Training COurse</p>
END:VEVENT
END:VCALENDAR
