BEGIN:VCALENDAR
VERSION:2.0
PRODID:-//https://olvestonparishhall.co.uk//NONSGML kigkonsult.se iCalcreat
 or 2.29.29//
CALSCALE:GREGORIAN
METHOD:PUBLISH
UID:c3badd57-8ce5-434e-b6b2-39d8e4d0481b
X-WR-CALNAME:JCal Pro Calendar
X-WR-CALDESC:Your online events calendar
X-WR-TIMEZONE:Europe/London
BEGIN:VTIMEZONE
TZID:Europe/London
BEGIN:STANDARD
TZNAME:GMT
DTSTART:20251026T020000
TZOFFSETFROM:+0100
TZOFFSETTO:+0000
RDATE:20261025T020000
END:STANDARD
BEGIN:DAYLIGHT
TZNAME:BST
DTSTART:20260329T010000
TZOFFSETFROM:+0000
TZOFFSETTO:+0100
RDATE:20270328T010000
END:DAYLIGHT
END:VTIMEZONE
BEGIN:VEVENT
UID:20131216T150000UTC-d690b0@http://www.olvestonparishhall.co.uk/
DTSTAMP:20260419T163647Z
CATEGORIES:Private Event
DESCRIPTION:<p>Party</p>
DTSTART;TZID=Europe/London:20131216T160000
DTEND;TZID=Europe/London:20131216T180000
SUMMARY:Preschool Party
URL:https://olvestonparishhall.co.uk/index.php/add-new-event/35-private-eve
 nt/659-preschool-party
X-ALT-DESC;FMTTYPE=TEXT/HTML:<p>Party</p>
END:VEVENT
END:VCALENDAR
