BEGIN:VCALENDAR
VERSION:2.0
PRODID:-//https://olvestonparishhall.co.uk//NONSGML kigkonsult.se iCalcreat
 or 2.29.29//
CALSCALE:GREGORIAN
METHOD:PUBLISH
UID:b39c3620-144c-42e4-b194-aef9ab8e253f
X-WR-CALNAME:JCal Pro Calendar
X-WR-CALDESC:Your online events calendar
X-WR-TIMEZONE:Europe/London
BEGIN:VTIMEZONE
TZID:Europe/London
BEGIN:STANDARD
TZNAME:GMT
DTSTART:20251026T020000
TZOFFSETFROM:+0100
TZOFFSETTO:+0000
RDATE:20261025T020000
END:STANDARD
BEGIN:DAYLIGHT
TZNAME:BST
DTSTART:20260329T010000
TZOFFSETFROM:+0000
TZOFFSETTO:+0100
RDATE:20270328T010000
END:DAYLIGHT
END:VTIMEZONE
BEGIN:VEVENT
UID:20160130T170000UTC-af9770@http://www.olvestonparishhall.co.uk/
DTSTAMP:20260420T030900Z
CATEGORIES:Private Event
DESCRIPTION:<p>80th Birthday Party for Alan\, Lisa\, Hannah &amp\; James's 
 dad Robin Bush&nbsp\; in initial stages of organisation! &nbsp\; Alan &nbs
 p\;</p>
DTSTART;TZID=Europe/London:20160130T180000
DTEND;TZID=Europe/London:20160131T040300
SUMMARY:80th Birthday Party - Robin Bush
URL:https://olvestonparishhall.co.uk/index.php/add-new-event/35-private-eve
 nt/3099-80th-birthday-party-robin-bush
X-ALT-DESC;FMTTYPE=TEXT/HTML:<p>80th Birthday Party for Alan\, Lisa\, Hanna
 h &amp\; James's dad Robin Bush&nbsp\; in initial stages of organisation! 
 &nbsp\; Alan &nbsp\;</p>
END:VEVENT
END:VCALENDAR
