BEGIN:VCALENDAR
VERSION:2.0
PRODID:-//https://olvestonparishhall.co.uk//NONSGML kigkonsult.se iCalcreat
 or 2.29.29//
CALSCALE:GREGORIAN
METHOD:PUBLISH
UID:90233577-fd85-460b-af94-c728d6bccdbb
X-WR-CALNAME:JCal Pro Calendar
X-WR-CALDESC:Your online events calendar
X-WR-TIMEZONE:Europe/London
BEGIN:VTIMEZONE
TZID:Europe/London
BEGIN:STANDARD
TZNAME:GMT
DTSTART:20251026T020000
TZOFFSETFROM:+0100
TZOFFSETTO:+0000
RDATE:20261025T020000
END:STANDARD
BEGIN:DAYLIGHT
TZNAME:BST
DTSTART:20260329T010000
TZOFFSETFROM:+0000
TZOFFSETTO:+0100
RDATE:20270328T010000
END:DAYLIGHT
END:VTIMEZONE
BEGIN:VEVENT
UID:20250507T111500BST-5052sFuHFm@https://olvestonparishhall.co.uk/
DTSTAMP:20260419T191955Z
CATEGORIES:Private Event
DTSTART;TZID=Europe/London:20250507T111500
DTEND;TZID=Europe/London:20250507T123000
SUMMARY:Olveston Parish Council
URL:https://olvestonparishhall.co.uk/index.php/add-new-event/35-private-eve
 nt/20453-olveston-parish-council
END:VEVENT
END:VCALENDAR
