BEGIN:VCALENDAR
VERSION:2.0
PRODID:-//https://olvestonparishhall.co.uk//NONSGML kigkonsult.se iCalcreat
 or 2.29.29//
CALSCALE:GREGORIAN
METHOD:PUBLISH
UID:aecce4cb-0115-4973-a0b6-667d9d465534
X-WR-CALNAME:JCal Pro Calendar
X-WR-CALDESC:Your online events calendar
X-WR-TIMEZONE:Europe/London
BEGIN:VTIMEZONE
TZID:Europe/London
BEGIN:STANDARD
TZNAME:GMT
DTSTART:20251026T020000
TZOFFSETFROM:+0100
TZOFFSETTO:+0000
RDATE:20261025T020000
END:STANDARD
BEGIN:DAYLIGHT
TZNAME:BST
DTSTART:20260329T010000
TZOFFSETFROM:+0000
TZOFFSETTO:+0100
RDATE:20270328T010000
END:DAYLIGHT
END:VTIMEZONE
BEGIN:VEVENT
UID:20250517T090000BST-5087xw0umc@https://www.olvestonparishhall.co.uk/
DTSTAMP:20260419T192005Z
CATEGORIES:Private Event
DTSTART;TZID=Europe/London:20250517T080000
DTEND;TZID=Europe/London:20250517T150000
SUMMARY:Hindu religious event
URL:https://olvestonparishhall.co.uk/index.php/add-new-event/35-private-eve
 nt/20445-hindu-religious-event
END:VEVENT
END:VCALENDAR
