BEGIN:VCALENDAR
VERSION:2.0
PRODID:-//https://olvestonparishhall.co.uk//NONSGML kigkonsult.se iCalcreat
 or 2.29.29//
CALSCALE:GREGORIAN
METHOD:PUBLISH
UID:6b9b1dd1-4b0b-4c75-ad3b-2f3b31ffb0dd
X-WR-CALNAME:JCal Pro Calendar
X-WR-CALDESC:Your online events calendar
X-WR-TIMEZONE:Europe/London
BEGIN:VTIMEZONE
TZID:Europe/London
BEGIN:STANDARD
TZNAME:GMT
DTSTART:20251026T020000
TZOFFSETFROM:+0100
TZOFFSETTO:+0000
RDATE:20261025T020000
END:STANDARD
BEGIN:DAYLIGHT
TZNAME:BST
DTSTART:20260329T010000
TZOFFSETFROM:+0000
TZOFFSETTO:+0100
RDATE:20270328T010000
END:DAYLIGHT
END:VTIMEZONE
BEGIN:VEVENT
UID:20240901T140000BST-3146RCuLs1@https://www.olvestonparishhall.co.uk/
DTSTAMP:20260424T225651Z
CATEGORIES:Private Event
DESCRIPTION:<p>Daughter's first birthday party. We would like to book whole
  building.</p>
DTSTART;TZID=Europe/London:20240901T130000
DTEND;TZID=Europe/London:20240901T220000
SUMMARY:Private Party
URL:https://olvestonparishhall.co.uk/index.php/add-new-event/35-private-eve
 nt/19209-private-party
X-ALT-DESC;FMTTYPE=TEXT/HTML:<p>Daughter's first birthday party. We would l
 ike to book whole building.</p>
END:VEVENT
END:VCALENDAR
