BEGIN:VCALENDAR
VERSION:2.0
PRODID:-//https://olvestonparishhall.co.uk//NONSGML kigkonsult.se iCalcreat
 or 2.29.29//
CALSCALE:GREGORIAN
METHOD:PUBLISH
UID:508be40d-c3c9-4079-83d2-75000a333c60
X-WR-CALNAME:JCal Pro Calendar
X-WR-CALDESC:Your online events calendar
X-WR-TIMEZONE:Europe/London
BEGIN:VTIMEZONE
TZID:Europe/London
BEGIN:STANDARD
TZNAME:GMT
DTSTART:20251026T020000
TZOFFSETFROM:+0100
TZOFFSETTO:+0000
RDATE:20261025T020000
END:STANDARD
BEGIN:DAYLIGHT
TZNAME:BST
DTSTART:20260329T010000
TZOFFSETFROM:+0000
TZOFFSETTO:+0100
RDATE:20270328T010000
END:DAYLIGHT
END:VTIMEZONE
BEGIN:VEVENT
UID:20241004T170000BST-6551PZaozu@https://olvestonparishhall.co.uk/
DTSTAMP:20260422T085528Z
CATEGORIES:Private Event
DTSTART;TZID=Europe/London:20241004T170000
DTEND;TZID=Europe/London:20241004T230000
SUMMARY:Thornbury Arts Festival
URL:https://olvestonparishhall.co.uk/index.php/add-new-event/35-private-eve
 nt/18900-thornbury-arts-festival
END:VEVENT
END:VCALENDAR
