BEGIN:VCALENDAR
VERSION:2.0
PRODID:-//https://olvestonparishhall.co.uk//NONSGML kigkonsult.se iCalcreat
 or 2.29.29//
CALSCALE:GREGORIAN
METHOD:PUBLISH
UID:ec74b224-b8aa-4db4-b970-8f62c7e1f026
X-WR-CALNAME:JCal Pro Calendar
X-WR-CALDESC:Your online events calendar
X-WR-TIMEZONE:Europe/London
BEGIN:VTIMEZONE
TZID:Europe/London
BEGIN:STANDARD
TZNAME:GMT
DTSTART:20251026T020000
TZOFFSETFROM:+0100
TZOFFSETTO:+0000
RDATE:20261025T020000
END:STANDARD
BEGIN:DAYLIGHT
TZNAME:BST
DTSTART:20260329T010000
TZOFFSETFROM:+0000
TZOFFSETTO:+0100
RDATE:20270328T010000
END:DAYLIGHT
END:VTIMEZONE
BEGIN:VEVENT
UID:20240323T140000GMT-76154iBeeZ@https://olvestonparishhall.co.uk/
DTSTAMP:20260424T114608Z
CATEGORIES:Private Event
DTSTART;TZID=Europe/London:20240323T140000
DTEND;TZID=Europe/London:20240323T160000
RRULE:FREQ=MONTHLY;UNTIL=20241123T000000Z;INTERVAL=1;BYDAY=SA;BYSETPOS=4
SUMMARY:Severnside Squares
URL:https://olvestonparishhall.co.uk/index.php/add-new-event/35-private-eve
 nt/18632-severnside-squares
END:VEVENT
END:VCALENDAR
