BEGIN:VCALENDAR
VERSION:2.0
PRODID:-//https://olvestonparishhall.co.uk//NONSGML kigkonsult.se iCalcreat
 or 2.29.29//
CALSCALE:GREGORIAN
METHOD:PUBLISH
UID:ce45fa63-ebc4-47d4-9e56-56e64c9c1982
X-WR-CALNAME:JCal Pro Calendar
X-WR-CALDESC:Your online events calendar
X-WR-TIMEZONE:Europe/London
BEGIN:VTIMEZONE
TZID:Europe/London
BEGIN:STANDARD
TZNAME:GMT
DTSTART:20251026T020000
TZOFFSETFROM:+0100
TZOFFSETTO:+0000
RDATE:20261025T020000
END:STANDARD
BEGIN:DAYLIGHT
TZNAME:BST
DTSTART:20260329T010000
TZOFFSETFROM:+0000
TZOFFSETTO:+0100
RDATE:20270328T010000
END:DAYLIGHT
END:VTIMEZONE
BEGIN:VEVENT
UID:20220618T093000BST-6742tWeCT2@https://www.olvestonparishhall.co.uk/
DTSTAMP:20260423T215314Z
CATEGORIES:Private Event
DESCRIPTION:<p>Oil painting workshop</p>
DTSTART;TZID=Europe/London:20220618T093000
DTEND;TZID=Europe/London:20220618T163000
SUMMARY:Olveston Art Group Summer Workshop I
URL:https://olvestonparishhall.co.uk/index.php/add-new-event/35-private-eve
 nt/14819-olveston-art-group-summer-workshop-i
X-ALT-DESC;FMTTYPE=TEXT/HTML:<p>Oil painting workshop</p>
END:VEVENT
END:VCALENDAR
