BEGIN:VCALENDAR
VERSION:2.0
PRODID:-//https://olvestonparishhall.co.uk//NONSGML kigkonsult.se iCalcreat
 or 2.29.29//
CALSCALE:GREGORIAN
METHOD:PUBLISH
UID:9746ae46-bd67-4576-b1ff-1da33c887d66
X-WR-CALNAME:JCal Pro Calendar
X-WR-CALDESC:Your online events calendar
X-WR-TIMEZONE:Europe/London
BEGIN:VTIMEZONE
TZID:Europe/London
BEGIN:STANDARD
TZNAME:GMT
DTSTART:20251026T020000
TZOFFSETFROM:+0100
TZOFFSETTO:+0000
RDATE:20261025T020000
END:STANDARD
BEGIN:DAYLIGHT
TZNAME:BST
DTSTART:20260329T010000
TZOFFSETFROM:+0000
TZOFFSETTO:+0100
RDATE:20270328T010000
END:DAYLIGHT
END:VTIMEZONE
BEGIN:VEVENT
UID:20220102T133000GMT-3701hnrMsH@https://www.olvestonparishhall.co.uk/
DTSTAMP:20260422T130058Z
CATEGORIES:Private Event
DTSTART;TZID=Europe/London:20220102T133000
DTEND;TZID=Europe/London:20220102T173000
SUMMARY:Children's Birthday Party
URL:https://olvestonparishhall.co.uk/index.php/add-new-event/35-private-eve
 nt/13199-children-s-birthday-party
END:VEVENT
END:VCALENDAR
