BEGIN:VCALENDAR
VERSION:2.0
PRODID:-//https://olvestonparishhall.co.uk//NONSGML kigkonsult.se iCalcreat
 or 2.29.29//
CALSCALE:GREGORIAN
METHOD:PUBLISH
UID:32805ceb-00f8-45a4-a47f-5e86e9877c03
X-WR-CALNAME:JCal Pro Calendar
X-WR-CALDESC:Your online events calendar
X-WR-TIMEZONE:Europe/London
BEGIN:VTIMEZONE
TZID:Europe/London
BEGIN:STANDARD
TZNAME:GMT
DTSTART:20251026T020000
TZOFFSETFROM:+0100
TZOFFSETTO:+0000
RDATE:20261025T020000
END:STANDARD
BEGIN:DAYLIGHT
TZNAME:BST
DTSTART:20260329T010000
TZOFFSETFROM:+0000
TZOFFSETTO:+0100
RDATE:20270328T010000
END:DAYLIGHT
END:VTIMEZONE
BEGIN:VEVENT
UID:20221029T103000BST-8663G4o1rK@https://www.olvestonparishhall.co.uk/
DTSTAMP:20260424T190647Z
CATEGORIES:Private Event
DESCRIPTION:<p>Meccano club meeting</p>
DTSTART;TZID=Europe/London:20221029T103000
DTEND;TZID=Europe/London:20221029T170000
SUMMARY:SWMC meeting
URL:https://olvestonparishhall.co.uk/index.php/add-new-event/35-private-eve
 nt/13198-swmc-meeting
X-ALT-DESC;FMTTYPE=TEXT/HTML:<p>Meccano club meeting</p>
END:VEVENT
END:VCALENDAR
