BEGIN:VCALENDAR
VERSION:2.0
PRODID:-//https://olvestonparishhall.co.uk//NONSGML kigkonsult.se iCalcreat
 or 2.29.29//
CALSCALE:GREGORIAN
METHOD:PUBLISH
UID:0ce2ac50-b7e4-4264-8743-c5ce51e8dd5e
X-WR-CALNAME:JCal Pro Calendar
X-WR-CALDESC:Your online events calendar
X-WR-TIMEZONE:Europe/London
BEGIN:VTIMEZONE
TZID:Europe/London
BEGIN:STANDARD
TZNAME:GMT
DTSTART:20251026T020000
TZOFFSETFROM:+0100
TZOFFSETTO:+0000
RDATE:20261025T020000
END:STANDARD
BEGIN:DAYLIGHT
TZNAME:BST
DTSTART:20260329T010000
TZOFFSETFROM:+0000
TZOFFSETTO:+0100
RDATE:20270328T010000
END:DAYLIGHT
END:VTIMEZONE
BEGIN:VEVENT
UID:20131031T190000UTC-a42bfe@http://olvestonparishhall.co.uk/
DTSTAMP:20260424T090501Z
CATEGORIES:Public Event
DESCRIPTION:<p>Childrens` Halloween Party</p>\n<p>Tickets available from Ol
 veston Pre-School</p>\n<p>From 4.30pm until 6.15pm</p>
DTSTART;TZID=Europe/London:20131031T200000
DTEND;TZID=Europe/London:20131101T000000
SUMMARY:Olveston Pre-School Halloween Party
URL:https://olvestonparishhall.co.uk/index.php/add-new-event/34-public-even
 t/37-olveston-pre-school-halloween-party
X-ALT-DESC;FMTTYPE=TEXT/HTML:<p>Childrens` Halloween Party</p>\n<p>Tickets 
 available from Olveston Pre-School</p>\n<p>From 4.30pm until 6.15pm</p>
END:VEVENT
END:VCALENDAR
