BEGIN:VCALENDAR
VERSION:2.0
PRODID:-//https://olvestonparishhall.co.uk//NONSGML kigkonsult.se iCalcreat
 or 2.29.29//
CALSCALE:GREGORIAN
METHOD:PUBLISH
UID:5a4b2bd6-5450-4163-823e-f84965e49b6a
X-WR-CALNAME:JCal Pro Calendar
X-WR-CALDESC:Your online events calendar
X-WR-TIMEZONE:Europe/London
BEGIN:VTIMEZONE
TZID:Europe/London
BEGIN:STANDARD
TZNAME:GMT
DTSTART:20251026T020000
TZOFFSETFROM:+0100
TZOFFSETTO:+0000
RDATE:20261025T020000
END:STANDARD
BEGIN:DAYLIGHT
TZNAME:BST
DTSTART:20260329T010000
TZOFFSETFROM:+0000
TZOFFSETTO:+0100
RDATE:20270328T010000
END:DAYLIGHT
END:VTIMEZONE
BEGIN:VEVENT
UID:20130613T223000UTC-db7669@http://olvestonparishhall.co.uk/
DTSTAMP:20260424T150557Z
CATEGORIES:Public Event
DESCRIPTION:<p>Open from 7.30pm until 9pm</p>\n<p>Pay on the door\,&nbsp\;?
 ?5 entry plus 3 items of clothes</p>\n<p>Further details in Meeting Point<
 /p>\n<p>&nbsp\;</p>
DTSTART;TZID=Europe/London:20130613T233000
DTEND;TZID=Europe/London:20130614T023000
SUMMARY:Ladies clothes swap party
URL:https://olvestonparishhall.co.uk/index.php/add-new-event/34-public-even
 t/23-ladies-clothes-swap-party
X-ALT-DESC;FMTTYPE=TEXT/HTML:<p>Open from 7.30pm until 9pm</p>\n<p>Pay on t
 he door\,&nbsp\;??5 entry plus 3 items of clothes</p>\n<p>Further details 
 in Meeting Point</p>\n<p>&nbsp\;</p>
END:VEVENT
END:VCALENDAR
