BEGIN:VCALENDAR
VERSION:2.0
PRODID:-//https://olvestonparishhall.co.uk//NONSGML kigkonsult.se iCalcreat
 or 2.29.29//
CALSCALE:GREGORIAN
METHOD:PUBLISH
UID:b6846b9c-06b9-4b83-bfc9-015cd9378e1f
X-WR-CALNAME:JCal Pro Calendar
X-WR-CALDESC:Your online events calendar
X-WR-TIMEZONE:Europe/London
BEGIN:VTIMEZONE
TZID:Europe/London
BEGIN:STANDARD
TZNAME:GMT
DTSTART:20251026T020000
TZOFFSETFROM:+0100
TZOFFSETTO:+0000
RDATE:20261025T020000
END:STANDARD
BEGIN:DAYLIGHT
TZNAME:BST
DTSTART:20260329T010000
TZOFFSETFROM:+0000
TZOFFSETTO:+0100
RDATE:20270328T010000
END:DAYLIGHT
END:VTIMEZONE
BEGIN:VEVENT
UID:20150311T233000UTC-a7e489@http://www.olvestonparishhall.co.uk/
DTSTAMP:20260425T102714Z
CATEGORIES:Public Event
DESCRIPTION:<p>Olveston Parish Hall AGM</p>\n<p>At the Parish Hall at 7:30p
 m</p>\n<p>All welcome.</p>
DTSTART;TZID=Europe/London:20150312T003000
DTEND;TZID=Europe/London:20150312T013000
SUMMARY:Olveston Parish Hall AGM
URL:https://olvestonparishhall.co.uk/index.php/add-new-event/34-public-even
 t/2010-olveston-parish-hall-agm
X-ALT-DESC;FMTTYPE=TEXT/HTML:<p>Olveston Parish Hall AGM</p>\n<p>At the Par
 ish Hall at 7:30pm</p>\n<p>All welcome.</p>
END:VEVENT
END:VCALENDAR
