BEGIN:VCALENDAR
VERSION:2.0
PRODID:-//https://olvestonparishhall.co.uk//NONSGML kigkonsult.se iCalcreat
 or 2.29.29//
CALSCALE:GREGORIAN
METHOD:PUBLISH
UID:09d848db-daf7-42ba-abbb-7dfea4ef201d
X-WR-CALNAME:JCal Pro Calendar
X-WR-CALDESC:Your online events calendar
X-WR-TIMEZONE:Europe/London
BEGIN:VTIMEZONE
TZID:Europe/London
BEGIN:STANDARD
TZNAME:GMT
DTSTART:20251026T020000
TZOFFSETFROM:+0100
TZOFFSETTO:+0000
RDATE:20261025T020000
END:STANDARD
BEGIN:DAYLIGHT
TZNAME:BST
DTSTART:20260329T010000
TZOFFSETFROM:+0000
TZOFFSETTO:+0100
RDATE:20270328T010000
END:DAYLIGHT
END:VTIMEZONE
BEGIN:VEVENT
UID:20130629T140000UTC-e4a84b@http://www.olvestonparishhall.co.uk/
DTSTAMP:20260424T152023Z
CATEGORIES:Public Event
DESCRIPTION:<p>Olveston Pre-school Sports day</p>\n<p>Kick off at 10:30\, b
 ring a picnic and enjoy the fun.</p>\n<p>More details from <span id='cloak
 c7543ff98fce8fb283fe8abab16cb2b5'>This email address is being protected fr
 om spambots. You need JavaScript enabled to view it.</span><script type='t
 ext/javascript'>
				document.getElementById('cloakc7543ff98fce8fb283fe8abab16c
 b2b5').innerHTML = ''\;
				var prefix = '&#109\;a' + 'i&#108\;' + '&#116\;o'\;
 
				var path = 'hr' + 'ef' + '='\;
				var addyc7543ff98fce8fb283fe8abab16cb2b5 = '
 h&#101\;l&#101\;n' + '&#64\;'\;
				addyc7543ff98fce8fb283fe8abab16cb2b5 = addy
 c7543ff98fce8fb283fe8abab16cb2b5 + '&#111\;lv&#101\;st&#111\;npr&#101\;sch
 &#111\;&#111\;l' + '&#46\;' + 'c&#111\;' + '&#46\;' + '&#117\;k'\;
				var addy
 _textc7543ff98fce8fb283fe8abab16cb2b5 = 'h&#101\;l&#101\;n' + '&#64\;' + '
 &#111\;lv&#101\;st&#111\;npr&#101\;sch&#111\;&#111\;l' + '&#46\;' + 'c&#11
 1\;' + '&#46\;' + '&#117\;k'\;document.getElementById('cloakc7543ff98fce8f
 b283fe8abab16cb2b5').innerHTML += '<a ' + path + '\'' + prefix + ':' + add
 yc7543ff98fce8fb283fe8abab16cb2b5 + '\'>'+addy_textc7543ff98fce8fb283fe8ab
 ab16cb2b5+'<\/a>'\;
		</script></p>
DTSTART;TZID=Europe/London:20130629T150000
DTEND;TZID=Europe/London:20130629T190000
SUMMARY:Olveston Pre-school Sports Day
URL:https://olvestonparishhall.co.uk/index.php/add-new-event/34-public-even
 t/195-olveston-pre-school-sports-day
X-ALT-DESC;FMTTYPE=TEXT/HTML:<p>Olveston Pre-school Sports day</p>\n<p>Kick
  off at 10:30\, bring a picnic and enjoy the fun.</p>\n<p>More details fro
 m <span id='cloakc7543ff98fce8fb283fe8abab16cb2b5'>This email address is b
 eing protected from spambots. You need JavaScript enabled to view it.</spa
 n><script type='text/javascript'>
				document.getElementById('cloakc7543ff98fc
 e8fb283fe8abab16cb2b5').innerHTML = ''\;
				var prefix = '&#109\;a' + 'i&#108\
 ;' + '&#116\;o'\;
				var path = 'hr' + 'ef' + '='\;
				var addyc7543ff98fce8fb283f
 e8abab16cb2b5 = 'h&#101\;l&#101\;n' + '&#64\;'\;
				addyc7543ff98fce8fb283fe8a
 bab16cb2b5 = addyc7543ff98fce8fb283fe8abab16cb2b5 + '&#111\;lv&#101\;st&#1
 11\;npr&#101\;sch&#111\;&#111\;l' + '&#46\;' + 'c&#111\;' + '&#46\;' + '&#
 117\;k'\;
				var addy_textc7543ff98fce8fb283fe8abab16cb2b5 = 'h&#101\;l&#101\;
 n' + '&#64\;' + '&#111\;lv&#101\;st&#111\;npr&#101\;sch&#111\;&#111\;l' + 
 '&#46\;' + 'c&#111\;' + '&#46\;' + '&#117\;k'\;document.getElementById('cl
 oakc7543ff98fce8fb283fe8abab16cb2b5').innerHTML += '<a ' + path + '\'' + p
 refix + ':' + addyc7543ff98fce8fb283fe8abab16cb2b5 + '\'>'+addy_textc7543f
 f98fce8fb283fe8abab16cb2b5+'<\/a>'\;
		</script></p>
END:VEVENT
END:VCALENDAR
