BEGIN:VCALENDAR
VERSION:2.0
PRODID:-//https://olvestonparishhall.co.uk//NONSGML kigkonsult.se iCalcreat
 or 2.29.29//
CALSCALE:GREGORIAN
METHOD:PUBLISH
UID:241e4521-5566-445a-b1af-0fe2f737d778
X-WR-CALNAME:JCal Pro Calendar
X-WR-CALDESC:Your online events calendar
X-WR-TIMEZONE:Europe/London
BEGIN:VTIMEZONE
TZID:Europe/London
BEGIN:STANDARD
TZNAME:GMT
DTSTART:20251026T020000
TZOFFSETFROM:+0100
TZOFFSETTO:+0000
RDATE:20261025T020000
END:STANDARD
BEGIN:DAYLIGHT
TZNAME:BST
DTSTART:20260329T010000
TZOFFSETFROM:+0000
TZOFFSETTO:+0100
RDATE:20270328T010000
END:DAYLIGHT
END:VTIMEZONE
BEGIN:VEVENT
UID:20250329T080000GMT-0869zAuJxf@https://olvestonparishhall.co.uk/
DTSTAMP:20260424T161615Z
CATEGORIES:Public Event
DTSTART;TZID=Europe/London:20250329T080000
DTEND;TZID=Europe/London:20250329T180000
SUMMARY:Spring into Action
URL:https://olvestonparishhall.co.uk/index.php/add-new-event/34-public-even
 t/19227-spring-into-action
END:VEVENT
END:VCALENDAR
