BEGIN:VCALENDAR
VERSION:2.0
PRODID:-//https://olvestonparishhall.co.uk//NONSGML kigkonsult.se iCalcreat
 or 2.29.29//
CALSCALE:GREGORIAN
METHOD:PUBLISH
UID:1bf01b2c-7b8d-4f83-a653-f19d161dd937
X-WR-CALNAME:JCal Pro Calendar
X-WR-CALDESC:Your online events calendar
X-WR-TIMEZONE:Europe/London
BEGIN:VTIMEZONE
TZID:Europe/London
BEGIN:STANDARD
TZNAME:GMT
DTSTART:20251026T020000
TZOFFSETFROM:+0100
TZOFFSETTO:+0000
RDATE:20261025T020000
END:STANDARD
BEGIN:DAYLIGHT
TZNAME:BST
DTSTART:20260329T010000
TZOFFSETFROM:+0000
TZOFFSETTO:+0100
RDATE:20270328T010000
END:DAYLIGHT
END:VTIMEZONE
BEGIN:VEVENT
UID:20141129T120000UTC-ed2dd8@http://www.olvestonparishhall.co.uk/
DTSTAMP:20260425T015805Z
CATEGORIES:Public Event
DESCRIPTION:<p>Enjoy an English breakfast before facing your Christmas shop
 png. &nbsp\;Meet up with your friends and neighbours or read a newspaper. 
 Orders taken from 8am to 10.30. Adults ??7.50 children (under 11) ??5.00. 
 &nbsp\;Fundraising event for Olveston and Tockington Tennis Club. Everyone
  welcome.</p>
DTSTART;TZID=Europe/London:20141129T130000
DTEND;TZID=Europe/London:20141129T180000
SUMMARY:Pop-up Breakfast
URL:https://olvestonparishhall.co.uk/index.php/add-new-event/34-public-even
 t/1577-pop-up-breakfast
X-ALT-DESC;FMTTYPE=TEXT/HTML:<p>Enjoy an English breakfast before facing yo
 ur Christmas shoppng. &nbsp\;Meet up with your friends and neighbours or r
 ead a newspaper. Orders taken from 8am to 10.30. Adults ??7.50 children (u
 nder 11) ??5.00. &nbsp\;Fundraising event for Olveston and Tockington Tenn
 is Club. Everyone welcome.</p>
END:VEVENT
END:VCALENDAR
