BEGIN:VCALENDAR
VERSION:2.0
PRODID:-//https://olvestonparishhall.co.uk//NONSGML kigkonsult.se iCalcreat
 or 2.29.29//
CALSCALE:GREGORIAN
METHOD:PUBLISH
UID:21b6edc6-0e89-46a7-be97-11e233c592ec
X-WR-CALNAME:JCal Pro Calendar
X-WR-CALDESC:Your online events calendar
X-WR-TIMEZONE:Europe/London
BEGIN:VTIMEZONE
TZID:Europe/London
BEGIN:STANDARD
TZNAME:GMT
DTSTART:20251026T020000
TZOFFSETFROM:+0100
TZOFFSETTO:+0000
RDATE:20261025T020000
END:STANDARD
BEGIN:DAYLIGHT
TZNAME:BST
DTSTART:20260329T010000
TZOFFSETFROM:+0000
TZOFFSETTO:+0100
RDATE:20270328T010000
END:DAYLIGHT
END:VTIMEZONE
BEGIN:VEVENT
UID:20220521T103000BST-7816KxhjPI@https://www.olvestonparishhall.co.uk/
DTSTAMP:20260423T115829Z
CATEGORIES:Public Event
DESCRIPTION:<p>Meeting for volunteers</p>
DTSTART;TZID=Europe/London:20220521T103000
DTEND;TZID=Europe/London:20220521T113000
SUMMARY:Speed Watch Meeting
URL:https://olvestonparishhall.co.uk/index.php/add-new-event/34-public-even
 t/14842-speed-watch-meeting
X-ALT-DESC;FMTTYPE=TEXT/HTML:<p>Meeting for volunteers</p>
END:VEVENT
END:VCALENDAR
