BEGIN:VCALENDAR
VERSION:2.0
PRODID:-//https://olvestonparishhall.co.uk//NONSGML kigkonsult.se iCalcreat
 or 2.29.29//
CALSCALE:GREGORIAN
METHOD:PUBLISH
UID:18baa63c-4b85-4ff2-91d7-9b661c071068
X-WR-CALNAME:JCal Pro Calendar
X-WR-CALDESC:Your online events calendar
X-WR-TIMEZONE:Europe/London
BEGIN:VTIMEZONE
TZID:Europe/London
BEGIN:STANDARD
TZNAME:GMT
DTSTART:20251026T020000
TZOFFSETFROM:+0100
TZOFFSETTO:+0000
RDATE:20261025T020000
END:STANDARD
BEGIN:DAYLIGHT
TZNAME:BST
DTSTART:20260329T010000
TZOFFSETFROM:+0000
TZOFFSETTO:+0100
RDATE:20270328T010000
END:DAYLIGHT
END:VTIMEZONE
BEGIN:VEVENT
UID:20220114T190000GMT-43593uovLa@https://www.olvestonparishhall.co.uk/
DTSTAMP:20260422T085104Z
CATEGORIES:Public Event
DESCRIPTION:Beginners yoga class to raise money for Prevent Breast Cancer.&
 nbsp\;
DTSTART;TZID=Europe/London:20220114T190000
DTEND;TZID=Europe/London:20220114T201500
SUMMARY:Charity Yoga Class
URL:https://olvestonparishhall.co.uk/index.php/add-new-event/34-public-even
 t/13333-charity-yoga-class
X-ALT-DESC;FMTTYPE=TEXT/HTML:Beginners yoga class to raise money for Preven
 t Breast Cancer.&nbsp\;
END:VEVENT
END:VCALENDAR
